BEGIN:VCALENDAR
VERSION:2.0
PRODID:-//CACHE in Medford - ECPv6.15.18//NONSGML v1.0//EN
CALSCALE:GREGORIAN
METHOD:PUBLISH
X-WR-CALNAME:CACHE in Medford
X-ORIGINAL-URL:https://www.cacheinmedford.org
X-WR-CALDESC:Events for CACHE in Medford
REFRESH-INTERVAL;VALUE=DURATION:PT1H
X-Robots-Tag:noindex
X-PUBLISHED-TTL:PT1H
BEGIN:VTIMEZONE
TZID:America/New_York
BEGIN:DAYLIGHT
TZOFFSETFROM:-0500
TZOFFSETTO:-0400
TZNAME:EDT
DTSTART:20230312T070000
END:DAYLIGHT
BEGIN:STANDARD
TZOFFSETFROM:-0400
TZOFFSETTO:-0500
TZNAME:EST
DTSTART:20231105T060000
END:STANDARD
BEGIN:DAYLIGHT
TZOFFSETFROM:-0500
TZOFFSETTO:-0400
TZNAME:EDT
DTSTART:20240310T070000
END:DAYLIGHT
BEGIN:STANDARD
TZOFFSETFROM:-0400
TZOFFSETTO:-0500
TZNAME:EST
DTSTART:20241103T060000
END:STANDARD
BEGIN:DAYLIGHT
TZOFFSETFROM:-0500
TZOFFSETTO:-0400
TZNAME:EDT
DTSTART:20250309T070000
END:DAYLIGHT
BEGIN:STANDARD
TZOFFSETFROM:-0400
TZOFFSETTO:-0500
TZNAME:EST
DTSTART:20251102T060000
END:STANDARD
END:VTIMEZONE
BEGIN:VEVENT
DTSTART;TZID=America/New_York:20241210T210000
DTEND;TZID=America/New_York:20241210T210000
DTSTAMP:20260422T105921
CREATED:20241202T053525Z
LAST-MODIFIED:20241202T053757Z
UID:35609-1733864400-1733864400@www.cacheinmedford.org
SUMMARY:Tufts Burlesque Troupe: Who's on Aux?
DESCRIPTION:The Tufts University Burlesque Troupe presents the second of two performances of its fall semester show\, Who’s on Aux?\, an ode to artists\, albums\, eras\, and genres of music. Tickets go on sale at noon on Monday\, December 2\, through the Tufts online box office. The Tufts Burlesque Troupe is committed to creating a body-positive and identity-affirming environment for expression through dance.
URL:https://www.cacheinmedford.org/event/tufts-burlesque-troupe-whos-on-aux-12-10/
LOCATION:Cohen Auditorium\, Tufts University\, 40 Talbot Ave.\, Medford\, MA\, 02155\, United States
CATEGORIES:Dance Performances
ORGANIZER;CN="Tufts Burlesque Troupe":MAILTO:burlesquetroupe@gmail.com
GEO:42.4043201;-71.119282
X-APPLE-STRUCTURED-LOCATION;VALUE=URI;X-ADDRESS=Cohen Auditorium Tufts University 40 Talbot Ave. Medford MA 02155 United States;X-APPLE-RADIUS=500;X-TITLE=40 Talbot Ave.:geo:-71.119282,42.4043201
END:VEVENT
END:VCALENDAR