BEGIN:VCALENDAR
VERSION:2.0
PRODID:-//CACHE in Medford - ECPv6.15.18//NONSGML v1.0//EN
CALSCALE:GREGORIAN
METHOD:PUBLISH
X-WR-CALNAME:CACHE in Medford
X-ORIGINAL-URL:https://www.cacheinmedford.org
X-WR-CALDESC:Events for CACHE in Medford
REFRESH-INTERVAL;VALUE=DURATION:PT1H
X-Robots-Tag:noindex
X-PUBLISHED-TTL:PT1H
BEGIN:VTIMEZONE
TZID:America/New_York
BEGIN:DAYLIGHT
TZOFFSETFROM:-0500
TZOFFSETTO:-0400
TZNAME:EDT
DTSTART:20230312T070000
END:DAYLIGHT
BEGIN:STANDARD
TZOFFSETFROM:-0400
TZOFFSETTO:-0500
TZNAME:EST
DTSTART:20231105T060000
END:STANDARD
BEGIN:DAYLIGHT
TZOFFSETFROM:-0500
TZOFFSETTO:-0400
TZNAME:EDT
DTSTART:20240310T070000
END:DAYLIGHT
BEGIN:STANDARD
TZOFFSETFROM:-0400
TZOFFSETTO:-0500
TZNAME:EST
DTSTART:20241103T060000
END:STANDARD
BEGIN:DAYLIGHT
TZOFFSETFROM:-0500
TZOFFSETTO:-0400
TZNAME:EDT
DTSTART:20250309T070000
END:DAYLIGHT
BEGIN:STANDARD
TZOFFSETFROM:-0400
TZOFFSETTO:-0500
TZNAME:EST
DTSTART:20251102T060000
END:STANDARD
END:VTIMEZONE
BEGIN:VEVENT
DTSTART;TZID=America/New_York:20240516T180000
DTEND;TZID=America/New_York:20240516T193000
DTSTAMP:20260423T042345
CREATED:20240505T233713Z
LAST-MODIFIED:20240505T234023Z
UID:10038776-1715882400-1715887800@www.cacheinmedford.org
SUMMARY:Roberts Elementary School Arts and Music Celebration
DESCRIPTION:Roberts Elementary School invites the community to its special showcase of student talent in art and music. \n 
URL:https://www.cacheinmedford.org/event/roberts-elementary-school-arts-and-music-celebration/
LOCATION:Roberts Elementary School\, 35 Court St.\, Medford\, 02155\, United States
CATEGORIES:Exhibits
GEO:42.4217831;-71.0993041
X-APPLE-STRUCTURED-LOCATION;VALUE=URI;X-ADDRESS=Roberts Elementary School 35 Court St. Medford 02155 United States;X-APPLE-RADIUS=500;X-TITLE=35 Court St.:geo:-71.0993041,42.4217831
END:VEVENT
END:VCALENDAR