BEGIN:VCALENDAR
VERSION:2.0
PRODID:-//CACHE in Medford - ECPv6.15.18//NONSGML v1.0//EN
CALSCALE:GREGORIAN
METHOD:PUBLISH
X-WR-CALNAME:CACHE in Medford
X-ORIGINAL-URL:https://www.cacheinmedford.org
X-WR-CALDESC:Events for CACHE in Medford
REFRESH-INTERVAL;VALUE=DURATION:PT1H
X-Robots-Tag:noindex
X-PUBLISHED-TTL:PT1H
BEGIN:VTIMEZONE
TZID:America/New_York
BEGIN:DAYLIGHT
TZOFFSETFROM:-0500
TZOFFSETTO:-0400
TZNAME:EDT
DTSTART:20240310T070000
END:DAYLIGHT
BEGIN:STANDARD
TZOFFSETFROM:-0400
TZOFFSETTO:-0500
TZNAME:EST
DTSTART:20241103T060000
END:STANDARD
BEGIN:DAYLIGHT
TZOFFSETFROM:-0500
TZOFFSETTO:-0400
TZNAME:EDT
DTSTART:20250309T070000
END:DAYLIGHT
BEGIN:STANDARD
TZOFFSETFROM:-0400
TZOFFSETTO:-0500
TZNAME:EST
DTSTART:20251102T060000
END:STANDARD
BEGIN:DAYLIGHT
TZOFFSETFROM:-0500
TZOFFSETTO:-0400
TZNAME:EDT
DTSTART:20260308T070000
END:DAYLIGHT
BEGIN:STANDARD
TZOFFSETFROM:-0400
TZOFFSETTO:-0500
TZNAME:EST
DTSTART:20261101T060000
END:STANDARD
BEGIN:DAYLIGHT
TZOFFSETFROM:-0500
TZOFFSETTO:-0400
TZNAME:EDT
DTSTART:20270314T070000
END:DAYLIGHT
BEGIN:STANDARD
TZOFFSETFROM:-0400
TZOFFSETTO:-0500
TZNAME:EST
DTSTART:20271107T060000
END:STANDARD
END:VTIMEZONE
BEGIN:VEVENT
DTSTART;TZID=America/New_York:20260412T150000
DTEND;TZID=America/New_York:20260412T170000
DTSTAMP:20260420T121148
CREATED:20260401T224405Z
LAST-MODIFIED:20260401T224405Z
UID:10044708-1776006000-1776013200@www.cacheinmedford.org
SUMMARY:Sunday Concert Series: Tufts Choruses
DESCRIPTION:Hear the Tufts Concert Choir and Chamber Singers perform their spring concert under the direction of Jamie Kirsch as part of Tufts’ Sunday Concert Series. This free campus performance is presented by the Department of Music.
URL:https://www.cacheinmedford.org/event/sunday-concert-series-tufts-choruses/
LOCATION:Granoff Music Center\, Tufts University\, 20 Talbot Ave.\, Medford\, MA\, 02155\, United States
CATEGORIES:Live Music
GEO:42.4044864;-71.1182951
X-APPLE-STRUCTURED-LOCATION;VALUE=URI;X-ADDRESS=Granoff Music Center Tufts University 20 Talbot Ave. Medford MA 02155 United States;X-APPLE-RADIUS=500;X-TITLE=20 Talbot Ave.:geo:-71.1182951,42.4044864
END:VEVENT
BEGIN:VEVENT
DTSTART;TZID=America/New_York:20260406T200000
DTEND;TZID=America/New_York:20260406T220000
DTSTAMP:20260420T121148
CREATED:20260401T224548Z
LAST-MODIFIED:20260401T224548Z
UID:10044709-1775505600-1775512800@www.cacheinmedford.org
SUMMARY:Tishler Competition Finals
DESCRIPTION:Tufts students compete for the Elizabeth Verveer Tishler Prize in Music Performance.
URL:https://www.cacheinmedford.org/event/tishler-competition-finals/
LOCATION:Granoff Music Center\, Tufts University\, 20 Talbot Ave.\, Medford\, MA\, 02155\, United States
CATEGORIES:Live Music
GEO:42.4044864;-71.1182951
X-APPLE-STRUCTURED-LOCATION;VALUE=URI;X-ADDRESS=Granoff Music Center Tufts University 20 Talbot Ave. Medford MA 02155 United States;X-APPLE-RADIUS=500;X-TITLE=20 Talbot Ave.:geo:-71.1182951,42.4044864
END:VEVENT
BEGIN:VEVENT
DTSTART;TZID=America/New_York:20260326T120000
DTEND;TZID=America/New_York:20260326T133000
DTSTAMP:20260420T121148
CREATED:20260315T220126Z
LAST-MODIFIED:20260315T220126Z
UID:10044611-1774526400-1774531800@www.cacheinmedford.org
SUMMARY:The Mahler Sessions: Thomas Hampson (Baritone)
DESCRIPTION:The American baritone Thomas Hampson—one of the most distinguished Mahler singers of our time—joins Tufts students for the next installment of the Mahler Sessions\, a new series of public conversations about the art of interpretation\, featuring some of the leading classical voices of today and tomorrow. \nAbout the Mahler Sessions: \nThe composer Gustav Mahler famously declared that a symphony should be like the world: it must contain everything. But before a musical world can be heard\, it must be performed — and interpreted. How do musicians approach the task of interpretation today\, and how should we as listeners? Please join us for The Mahler Sessions\, an exciting spring series of student-led conversations with leading classical musicians of today and tomorrow\, all of them appearing for the first time on Tufts campus. \n\nDavid Robertson (and Mahler’s bounty) Former Music Director\, St. Louis Symphony | February 5 at Noon\nEsa-Pekka Salonen (and Mahler’s modernity) Composer and Conductor | February 11 at 6pm\nAnna Handler (and Mahler’s beginnings) Assistant Conductor\, Boston Symphony Orchestra | February 17 at Noon [Rescheduled from January 27]\nThomas Hampson (and Mahler’s voice) Baritone\, distinguished Mahler interpreter | March 26 at Noon\nAndris Nelsons (and Mahler’s posterity) Music Director\, Boston Symphony Orchestra | April 7 at Noon\n\nFree and open to the community. Each program will open and close with brief musical performances by members of the Tufts community.
URL:https://www.cacheinmedford.org/event/the-mahler-sessions-thomas-hampson-baritone/
LOCATION:Granoff Music Center\, Tufts University\, 20 Talbot Ave.\, Medford\, MA\, 02155\, United States
CATEGORIES:Live Music
GEO:42.4044864;-71.1182951
X-APPLE-STRUCTURED-LOCATION;VALUE=URI;X-ADDRESS=Granoff Music Center Tufts University 20 Talbot Ave. Medford MA 02155 United States;X-APPLE-RADIUS=500;X-TITLE=20 Talbot Ave.:geo:-71.1182951,42.4044864
END:VEVENT
BEGIN:VEVENT
DTSTART;TZID=America/New_York:20260211T180000
DTEND;TZID=America/New_York:20260211T210000
DTSTAMP:20260420T121148
CREATED:20260126T025258Z
LAST-MODIFIED:20260126T025258Z
UID:10044502-1770832800-1770843600@www.cacheinmedford.org
SUMMARY:The Mahler Sessions: Esa-Pekka Salonen (Former Music Director\, LA Philharmonic & San Francisco Symphony)
DESCRIPTION:The visionary conductor Esa-Pekka Salonen—former music director of Los Angeles Philharmonic and the San Francisco Symphony—joins Tufts students for the next installment of the Mahler Sessions\, a new series of public conversations about the art of interpretation\, featuring some of the leading classical voices of today and tomorrow. \nAbout the Mahler Sessions: \nThe composer Gustav Mahler famously declared that a symphony should be like the world: it must contain everything. But before a musical world can be heard\, it must be performed — and interpreted. How do musicians approach the task of interpretation today\, and how should we as listeners? Please join us for The Mahler Sessions\, an exciting spring series of student-led conversations with leading classical musicians of today and tomorrow\, all of them appearing for the first time on Tufts campus. \n\nCANCELLED Anna Handler (and Mahler’s beginnings) Assistant Conductor\, Boston Symphony Orchestra | January 27 at Noon\nDavid Robertson (and Mahler’s bounty) Former Music Director\, St. Louis Symphony | February 5 at Noon\nEsa-Pekka Salonen (and Mahler’s modernity) Former Music Director\,  LA Philharmonic and San Francisco Symphony | February 11 at 6pm\nThomas Hampson (and Mahler’s voice) Baritone\, distinguished interpreter of Mahler’s vocal music | March 26 at Noon\nAndris Nelsons (and Mahler’s posterity) Music Director\, Boston Symphony Orchestra | April 7 at Noon\n\nFree and open to the community. Each conversation will be introduced with a brief musical performance by Julia Soojin Cavallaro (mezzo-soprano) and Thomas Stumpf (piano). \nSponsored by the Tufts Department of Music and the Office of the President.
URL:https://www.cacheinmedford.org/event/the-mahler-sessions-esa-pekka-salonen-former-music-director-la-philharmonic-san-francisco-symphony/
LOCATION:Granoff Music Center\, Tufts University\, 20 Talbot Ave.\, Medford\, MA\, 02155\, United States
CATEGORIES:Live Music
GEO:42.4044864;-71.1182951
X-APPLE-STRUCTURED-LOCATION;VALUE=URI;X-ADDRESS=Granoff Music Center Tufts University 20 Talbot Ave. Medford MA 02155 United States;X-APPLE-RADIUS=500;X-TITLE=20 Talbot Ave.:geo:-71.1182951,42.4044864
END:VEVENT
BEGIN:VEVENT
DTSTART;TZID=America/New_York:20260205T120000
DTEND;TZID=America/New_York:20260205T140000
DTSTAMP:20260420T121148
CREATED:20260126T025051Z
LAST-MODIFIED:20260126T025051Z
UID:10044501-1770292800-1770300000@www.cacheinmedford.org
SUMMARY:The Mahler Sessions: David Robertson (Former Music Director\, St. Louis Symphony)
DESCRIPTION:The distinguished conductor David Robertson—former music director of the St. Louis Symphony Orchestra—joins Tufts students for the next installment of the Mahler Sessions\, a new series of public conversations about the art of interpretation\, featuring some of the leading classical voices of today and tomorrow. \nAbout the Mahler Sessions: \nThe composer Gustav Mahler famously declared that a symphony should be like the world: it must contain everything. But before a musical world can be heard\, it must be performed — and interpreted. How do musicians approach the task of interpretation today\, and how should we as listeners? Please join us for The Mahler Sessions\, an exciting spring series of student-led conversations with leading classical musicians of today and tomorrow\, all of them appearing for the first time on Tufts campus. \n\nCANCELLED Anna Handler (and Mahler’s beginnings) Assistant Conductor\, Boston Symphony Orchestra | January 27 at Noon\nDavid Robertson (and Mahler’s bounty) Former Music Director\, St. Louis Symphony | February 5 at Noon\nEsa-Pekka Salonen (and Mahler’s modernity) Former Music Director\,  LA Philharmonic and San Francisco Symphony | February 11 at 6pm\nThomas Hampson (and Mahler’s voice) Baritone\, distinguished interpreter of Mahler’s vocal music | March 26 at Noon\nAndris Nelsons (and Mahler’s posterity) Music Director\, Boston Symphony Orchestra | April 7 at Noon\n\nFree and open to the community. Each conversation will be introduced with a brief musical performance by Julia Soojin Cavallaro (mezzo-soprano) and Thomas Stumpf (piano). \nSponsored by the Tufts Department of Music and the Office of the President.
URL:https://www.cacheinmedford.org/event/the-mahler-sessions-david-robertson-former-music-director-st-louis-symphony/
LOCATION:Granoff Music Center\, Tufts University\, 20 Talbot Ave.\, Medford\, MA\, 02155\, United States
CATEGORIES:Live Music
GEO:42.4044864;-71.1182951
X-APPLE-STRUCTURED-LOCATION;VALUE=URI;X-ADDRESS=Granoff Music Center Tufts University 20 Talbot Ave. Medford MA 02155 United States;X-APPLE-RADIUS=500;X-TITLE=20 Talbot Ave.:geo:-71.1182951,42.4044864
END:VEVENT
BEGIN:VEVENT
DTSTART;TZID=America/New_York:20251208T200000
DTEND;TZID=America/New_York:20251208T220000
DTSTAMP:20260420T121148
CREATED:20251203T145540Z
LAST-MODIFIED:20251203T145540Z
UID:10043798-1765224000-1765231200@www.cacheinmedford.org
SUMMARY:Tufts Arab Music Ensemble
DESCRIPTION:Tufts Arab Music Ensemble performs a selection of instrumental and vocal music that represents a wide range of genres within the Arab world. Tareq Rantisi\, director
URL:https://www.cacheinmedford.org/event/tufts-arab-music-ensemble/
LOCATION:Granoff Music Center\, Tufts University\, 20 Talbot Ave.\, Medford\, MA\, 02155\, United States
CATEGORIES:Live Music
GEO:42.4044864;-71.1182951
X-APPLE-STRUCTURED-LOCATION;VALUE=URI;X-ADDRESS=Granoff Music Center Tufts University 20 Talbot Ave. Medford MA 02155 United States;X-APPLE-RADIUS=500;X-TITLE=20 Talbot Ave.:geo:-71.1182951,42.4044864
END:VEVENT
BEGIN:VEVENT
DTSTART;TZID=America/New_York:20251205T200000
DTEND;TZID=America/New_York:20251205T210000
DTSTAMP:20260420T121148
CREATED:20251203T144905Z
LAST-MODIFIED:20251203T144905Z
UID:10043794-1764964800-1764968400@www.cacheinmedford.org
SUMMARY:Kiniwe
DESCRIPTION:Attah Poku leads Kiniwe in a performance of music and dance from Ghana featuring Mohammed Alidu\, Agbekor Drum and Dance Society\, and Worcester Polytechnic Institute African Drumming Ensemble.
URL:https://www.cacheinmedford.org/event/kiniwe/
LOCATION:Granoff Music Center\, Tufts University\, 20 Talbot Ave.\, Medford\, MA\, 02155\, United States
CATEGORIES:Dance Performances,Live Music
GEO:42.4044864;-71.1182951
X-APPLE-STRUCTURED-LOCATION;VALUE=URI;X-ADDRESS=Granoff Music Center Tufts University 20 Talbot Ave. Medford MA 02155 United States;X-APPLE-RADIUS=500;X-TITLE=20 Talbot Ave.:geo:-71.1182951,42.4044864
END:VEVENT
BEGIN:VEVENT
DTSTART;TZID=America/New_York:20251024T120000
DTEND;TZID=America/New_York:20251024T133000
DTSTAMP:20260420T121148
CREATED:20251021T132703Z
LAST-MODIFIED:20251021T132703Z
UID:10043535-1761307200-1761312600@www.cacheinmedford.org
SUMMARY:Tufts Composers: New at Noon #1 -  Sonic Geo-Identification
DESCRIPTION:Tufts Composers investigate their own geographic lineages and influences—sometimes difficult to detect—in new chamber works informed by unique personal experiences.
URL:https://www.cacheinmedford.org/event/tufts-composers-new-at-noon-1-sonic-geo-identification/
LOCATION:Granoff Music Center\, Tufts University\, 20 Talbot Ave.\, Medford\, MA\, 02155\, United States
GEO:42.4044864;-71.1182951
X-APPLE-STRUCTURED-LOCATION;VALUE=URI;X-ADDRESS=Granoff Music Center Tufts University 20 Talbot Ave. Medford MA 02155 United States;X-APPLE-RADIUS=500;X-TITLE=20 Talbot Ave.:geo:-71.1182951,42.4044864
END:VEVENT
BEGIN:VEVENT
DTSTART;TZID=America/New_York:20251005T150000
DTEND;TZID=America/New_York:20251005T170000
DTSTAMP:20260420T121148
CREATED:20250923T154741Z
LAST-MODIFIED:20250923T154741Z
UID:10043434-1759676400-1759683600@www.cacheinmedford.org
SUMMARY:Sunday Concert Series: A Celebration with Emmanuel Feldman and Friends
DESCRIPTION:Cellist Emmanuel Feldman and guests perform music by Feldman\, Gershwin\, Mozart\, and Piazzolla.
URL:https://www.cacheinmedford.org/event/sunday-concert-series-a-celebration-with-emmanuel-feldman-and-friends/
LOCATION:Granoff Music Center\, Tufts University\, 20 Talbot Ave.\, Medford\, MA\, 02155\, United States
CATEGORIES:Live Music
GEO:42.4044864;-71.1182951
X-APPLE-STRUCTURED-LOCATION;VALUE=URI;X-ADDRESS=Granoff Music Center Tufts University 20 Talbot Ave. Medford MA 02155 United States;X-APPLE-RADIUS=500;X-TITLE=20 Talbot Ave.:geo:-71.1182951,42.4044864
END:VEVENT
BEGIN:VEVENT
DTSTART;TZID=America/New_York:20251005T130000
DTEND;TZID=America/New_York:20251005T210000
DTSTAMP:20260420T121148
CREATED:20250923T154627Z
LAST-MODIFIED:20250923T154627Z
UID:10043433-1759669200-1759698000@www.cacheinmedford.org
SUMMARY:Boston Festival of New Jewish Music
DESCRIPTION:It’s Opening Night at the Boston Festival of New Jewish Music! \nJoin all your friends and neighbors for an epic day of klezmer featuring three genre-defining ensembles: Veretski Pass\, Jake Shulman-Ment & Abigale Reisman’s Two Strings\, and Adrianne Greenbaum’s Fleytmusik. \nSchedule \n1:00 – 4:30 pm – Workshops with the artists at Tufts \nLearn about klezmer music from the very best! We’ll explore the intricacies of performing\, interpreting\, understanding\, and dancing to klezmer with Abigale\, Adrianne\, Jake\, and the musicians of Veretski Pass. Workshops are perfect for students\, professional musicians who want to learn more about klezmer music\, and interested members of the public. Detailed workshop descriptions coming soon. \nCo-hosted by the Tufts University Department of Music \nGranoff Music Center\, 20 Talbot Avenue\, Medford\, MA 02155 \n7:00 pm – Opening Night concert at the MCA \nCD release extravaganza for Jake Shulman-Ment & Abigale Reisman’s Two Strings and Adrianne Greenbaum’s Di Klezmer Flute Nisht Fargesn\, featuring special guests Veretski Pass and Jim Guttmann of the Klezmer Conservatory Band. Note that this portion will take place at the Multicultural Arts Center\, located at 41 Second Street\, Cambridge\, MA 02141.
URL:https://www.cacheinmedford.org/event/boston-festival-of-new-jewish-music/
LOCATION:Granoff Music Center\, Tufts University\, 20 Talbot Ave.\, Medford\, MA\, 02155\, United States
CATEGORIES:Festivals,Live Music
GEO:42.4044864;-71.1182951
X-APPLE-STRUCTURED-LOCATION;VALUE=URI;X-ADDRESS=Granoff Music Center Tufts University 20 Talbot Ave. Medford MA 02155 United States;X-APPLE-RADIUS=500;X-TITLE=20 Talbot Ave.:geo:-71.1182951,42.4044864
END:VEVENT
BEGIN:VEVENT
DTSTART;TZID=America/New_York:20250928T150000
DTEND;TZID=America/New_York:20250928T170000
DTSTAMP:20260420T121148
CREATED:20250921T170006Z
LAST-MODIFIED:20250921T170026Z
UID:10043423-1759071600-1759078800@www.cacheinmedford.org
SUMMARY:Tufts Sunday Concert Series: Anticipation
DESCRIPTION:Music by Jacob Kremberg\, Johann Schenk\, and J.P. Rameau with Pamela Dellal\, voice\, Catherine Liddell\, Baroque lute and theorbo\, Frances Conover Fitch\, harpsichord\, and Jane Hershey\, viola da gamba.
URL:https://www.cacheinmedford.org/event/sunday-concert-series-anticipation/
LOCATION:Granoff Music Center\, Tufts University\, 20 Talbot Ave.\, Medford\, MA\, 02155\, United States
CATEGORIES:Live Music
GEO:42.4044864;-71.1182951
X-APPLE-STRUCTURED-LOCATION;VALUE=URI;X-ADDRESS=Granoff Music Center Tufts University 20 Talbot Ave. Medford MA 02155 United States;X-APPLE-RADIUS=500;X-TITLE=20 Talbot Ave.:geo:-71.1182951,42.4044864
END:VEVENT
BEGIN:VEVENT
DTSTART;TZID=America/New_York:20250921T150000
DTEND;TZID=America/New_York:20250921T170000
DTSTAMP:20260420T121148
CREATED:20250921T165900Z
LAST-MODIFIED:20250921T165900Z
UID:10043422-1758466800-1758474000@www.cacheinmedford.org
SUMMARY:Sunday Concert Series: OPUS
DESCRIPTION:Graduate student Jimmy Wang hosts a concert in memory of Ryuichi Sakamoto\, as inspiration for his thesis on musical nonviolence.
URL:https://www.cacheinmedford.org/event/sunday-concert-series-opus/
LOCATION:Granoff Music Center\, Tufts University\, 20 Talbot Ave.\, Medford\, MA\, 02155\, United States
CATEGORIES:Live Music
GEO:42.4044864;-71.1182951
X-APPLE-STRUCTURED-LOCATION;VALUE=URI;X-ADDRESS=Granoff Music Center Tufts University 20 Talbot Ave. Medford MA 02155 United States;X-APPLE-RADIUS=500;X-TITLE=20 Talbot Ave.:geo:-71.1182951,42.4044864
END:VEVENT
END:VCALENDAR