BEGIN:VCALENDAR
VERSION:2.0
PRODID:-//CACHE in Medford - ECPv6.15.18//NONSGML v1.0//EN
CALSCALE:GREGORIAN
METHOD:PUBLISH
X-WR-CALNAME:CACHE in Medford
X-ORIGINAL-URL:https://www.cacheinmedford.org
X-WR-CALDESC:Events for CACHE in Medford
REFRESH-INTERVAL;VALUE=DURATION:PT1H
X-Robots-Tag:noindex
X-PUBLISHED-TTL:PT1H
BEGIN:VTIMEZONE
TZID:America/New_York
BEGIN:DAYLIGHT
TZOFFSETFROM:-0500
TZOFFSETTO:-0400
TZNAME:EDT
DTSTART:20220313T070000
END:DAYLIGHT
BEGIN:STANDARD
TZOFFSETFROM:-0400
TZOFFSETTO:-0500
TZNAME:EST
DTSTART:20221106T060000
END:STANDARD
BEGIN:DAYLIGHT
TZOFFSETFROM:-0500
TZOFFSETTO:-0400
TZNAME:EDT
DTSTART:20230312T070000
END:DAYLIGHT
BEGIN:STANDARD
TZOFFSETFROM:-0400
TZOFFSETTO:-0500
TZNAME:EST
DTSTART:20231105T060000
END:STANDARD
BEGIN:DAYLIGHT
TZOFFSETFROM:-0500
TZOFFSETTO:-0400
TZNAME:EDT
DTSTART:20240310T070000
END:DAYLIGHT
BEGIN:STANDARD
TZOFFSETFROM:-0400
TZOFFSETTO:-0500
TZNAME:EST
DTSTART:20241103T060000
END:STANDARD
END:VTIMEZONE
BEGIN:VEVENT
DTSTART;TZID=America/New_York:20230715T090000
DTEND;TZID=America/New_York:20230715T110000
DTSTAMP:20260421T191033
CREATED:20230707T194705Z
LAST-MODIFIED:20230707T195140Z
UID:10037431-1689411600-1689418800@www.cacheinmedford.org
SUMMARY:Exhibition Closing: IAmMigration
DESCRIPTION:Today is the final day to view The Gallery at Sanctuary’s installation\, “IAmMigration: A Lived Experience.” The exhibit features a wide-ranging collection of visual art\, fabric art\, poetry\, collage\, and music from local artists who have lived the experience of migrating to the United States. Contributors include Sylvestre Telfort and Bitho Faustin\, two visual artists from Haiti; Thaer Abdallah\, a Palestinian artist from Iraq; and Anna Thai\, an embroidery artist from Vietnam. Other artists come from China\, Guatemala\, Iran\, Brazil\, Ukraine\, El Salvador and beyond. \n 
URL:https://www.cacheinmedford.org/event/exhibition-closing-iammigration/
LOCATION:The Gallery at Sanctuary\, 458 High St.\, Medford\, MA\, 02155
CATEGORIES:Exhibits,Other
GEO:42.4209722;-71.1317964
X-APPLE-STRUCTURED-LOCATION;VALUE=URI;X-ADDRESS=The Gallery at Sanctuary 458 High St. Medford MA 02155;X-APPLE-RADIUS=500;X-TITLE=458 High St.:geo:-71.1317964,42.4209722
END:VEVENT
BEGIN:VEVENT
DTSTART;TZID=America/New_York:20230604T140000
DTEND;TZID=America/New_York:20230604T160000
DTSTAMP:20260421T191033
CREATED:20230505T013911Z
LAST-MODIFIED:20230601T024549Z
UID:10037190-1685887200-1685894400@www.cacheinmedford.org
SUMMARY:IAmMigration Reception
DESCRIPTION:The Gallery at Sanctuary invites you to an open house\, performances and reception celebrating its current installation\, “IAmMigration: A Lived Experience.” The installation features a wide-ranging collection of visual art\, fabric art\, poetry\, collage\, and music from local artists who have lived the experience of migrating to the United States. \nContributors include Sylvestre Telfort and Bitho Faustin\, two visual artists from Haiti; Thaer Abdallah\, a Palestinian artist from Iraq; and Anna Thai\, an embroidery artist from Vietnam. Other artists come from China\, Guatemala\, Iran\, Brazil\, Ukraine\, El Salvador and beyond. One of the most striking pieces is Faustin’s painting\, “Boat People\,” depicting in rich blues and yellows the desperate crossing by boat to Miami. Hear from the artists directly about how their art expresses their experience of immigration\, and enjoy original music\, poetry\, food\, community\, and community connection in Sanctuary’s outdoor reception space. \nThe installation will be on view through July 15.
URL:https://www.cacheinmedford.org/event/iammigration-reception/
LOCATION:The Gallery at Sanctuary\, 458 High St.\, Medford\, MA\, 02155
CATEGORIES:Exhibits,Other
GEO:42.4209722;-71.1317964
X-APPLE-STRUCTURED-LOCATION;VALUE=URI;X-ADDRESS=The Gallery at Sanctuary 458 High St. Medford MA 02155;X-APPLE-RADIUS=500;X-TITLE=458 High St.:geo:-71.1317964,42.4209722
END:VEVENT
END:VCALENDAR