BEGIN:VCALENDAR
VERSION:2.0
PRODID:-//CACHE in Medford - ECPv6.15.18//NONSGML v1.0//EN
CALSCALE:GREGORIAN
METHOD:PUBLISH
X-WR-CALNAME:CACHE in Medford
X-ORIGINAL-URL:https://www.cacheinmedford.org
X-WR-CALDESC:Events for CACHE in Medford
REFRESH-INTERVAL;VALUE=DURATION:PT1H
X-Robots-Tag:noindex
X-PUBLISHED-TTL:PT1H
BEGIN:VTIMEZONE
TZID:UTC
BEGIN:STANDARD
TZOFFSETFROM:+0000
TZOFFSETTO:+0000
TZNAME:UTC
DTSTART:20220101T000000
END:STANDARD
END:VTIMEZONE
BEGIN:VEVENT
DTSTART;TZID=UTC:20250418T210000
DTEND;TZID=UTC:20250418T210000
DTSTAMP:20260422T095044
CREATED:20250331T043232Z
LAST-MODIFIED:20250411T200706Z
UID:10036205-1745010000-1745010000@www.cacheinmedford.org
SUMMARY:Sarabande Dance Ensemble: Embrace
DESCRIPTION:Sarabande Dance Ensemble at Tufts University presents its spring semester show\, “Embrace.” Sarabande is a student-run dance group that focuses on ballet\, contemporary\, and jazz. Members choreograph their own dances and produce their own shows. “Embrace” will feature student-choreographed pieces from in a range of contemporary and jazz styles. Free tickets may be obtained through the Tufts online ticket office. \n  \n 
URL:https://www.cacheinmedford.org/event/sarabande-dance-ensemble-embrace/
LOCATION:Cohen Auditorium\, Tufts University\, 40 Talbot Ave.\, Medford\, MA\, 02155\, United States
CATEGORIES:Dance Performances
ORGANIZER;CN="Sarabande Dance Ensemble":MAILTO:tuftssarabandedance@gmail.com
GEO:42.4043201;-71.119282
X-APPLE-STRUCTURED-LOCATION;VALUE=URI;X-ADDRESS=Cohen Auditorium Tufts University 40 Talbot Ave. Medford MA 02155 United States;X-APPLE-RADIUS=500;X-TITLE=40 Talbot Ave.:geo:-71.119282,42.4043201
END:VEVENT
BEGIN:VEVENT
DTSTART;TZID=UTC:20241116T220000
DTEND;TZID=UTC:20241116T220000
DTSTAMP:20260422T095044
CREATED:20241111T065206Z
LAST-MODIFIED:20241111T065257Z
UID:10035596-1731794400-1731794400@www.cacheinmedford.org
SUMMARY:Sarabande Dance Ensemble: Resonance
DESCRIPTION:Sarabande Dance Ensemble of Tufts University presents the second performance of its fall semester show\, “Resonance.” Sarabande is a student-run dance group that focuses on ballet\, contemporary\, and jazz. Members choreograph their own dances and produce their own shows; this show will feature choreographed pieces from this semester in a range of contemporary and jazz styles. Sarabande’s mission is to bring dance to the Tufts campus in a way that inspires audiences and allows them to appreciate the art form that Sarabande members are so passionate about. Free tickets may be obtained through the Tufts Tickets website. \n 
URL:https://www.cacheinmedford.org/event/sarabande-dance-ensemble-resonance-2/
LOCATION:Cohen Auditorium\, Tufts University\, 40 Talbot Ave.\, Medford\, MA\, 02155\, United States
CATEGORIES:Dance Performances
ORGANIZER;CN="Sarabande Dance Ensemble":MAILTO:tuftssarabandedance@gmail.com
GEO:42.4043201;-71.119282
X-APPLE-STRUCTURED-LOCATION;VALUE=URI;X-ADDRESS=Cohen Auditorium Tufts University 40 Talbot Ave. Medford MA 02155 United States;X-APPLE-RADIUS=500;X-TITLE=40 Talbot Ave.:geo:-71.119282,42.4043201
END:VEVENT
BEGIN:VEVENT
DTSTART;TZID=UTC:20241114T210000
DTEND;TZID=UTC:20241114T210000
DTSTAMP:20260422T095044
CREATED:20241111T064712Z
LAST-MODIFIED:20241111T065045Z
UID:10035594-1731618000-1731618000@www.cacheinmedford.org
SUMMARY:Sarabande Dance Ensemble: Resonance
DESCRIPTION:Sarabande Dance Ensemble of Tufts University presents its fall semester show\, “Resonance.” Sarabande is a student-run dance group that focuses on ballet\, contemporary\, and jazz. Members choreograph their own dances and produce their own shows; this show will feature choreographed pieces from this semester in a range of contemporary and jazz styles. Sarabande’s mission is to bring dance to the Tufts campus in a way that inspires audiences and allows them to appreciate the art form that Sarabande members are so passionate about. Free tickets may be obtained through the Tufts Tickets website. A second performance will take place at 10 p.m. on Saturday\, November 16\, also at Cohen Auditorium. \n 
URL:https://www.cacheinmedford.org/event/sarabande-dance-ensemble-resonance/
LOCATION:Cohen Auditorium\, Tufts University\, 40 Talbot Ave.\, Medford\, MA\, 02155\, United States
CATEGORIES:Dance Performances
ORGANIZER;CN="Sarabande Dance Ensemble":MAILTO:tuftssarabandedance@gmail.com
GEO:42.4043201;-71.119282
X-APPLE-STRUCTURED-LOCATION;VALUE=URI;X-ADDRESS=Cohen Auditorium Tufts University 40 Talbot Ave. Medford MA 02155 United States;X-APPLE-RADIUS=500;X-TITLE=40 Talbot Ave.:geo:-71.119282,42.4043201
END:VEVENT
BEGIN:VEVENT
DTSTART;TZID=UTC:20240406T200000
DTEND;TZID=UTC:20240406T200000
DTSTAMP:20260422T095044
CREATED:20240331T134011Z
LAST-MODIFIED:20240401T041539Z
UID:10034622-1712433600-1712433600@www.cacheinmedford.org
SUMMARY:Sarabande Dance Ensemble: Runaway
DESCRIPTION:Sarabande Dance Ensemble of Tufts University presents the second of two performances of its spring semester show\, “Runaway.” Sarabande is a student-run dance group that focuses on ballet\, contemporary\, and jazz. Members choreograph their own dances and produce their own shows. “Runaway” will feature pieces in jazz and contemporary styles with a bunch of high-energy guest performers. Free tickets may be obtained through the Tufts Tickets website. \n 
URL:https://www.cacheinmedford.org/event/sarabande-dance-ensemble-4-6-24/
LOCATION:Cohen Auditorium\, Tufts University\, 40 Talbot Ave.\, Medford\, MA\, 02155\, United States
CATEGORIES:Dance Performances
ORGANIZER;CN="Sarabande Dance Ensemble":MAILTO:tuftssarabandedance@gmail.com
GEO:42.4043201;-71.119282
X-APPLE-STRUCTURED-LOCATION;VALUE=URI;X-ADDRESS=Cohen Auditorium Tufts University 40 Talbot Ave. Medford MA 02155 United States;X-APPLE-RADIUS=500;X-TITLE=40 Talbot Ave.:geo:-71.119282,42.4043201
END:VEVENT
BEGIN:VEVENT
DTSTART;TZID=UTC:20240404T210000
DTEND;TZID=UTC:20240404T210000
DTSTAMP:20260422T095044
CREATED:20240331T133650Z
LAST-MODIFIED:20240401T041339Z
UID:10034621-1712264400-1712264400@www.cacheinmedford.org
SUMMARY:Sarabande Dance Ensemble: Runaway
DESCRIPTION:Sarabande Dance Ensemble of Tufts University presents the first of two performances of its spring semester show\, “Runaway.” Sarabande is a student-run dance group that focuses on ballet\, contemporary\, and jazz. Members choreograph their own dances and produce their own shows. “Runaway” will feature pieces in jazz and contemporary styles with a bunch of high-energy guest performers. Free tickets may be obtained through the Tufts Tickets website. A second performance will take place at 8 p.m. on Saturday\, April 6\, also at Cohen Auditorium. \n 
URL:https://www.cacheinmedford.org/event/sarabande-dance-ensemble-4-4-24/
LOCATION:Cohen Auditorium\, Tufts University\, 40 Talbot Ave.\, Medford\, MA\, 02155\, United States
CATEGORIES:Dance Performances
ORGANIZER;CN="Sarabande Dance Ensemble":MAILTO:tuftssarabandedance@gmail.com
GEO:42.4043201;-71.119282
X-APPLE-STRUCTURED-LOCATION;VALUE=URI;X-ADDRESS=Cohen Auditorium Tufts University 40 Talbot Ave. Medford MA 02155 United States;X-APPLE-RADIUS=500;X-TITLE=40 Talbot Ave.:geo:-71.119282,42.4043201
END:VEVENT
BEGIN:VEVENT
DTSTART;TZID=UTC:20231111T200000
DTEND;TZID=UTC:20231111T200000
DTSTAMP:20260422T095044
CREATED:20231108T220418Z
LAST-MODIFIED:20231108T220531Z
UID:10037953-1699732800-1699732800@www.cacheinmedford.org
SUMMARY:Sarabande Dance Ensemble: Like Second Nature
DESCRIPTION:Sarabande Dance Ensemble of Tufts University presents the second performance of its fall semester show\, “Like Second Nature.” Sarabande is a student-run dance group that focuses on ballet\, contemporary\, and jazz. Members choreograph their own dances and produce their own shows. Its mission is to bring dance to the Tufts campus in a way that inspires audiences and allows them to appreciate the art form that Sarabande members are so passionate about. \nFree tickets may be obtained through the Tufts Tickets website. \n 
URL:https://www.cacheinmedford.org/event/sarabande-dance-ensemble-like-second-nature-11-11/
LOCATION:Cohen Auditorium\, Tufts University\, 40 Talbot Ave.\, Medford\, MA\, 02155\, United States
CATEGORIES:Dance Performances
ORGANIZER;CN="Sarabande Dance Ensemble":MAILTO:tuftssarabandedance@gmail.com
GEO:42.4043201;-71.119282
X-APPLE-STRUCTURED-LOCATION;VALUE=URI;X-ADDRESS=Cohen Auditorium Tufts University 40 Talbot Ave. Medford MA 02155 United States;X-APPLE-RADIUS=500;X-TITLE=40 Talbot Ave.:geo:-71.119282,42.4043201
END:VEVENT
BEGIN:VEVENT
DTSTART;TZID=UTC:20231109T210000
DTEND;TZID=UTC:20231109T210000
DTSTAMP:20260422T095044
CREATED:20231108T215826Z
LAST-MODIFIED:20231108T220406Z
UID:10037952-1699563600-1699563600@www.cacheinmedford.org
SUMMARY:Sarabande Dance Ensemble: Like Second Nature
DESCRIPTION:Sarabande Dance Ensemble of Tufts University presents its fall semester show\, “Like Second Nature.” Sarabande is a student-run dance group that focuses on ballet\, contemporary\, and jazz. Members choreograph their own dances and produce their own shows. Its mission is to bring dance to the Tufts campus in a way that inspires audiences and allows them to appreciate the art form that Sarabande members are so passionate about. \nFree tickets may be obtained through the Tufts Tickets website. A second performance will take place at 8 p.m. on Saturday\, November 11\, also at Cohen Auditorium. \n 
URL:https://www.cacheinmedford.org/event/sarabande-dance-ensemble-like-second-nature/
LOCATION:Cohen Auditorium\, Tufts University\, 40 Talbot Ave.\, Medford\, MA\, 02155\, United States
CATEGORIES:Dance Performances
ORGANIZER;CN="Sarabande Dance Ensemble":MAILTO:tuftssarabandedance@gmail.com
GEO:42.4043201;-71.119282
X-APPLE-STRUCTURED-LOCATION;VALUE=URI;X-ADDRESS=Cohen Auditorium Tufts University 40 Talbot Ave. Medford MA 02155 United States;X-APPLE-RADIUS=500;X-TITLE=40 Talbot Ave.:geo:-71.119282,42.4043201
END:VEVENT
END:VCALENDAR