BEGIN:VCALENDAR
VERSION:2.0
PRODID:-//CACHE in Medford - ECPv6.15.18//NONSGML v1.0//EN
CALSCALE:GREGORIAN
METHOD:PUBLISH
X-ORIGINAL-URL:https://www.cacheinmedford.org
X-WR-CALDESC:Events for CACHE in Medford
REFRESH-INTERVAL;VALUE=DURATION:PT1H
X-Robots-Tag:noindex
X-PUBLISHED-TTL:PT1H
BEGIN:VTIMEZONE
TZID:America/New_York
BEGIN:DAYLIGHT
TZOFFSETFROM:-0500
TZOFFSETTO:-0400
TZNAME:EDT
DTSTART:20230312T070000
END:DAYLIGHT
BEGIN:STANDARD
TZOFFSETFROM:-0400
TZOFFSETTO:-0500
TZNAME:EST
DTSTART:20231105T060000
END:STANDARD
BEGIN:DAYLIGHT
TZOFFSETFROM:-0500
TZOFFSETTO:-0400
TZNAME:EDT
DTSTART:20240310T070000
END:DAYLIGHT
BEGIN:STANDARD
TZOFFSETFROM:-0400
TZOFFSETTO:-0500
TZNAME:EST
DTSTART:20241103T060000
END:STANDARD
BEGIN:DAYLIGHT
TZOFFSETFROM:-0500
TZOFFSETTO:-0400
TZNAME:EDT
DTSTART:20250309T070000
END:DAYLIGHT
BEGIN:STANDARD
TZOFFSETFROM:-0400
TZOFFSETTO:-0500
TZNAME:EST
DTSTART:20251102T060000
END:STANDARD
END:VTIMEZONE
BEGIN:VEVENT
DTSTART;TZID=America/New_York:20240907T100000
DTEND;TZID=America/New_York:20240907T160000
DTSTAMP:20260421T122340
CREATED:20240827T195716Z
LAST-MODIFIED:20240905T131352Z
UID:10039139-1725703200-1725724800@www.cacheinmedford.org
SUMMARY:Outside the Lines Arts & Oddities Garage Sale
DESCRIPTION:Outside the Lines Studio is excited to be holding its first onsite event in over five years — an Arts & Oddities Garage Sale! Along with displays of art and merchandise created by artists OTL supports\, the event will include a selection of baked goods\, gently used clothing\, books\, and household goods for sale. There will be a wide selection of items such as mugs\, holiday decor\, books\, pots and pans\, as well as a laundry bin on wheels named “Carti-B.” \nOutside the Lines\, a CACHE in Medford member\, is a nonprofit\, arts-based day program for adults with disabilities. Its mission is to provide a creative\, supportive environment where each individual can explore their unique potential in a way that best suits their interests\, talents\, and learning styles. \n 
URL:https://www.cacheinmedford.org/event/outside-the-lines-arts-oddities-garage-sale/
LOCATION:Outside the Lines Studio\, 70 Colby St.\, Medford\, MA\, 02155\, United States
CATEGORIES:Other
GEO:42.4055322;-71.1147372
X-APPLE-STRUCTURED-LOCATION;VALUE=URI;X-ADDRESS=Outside the Lines Studio 70 Colby St. Medford MA 02155 United States;X-APPLE-RADIUS=500;X-TITLE=70 Colby St.:geo:-71.1147372,42.4055322
END:VEVENT
END:VCALENDAR