BEGIN:VCALENDAR
VERSION:2.0
PRODID:-//CACHE in Medford - ECPv6.15.18//NONSGML v1.0//EN
CALSCALE:GREGORIAN
METHOD:PUBLISH
X-WR-CALNAME:CACHE in Medford
X-ORIGINAL-URL:https://www.cacheinmedford.org
X-WR-CALDESC:Events for CACHE in Medford
REFRESH-INTERVAL;VALUE=DURATION:PT1H
X-Robots-Tag:noindex
X-PUBLISHED-TTL:PT1H
BEGIN:VTIMEZONE
TZID:America/New_York
BEGIN:DAYLIGHT
TZOFFSETFROM:-0500
TZOFFSETTO:-0400
TZNAME:EDT
DTSTART:20240310T070000
END:DAYLIGHT
BEGIN:STANDARD
TZOFFSETFROM:-0400
TZOFFSETTO:-0500
TZNAME:EST
DTSTART:20241103T060000
END:STANDARD
BEGIN:DAYLIGHT
TZOFFSETFROM:-0500
TZOFFSETTO:-0400
TZNAME:EDT
DTSTART:20250309T070000
END:DAYLIGHT
BEGIN:STANDARD
TZOFFSETFROM:-0400
TZOFFSETTO:-0500
TZNAME:EST
DTSTART:20251102T060000
END:STANDARD
BEGIN:DAYLIGHT
TZOFFSETFROM:-0500
TZOFFSETTO:-0400
TZNAME:EDT
DTSTART:20260308T070000
END:DAYLIGHT
BEGIN:STANDARD
TZOFFSETFROM:-0400
TZOFFSETTO:-0500
TZNAME:EST
DTSTART:20261101T060000
END:STANDARD
END:VTIMEZONE
BEGIN:VEVENT
DTSTART;TZID=America/New_York:20251210T130000
DTEND;TZID=America/New_York:20251210T150000
DTSTAMP:20260422T201049
CREATED:20250921T164512Z
LAST-MODIFIED:20250921T164512Z
UID:10043317-1765371600-1765378800@www.cacheinmedford.org
SUMMARY:Senior Movie Viewing
DESCRIPTION:Enjoy a weekly film in the Senior Center library — relax\, socialize\, and unwind.
URL:https://www.cacheinmedford.org/event/senior-movie-viewing/2025-12-10/
LOCATION:Medford Senior Center\, 101 Riverside Ave.\, Medford\, MA\, 02155
GEO:42.4164422;-71.1059052
X-APPLE-STRUCTURED-LOCATION;VALUE=URI;X-ADDRESS=Medford Senior Center 101 Riverside Ave. Medford MA 02155;X-APPLE-RADIUS=500;X-TITLE=101 Riverside Ave.:geo:-71.1059052,42.4164422
END:VEVENT
BEGIN:VEVENT
DTSTART;TZID=America/New_York:20251205T094500
DTEND;TZID=America/New_York:20251205T113000
DTSTAMP:20260422T201049
CREATED:20250921T165045Z
LAST-MODIFIED:20250921T165200Z
UID:10043373-1764927900-1764934200@www.cacheinmedford.org
SUMMARY:Senior Ceramics at Clay Dreams with Rosemary
DESCRIPTION:Join Rosemary at Clay Dreams in Arlington for ceramics fun. Transportation available; van departs at 9:45 AM. $6 per class + cost of materials.
URL:https://www.cacheinmedford.org/event/senior-ceramics-at-clay-dreams-with-rosemary/2025-12-05/
LOCATION:Medford Senior Center\, 101 Riverside Ave.\, Medford\, MA\, 02155
GEO:42.4164422;-71.1059052
X-APPLE-STRUCTURED-LOCATION;VALUE=URI;X-ADDRESS=Medford Senior Center 101 Riverside Ave. Medford MA 02155;X-APPLE-RADIUS=500;X-TITLE=101 Riverside Ave.:geo:-71.1059052,42.4164422
END:VEVENT
BEGIN:VEVENT
DTSTART;TZID=America/New_York:20251203T130000
DTEND;TZID=America/New_York:20251203T150000
DTSTAMP:20260422T201049
CREATED:20250921T164512Z
LAST-MODIFIED:20250921T164512Z
UID:10043316-1764766800-1764774000@www.cacheinmedford.org
SUMMARY:Senior Movie Viewing
DESCRIPTION:Enjoy a weekly film in the Senior Center library — relax\, socialize\, and unwind.
URL:https://www.cacheinmedford.org/event/senior-movie-viewing/2025-12-03/
LOCATION:Medford Senior Center\, 101 Riverside Ave.\, Medford\, MA\, 02155
GEO:42.4164422;-71.1059052
X-APPLE-STRUCTURED-LOCATION;VALUE=URI;X-ADDRESS=Medford Senior Center 101 Riverside Ave. Medford MA 02155;X-APPLE-RADIUS=500;X-TITLE=101 Riverside Ave.:geo:-71.1059052,42.4164422
END:VEVENT
BEGIN:VEVENT
DTSTART;TZID=America/New_York:20251128T094500
DTEND;TZID=America/New_York:20251128T113000
DTSTAMP:20260422T201049
CREATED:20250921T165045Z
LAST-MODIFIED:20250921T165200Z
UID:10043372-1764323100-1764329400@www.cacheinmedford.org
SUMMARY:Senior Ceramics at Clay Dreams with Rosemary
DESCRIPTION:Join Rosemary at Clay Dreams in Arlington for ceramics fun. Transportation available; van departs at 9:45 AM. $6 per class + cost of materials.
URL:https://www.cacheinmedford.org/event/senior-ceramics-at-clay-dreams-with-rosemary/2025-11-28/
LOCATION:Medford Senior Center\, 101 Riverside Ave.\, Medford\, MA\, 02155
GEO:42.4164422;-71.1059052
X-APPLE-STRUCTURED-LOCATION;VALUE=URI;X-ADDRESS=Medford Senior Center 101 Riverside Ave. Medford MA 02155;X-APPLE-RADIUS=500;X-TITLE=101 Riverside Ave.:geo:-71.1059052,42.4164422
END:VEVENT
BEGIN:VEVENT
DTSTART;TZID=America/New_York:20251126T130000
DTEND;TZID=America/New_York:20251126T150000
DTSTAMP:20260422T201049
CREATED:20250921T164512Z
LAST-MODIFIED:20250921T164512Z
UID:10043315-1764162000-1764169200@www.cacheinmedford.org
SUMMARY:Senior Movie Viewing
DESCRIPTION:Enjoy a weekly film in the Senior Center library — relax\, socialize\, and unwind.
URL:https://www.cacheinmedford.org/event/senior-movie-viewing/2025-11-26/
LOCATION:Medford Senior Center\, 101 Riverside Ave.\, Medford\, MA\, 02155
GEO:42.4164422;-71.1059052
X-APPLE-STRUCTURED-LOCATION;VALUE=URI;X-ADDRESS=Medford Senior Center 101 Riverside Ave. Medford MA 02155;X-APPLE-RADIUS=500;X-TITLE=101 Riverside Ave.:geo:-71.1059052,42.4164422
END:VEVENT
BEGIN:VEVENT
DTSTART;TZID=America/New_York:20251121T094500
DTEND;TZID=America/New_York:20251121T113000
DTSTAMP:20260422T201049
CREATED:20250921T165045Z
LAST-MODIFIED:20250921T165200Z
UID:10043371-1763718300-1763724600@www.cacheinmedford.org
SUMMARY:Senior Ceramics at Clay Dreams with Rosemary
DESCRIPTION:Join Rosemary at Clay Dreams in Arlington for ceramics fun. Transportation available; van departs at 9:45 AM. $6 per class + cost of materials.
URL:https://www.cacheinmedford.org/event/senior-ceramics-at-clay-dreams-with-rosemary/2025-11-21/
LOCATION:Medford Senior Center\, 101 Riverside Ave.\, Medford\, MA\, 02155
GEO:42.4164422;-71.1059052
X-APPLE-STRUCTURED-LOCATION;VALUE=URI;X-ADDRESS=Medford Senior Center 101 Riverside Ave. Medford MA 02155;X-APPLE-RADIUS=500;X-TITLE=101 Riverside Ave.:geo:-71.1059052,42.4164422
END:VEVENT
BEGIN:VEVENT
DTSTART;TZID=America/New_York:20251119T130000
DTEND;TZID=America/New_York:20251119T150000
DTSTAMP:20260422T201049
CREATED:20250921T164512Z
LAST-MODIFIED:20250921T164512Z
UID:10043314-1763557200-1763564400@www.cacheinmedford.org
SUMMARY:Senior Movie Viewing
DESCRIPTION:Enjoy a weekly film in the Senior Center library — relax\, socialize\, and unwind.
URL:https://www.cacheinmedford.org/event/senior-movie-viewing/2025-11-19/
LOCATION:Medford Senior Center\, 101 Riverside Ave.\, Medford\, MA\, 02155
GEO:42.4164422;-71.1059052
X-APPLE-STRUCTURED-LOCATION;VALUE=URI;X-ADDRESS=Medford Senior Center 101 Riverside Ave. Medford MA 02155;X-APPLE-RADIUS=500;X-TITLE=101 Riverside Ave.:geo:-71.1059052,42.4164422
END:VEVENT
BEGIN:VEVENT
DTSTART;TZID=America/New_York:20251114T094500
DTEND;TZID=America/New_York:20251114T113000
DTSTAMP:20260422T201049
CREATED:20250921T165045Z
LAST-MODIFIED:20250921T165200Z
UID:10043370-1763113500-1763119800@www.cacheinmedford.org
SUMMARY:Senior Ceramics at Clay Dreams with Rosemary
DESCRIPTION:Join Rosemary at Clay Dreams in Arlington for ceramics fun. Transportation available; van departs at 9:45 AM. $6 per class + cost of materials.
URL:https://www.cacheinmedford.org/event/senior-ceramics-at-clay-dreams-with-rosemary/2025-11-14/
LOCATION:Medford Senior Center\, 101 Riverside Ave.\, Medford\, MA\, 02155
GEO:42.4164422;-71.1059052
X-APPLE-STRUCTURED-LOCATION;VALUE=URI;X-ADDRESS=Medford Senior Center 101 Riverside Ave. Medford MA 02155;X-APPLE-RADIUS=500;X-TITLE=101 Riverside Ave.:geo:-71.1059052,42.4164422
END:VEVENT
BEGIN:VEVENT
DTSTART;TZID=America/New_York:20251112T130000
DTEND;TZID=America/New_York:20251112T150000
DTSTAMP:20260422T201049
CREATED:20250921T164512Z
LAST-MODIFIED:20250921T164512Z
UID:10043313-1762952400-1762959600@www.cacheinmedford.org
SUMMARY:Senior Movie Viewing
DESCRIPTION:Enjoy a weekly film in the Senior Center library — relax\, socialize\, and unwind.
URL:https://www.cacheinmedford.org/event/senior-movie-viewing/2025-11-12/
LOCATION:Medford Senior Center\, 101 Riverside Ave.\, Medford\, MA\, 02155
GEO:42.4164422;-71.1059052
X-APPLE-STRUCTURED-LOCATION;VALUE=URI;X-ADDRESS=Medford Senior Center 101 Riverside Ave. Medford MA 02155;X-APPLE-RADIUS=500;X-TITLE=101 Riverside Ave.:geo:-71.1059052,42.4164422
END:VEVENT
BEGIN:VEVENT
DTSTART;TZID=America/New_York:20251107T094500
DTEND;TZID=America/New_York:20251107T113000
DTSTAMP:20260422T201049
CREATED:20250921T165045Z
LAST-MODIFIED:20250921T165200Z
UID:10043369-1762508700-1762515000@www.cacheinmedford.org
SUMMARY:Senior Ceramics at Clay Dreams with Rosemary
DESCRIPTION:Join Rosemary at Clay Dreams in Arlington for ceramics fun. Transportation available; van departs at 9:45 AM. $6 per class + cost of materials.
URL:https://www.cacheinmedford.org/event/senior-ceramics-at-clay-dreams-with-rosemary/2025-11-07/
LOCATION:Medford Senior Center\, 101 Riverside Ave.\, Medford\, MA\, 02155
GEO:42.4164422;-71.1059052
X-APPLE-STRUCTURED-LOCATION;VALUE=URI;X-ADDRESS=Medford Senior Center 101 Riverside Ave. Medford MA 02155;X-APPLE-RADIUS=500;X-TITLE=101 Riverside Ave.:geo:-71.1059052,42.4164422
END:VEVENT
BEGIN:VEVENT
DTSTART;TZID=America/New_York:20251105T130000
DTEND;TZID=America/New_York:20251105T150000
DTSTAMP:20260422T201049
CREATED:20250921T164512Z
LAST-MODIFIED:20250921T164512Z
UID:10043312-1762347600-1762354800@www.cacheinmedford.org
SUMMARY:Senior Movie Viewing
DESCRIPTION:Enjoy a weekly film in the Senior Center library — relax\, socialize\, and unwind.
URL:https://www.cacheinmedford.org/event/senior-movie-viewing/2025-11-05/
LOCATION:Medford Senior Center\, 101 Riverside Ave.\, Medford\, MA\, 02155
GEO:42.4164422;-71.1059052
X-APPLE-STRUCTURED-LOCATION;VALUE=URI;X-ADDRESS=Medford Senior Center 101 Riverside Ave. Medford MA 02155;X-APPLE-RADIUS=500;X-TITLE=101 Riverside Ave.:geo:-71.1059052,42.4164422
END:VEVENT
BEGIN:VEVENT
DTSTART;TZID=America/New_York:20251031T120000
DTEND;TZID=America/New_York:20251031T150000
DTSTAMP:20260422T201049
CREATED:20250921T163505Z
LAST-MODIFIED:20250921T163505Z
UID:10043292-1761912000-1761922800@www.cacheinmedford.org
SUMMARY:A Frightfully Fun Halloween Party for Seniors
DESCRIPTION:Celebrate Halloween at the Senior Center on Friday\, October 31 from 12:00–3:00 PM! Enjoy live music by Jumpin’ Juba\, a delicious luncheon of pasta\, meatballs\, salad\, and desserts sponsored by Rick Caraviello. Plus: door prizes\, a 50/50 raffle\, and a Best Costume prize — so don’t forget your spooky (or silly!) outfit. Tickets are just $3.00 per person (max 2 per person)\, available starting October 2.
URL:https://www.cacheinmedford.org/event/a-frightfully-fun-halloween-party-for-seniors/
LOCATION:Medford Senior Center\, 101 Riverside Ave.\, Medford\, MA\, 02155
GEO:42.4164422;-71.1059052
X-APPLE-STRUCTURED-LOCATION;VALUE=URI;X-ADDRESS=Medford Senior Center 101 Riverside Ave. Medford MA 02155;X-APPLE-RADIUS=500;X-TITLE=101 Riverside Ave.:geo:-71.1059052,42.4164422
END:VEVENT
BEGIN:VEVENT
DTSTART;TZID=America/New_York:20251031T094500
DTEND;TZID=America/New_York:20251031T113000
DTSTAMP:20260422T201049
CREATED:20250921T165045Z
LAST-MODIFIED:20250921T165200Z
UID:10043368-1761903900-1761910200@www.cacheinmedford.org
SUMMARY:Senior Ceramics at Clay Dreams with Rosemary
DESCRIPTION:Join Rosemary at Clay Dreams in Arlington for ceramics fun. Transportation available; van departs at 9:45 AM. $6 per class + cost of materials.
URL:https://www.cacheinmedford.org/event/senior-ceramics-at-clay-dreams-with-rosemary/2025-10-31/
LOCATION:Medford Senior Center\, 101 Riverside Ave.\, Medford\, MA\, 02155
GEO:42.4164422;-71.1059052
X-APPLE-STRUCTURED-LOCATION;VALUE=URI;X-ADDRESS=Medford Senior Center 101 Riverside Ave. Medford MA 02155;X-APPLE-RADIUS=500;X-TITLE=101 Riverside Ave.:geo:-71.1059052,42.4164422
END:VEVENT
BEGIN:VEVENT
DTSTART;TZID=America/New_York:20251029T130000
DTEND;TZID=America/New_York:20251029T150000
DTSTAMP:20260422T201049
CREATED:20250921T164512Z
LAST-MODIFIED:20250921T164512Z
UID:10043311-1761742800-1761750000@www.cacheinmedford.org
SUMMARY:Senior Movie Viewing
DESCRIPTION:Enjoy a weekly film in the Senior Center library — relax\, socialize\, and unwind.
URL:https://www.cacheinmedford.org/event/senior-movie-viewing/2025-10-29/
LOCATION:Medford Senior Center\, 101 Riverside Ave.\, Medford\, MA\, 02155
GEO:42.4164422;-71.1059052
X-APPLE-STRUCTURED-LOCATION;VALUE=URI;X-ADDRESS=Medford Senior Center 101 Riverside Ave. Medford MA 02155;X-APPLE-RADIUS=500;X-TITLE=101 Riverside Ave.:geo:-71.1059052,42.4164422
END:VEVENT
BEGIN:VEVENT
DTSTART;TZID=America/New_York:20251027T100000
DTEND;TZID=America/New_York:20251027T133000
DTSTAMP:20260422T201049
CREATED:20250921T162820Z
LAST-MODIFIED:20250921T162820Z
UID:10043290-1761559200-1761571800@www.cacheinmedford.org
SUMMARY:Van Trip: Town Line Bowling & 621 Lunch for Seniors
DESCRIPTION:Enjoy bowling and lunch on Monday\, October 27. Depart at 10:00 AM\, return around 1:30 PM. Cost: $5.00 per person (plus $4.00 for bowling shoes\, lunch on your own). Celebrate with our first bowling banquet at lunch!
URL:https://www.cacheinmedford.org/event/van-trip-town-line-bowling-621-lunch-for-seniors/
LOCATION:Medford Senior Center\, 101 Riverside Ave.\, Medford\, MA\, 02155
GEO:42.4164422;-71.1059052
X-APPLE-STRUCTURED-LOCATION;VALUE=URI;X-ADDRESS=Medford Senior Center 101 Riverside Ave. Medford MA 02155;X-APPLE-RADIUS=500;X-TITLE=101 Riverside Ave.:geo:-71.1059052,42.4164422
END:VEVENT
BEGIN:VEVENT
DTSTART;TZID=America/New_York:20251024T094500
DTEND;TZID=America/New_York:20251024T113000
DTSTAMP:20260422T201049
CREATED:20250921T165045Z
LAST-MODIFIED:20250921T165200Z
UID:10043367-1761299100-1761305400@www.cacheinmedford.org
SUMMARY:Senior Ceramics at Clay Dreams with Rosemary
DESCRIPTION:Join Rosemary at Clay Dreams in Arlington for ceramics fun. Transportation available; van departs at 9:45 AM. $6 per class + cost of materials.
URL:https://www.cacheinmedford.org/event/senior-ceramics-at-clay-dreams-with-rosemary/2025-10-24/
LOCATION:Medford Senior Center\, 101 Riverside Ave.\, Medford\, MA\, 02155
GEO:42.4164422;-71.1059052
X-APPLE-STRUCTURED-LOCATION;VALUE=URI;X-ADDRESS=Medford Senior Center 101 Riverside Ave. Medford MA 02155;X-APPLE-RADIUS=500;X-TITLE=101 Riverside Ave.:geo:-71.1059052,42.4164422
END:VEVENT
BEGIN:VEVENT
DTSTART;TZID=America/New_York:20251022T130000
DTEND;TZID=America/New_York:20251022T150000
DTSTAMP:20260422T201049
CREATED:20250921T164512Z
LAST-MODIFIED:20250921T164512Z
UID:10043310-1761138000-1761145200@www.cacheinmedford.org
SUMMARY:Senior Movie Viewing
DESCRIPTION:Enjoy a weekly film in the Senior Center library — relax\, socialize\, and unwind.
URL:https://www.cacheinmedford.org/event/senior-movie-viewing/2025-10-22/
LOCATION:Medford Senior Center\, 101 Riverside Ave.\, Medford\, MA\, 02155
GEO:42.4164422;-71.1059052
X-APPLE-STRUCTURED-LOCATION;VALUE=URI;X-ADDRESS=Medford Senior Center 101 Riverside Ave. Medford MA 02155;X-APPLE-RADIUS=500;X-TITLE=101 Riverside Ave.:geo:-71.1059052,42.4164422
END:VEVENT
BEGIN:VEVENT
DTSTART;TZID=America/New_York:20251021T110000
DTEND;TZID=America/New_York:20251021T150000
DTSTAMP:20260422T201049
CREATED:20250921T162541Z
LAST-MODIFIED:20250921T162541Z
UID:10043289-1761044400-1761058800@www.cacheinmedford.org
SUMMARY:Van Trip: Atria Maplewood Lunch\, Tour & Craft for Seniors
DESCRIPTION:On Tuesday\, October 21\, join us for lunch\, a craft\, and a tour of the newly refurbished Atria Maplewood Place in Malden. Depart at 11:00 AM. Seats limited to 14.
URL:https://www.cacheinmedford.org/event/van-trip-atria-maplewood-lunch-tour-craft-for-seniors/
LOCATION:Medford Senior Center\, 101 Riverside Ave.\, Medford\, MA\, 02155
GEO:42.4164422;-71.1059052
X-APPLE-STRUCTURED-LOCATION;VALUE=URI;X-ADDRESS=Medford Senior Center 101 Riverside Ave. Medford MA 02155;X-APPLE-RADIUS=500;X-TITLE=101 Riverside Ave.:geo:-71.1059052,42.4164422
END:VEVENT
BEGIN:VEVENT
DTSTART;TZID=America/New_York:20251017T094500
DTEND;TZID=America/New_York:20251017T113000
DTSTAMP:20260422T201049
CREATED:20250921T165045Z
LAST-MODIFIED:20250921T165200Z
UID:10043366-1760694300-1760700600@www.cacheinmedford.org
SUMMARY:Senior Ceramics at Clay Dreams with Rosemary
DESCRIPTION:Join Rosemary at Clay Dreams in Arlington for ceramics fun. Transportation available; van departs at 9:45 AM. $6 per class + cost of materials.
URL:https://www.cacheinmedford.org/event/senior-ceramics-at-clay-dreams-with-rosemary/2025-10-17/
LOCATION:Medford Senior Center\, 101 Riverside Ave.\, Medford\, MA\, 02155
GEO:42.4164422;-71.1059052
X-APPLE-STRUCTURED-LOCATION;VALUE=URI;X-ADDRESS=Medford Senior Center 101 Riverside Ave. Medford MA 02155;X-APPLE-RADIUS=500;X-TITLE=101 Riverside Ave.:geo:-71.1059052,42.4164422
END:VEVENT
BEGIN:VEVENT
DTSTART;TZID=America/New_York:20251015T130000
DTEND;TZID=America/New_York:20251015T150000
DTSTAMP:20260422T201049
CREATED:20250921T164512Z
LAST-MODIFIED:20250921T164512Z
UID:10043309-1760533200-1760540400@www.cacheinmedford.org
SUMMARY:Senior Movie Viewing
DESCRIPTION:Enjoy a weekly film in the Senior Center library — relax\, socialize\, and unwind.
URL:https://www.cacheinmedford.org/event/senior-movie-viewing/2025-10-15/
LOCATION:Medford Senior Center\, 101 Riverside Ave.\, Medford\, MA\, 02155
GEO:42.4164422;-71.1059052
X-APPLE-STRUCTURED-LOCATION;VALUE=URI;X-ADDRESS=Medford Senior Center 101 Riverside Ave. Medford MA 02155;X-APPLE-RADIUS=500;X-TITLE=101 Riverside Ave.:geo:-71.1059052,42.4164422
END:VEVENT
BEGIN:VEVENT
DTSTART;TZID=America/New_York:20251015T100000
DTEND;TZID=America/New_York:20251015T140000
DTSTAMP:20260422T201049
CREATED:20250921T162425Z
LAST-MODIFIED:20250921T162425Z
UID:10043288-1760522400-1760536800@www.cacheinmedford.org
SUMMARY:Van Trip: Walmart & Prince Pizza for Seniors
DESCRIPTION:Spend Wednesday\, October 15 shopping at Saugus Walmart followed by lunch at Prince Pizza (pay your own way). Depart at 10:00 AM. Sign-ups open October 3.
URL:https://www.cacheinmedford.org/event/van-trip-walmart-prince-pizza-for-seniors/
LOCATION:Medford Senior Center\, 101 Riverside Ave.\, Medford\, MA\, 02155
CATEGORIES:Senior Programs
GEO:42.4164422;-71.1059052
X-APPLE-STRUCTURED-LOCATION;VALUE=URI;X-ADDRESS=Medford Senior Center 101 Riverside Ave. Medford MA 02155;X-APPLE-RADIUS=500;X-TITLE=101 Riverside Ave.:geo:-71.1059052,42.4164422
END:VEVENT
BEGIN:VEVENT
DTSTART;TZID=America/New_York:20251014T100000
DTEND;TZID=America/New_York:20251014T133000
DTSTAMP:20260422T201049
CREATED:20250921T162310Z
LAST-MODIFIED:20250921T162310Z
UID:10043287-1760436000-1760448600@www.cacheinmedford.org
SUMMARY:Van Trip: Encore Casino with $10 Slot Play for Seniors
DESCRIPTION:Enjoy FREE van transportation to Encore Casino on Tuesday\, October 14. Depart at 10:00 AM\, return at 1:30 PM. Includes $10 slot play (must bring your Wynn Rewards card and government-issued ID). Limited to 14 seats — sign up early!
URL:https://www.cacheinmedford.org/event/van-trip-encore-casino-with-10-slot-play-for-seniors/
LOCATION:Medford Senior Center\, 101 Riverside Ave.\, Medford\, MA\, 02155
GEO:42.4164422;-71.1059052
X-APPLE-STRUCTURED-LOCATION;VALUE=URI;X-ADDRESS=Medford Senior Center 101 Riverside Ave. Medford MA 02155;X-APPLE-RADIUS=500;X-TITLE=101 Riverside Ave.:geo:-71.1059052,42.4164422
END:VEVENT
BEGIN:VEVENT
DTSTART;TZID=America/New_York:20251010T094500
DTEND;TZID=America/New_York:20251010T113000
DTSTAMP:20260422T201049
CREATED:20250921T165045Z
LAST-MODIFIED:20250921T165200Z
UID:10043365-1760089500-1760095800@www.cacheinmedford.org
SUMMARY:Senior Ceramics at Clay Dreams with Rosemary
DESCRIPTION:Join Rosemary at Clay Dreams in Arlington for ceramics fun. Transportation available; van departs at 9:45 AM. $6 per class + cost of materials.
URL:https://www.cacheinmedford.org/event/senior-ceramics-at-clay-dreams-with-rosemary/2025-10-10/
LOCATION:Medford Senior Center\, 101 Riverside Ave.\, Medford\, MA\, 02155
GEO:42.4164422;-71.1059052
X-APPLE-STRUCTURED-LOCATION;VALUE=URI;X-ADDRESS=Medford Senior Center 101 Riverside Ave. Medford MA 02155;X-APPLE-RADIUS=500;X-TITLE=101 Riverside Ave.:geo:-71.1059052,42.4164422
END:VEVENT
BEGIN:VEVENT
DTSTART;TZID=America/New_York:20251009T093000
DTEND;TZID=America/New_York:20251009T113000
DTSTAMP:20260422T201049
CREATED:20250921T162154Z
LAST-MODIFIED:20250921T162205Z
UID:10043286-1760002200-1760009400@www.cacheinmedford.org
SUMMARY:Van Trip: Senior Shopping Trip to Market Basket
DESCRIPTION:Hop on the van for a Market Basket run on Thursday\, October 9. Depart at 9:30 AM\, enjoy 1½ hours of shopping. Limit of 4 bags per adult. Max 10 people.
URL:https://www.cacheinmedford.org/event/shopping-trip-to-market-basket/
LOCATION:Medford Senior Center\, 101 Riverside Ave.\, Medford\, MA\, 02155
CATEGORIES:Senior Programs
GEO:42.4164422;-71.1059052
X-APPLE-STRUCTURED-LOCATION;VALUE=URI;X-ADDRESS=Medford Senior Center 101 Riverside Ave. Medford MA 02155;X-APPLE-RADIUS=500;X-TITLE=101 Riverside Ave.:geo:-71.1059052,42.4164422
END:VEVENT
BEGIN:VEVENT
DTSTART;TZID=America/New_York:20251008T130000
DTEND;TZID=America/New_York:20251008T150000
DTSTAMP:20260422T201049
CREATED:20250921T164512Z
LAST-MODIFIED:20250921T164512Z
UID:10043308-1759928400-1759935600@www.cacheinmedford.org
SUMMARY:Senior Movie Viewing
DESCRIPTION:Enjoy a weekly film in the Senior Center library — relax\, socialize\, and unwind.
URL:https://www.cacheinmedford.org/event/senior-movie-viewing/2025-10-08/
LOCATION:Medford Senior Center\, 101 Riverside Ave.\, Medford\, MA\, 02155
GEO:42.4164422;-71.1059052
X-APPLE-STRUCTURED-LOCATION;VALUE=URI;X-ADDRESS=Medford Senior Center 101 Riverside Ave. Medford MA 02155;X-APPLE-RADIUS=500;X-TITLE=101 Riverside Ave.:geo:-71.1059052,42.4164422
END:VEVENT
BEGIN:VEVENT
DTSTART;TZID=America/New_York:20251007T110000
DTEND;TZID=America/New_York:20251007T170000
DTSTAMP:20260422T201049
CREATED:20250921T161913Z
LAST-MODIFIED:20250921T161913Z
UID:10043285-1759834800-1759856400@www.cacheinmedford.org
SUMMARY:Van Trip: Aviva Country Club Senior Living Lunch and Tour
DESCRIPTION:Join us on Tuesday\, October 7 for an afternoon at Aviva Country Club Senior Living in Woburn. Depart at 11:00 AM for lunch and a tour. One of our participants lives here and would be excited to see his friends! Seats limited to 14 — sign up today!
URL:https://www.cacheinmedford.org/event/van-trip-aviva-country-club-senior-living-lunch-and-tour/
LOCATION:Medford Senior Center\, 101 Riverside Ave.\, Medford\, MA\, 02155
CATEGORIES:Senior Programs
GEO:42.4164422;-71.1059052
X-APPLE-STRUCTURED-LOCATION;VALUE=URI;X-ADDRESS=Medford Senior Center 101 Riverside Ave. Medford MA 02155;X-APPLE-RADIUS=500;X-TITLE=101 Riverside Ave.:geo:-71.1059052,42.4164422
END:VEVENT
BEGIN:VEVENT
DTSTART;TZID=America/New_York:20251003T094500
DTEND;TZID=America/New_York:20251003T113000
DTSTAMP:20260422T201049
CREATED:20250921T165045Z
LAST-MODIFIED:20250921T165200Z
UID:10043364-1759484700-1759491000@www.cacheinmedford.org
SUMMARY:Senior Ceramics at Clay Dreams with Rosemary
DESCRIPTION:Join Rosemary at Clay Dreams in Arlington for ceramics fun. Transportation available; van departs at 9:45 AM. $6 per class + cost of materials.
URL:https://www.cacheinmedford.org/event/senior-ceramics-at-clay-dreams-with-rosemary/2025-10-03/
LOCATION:Medford Senior Center\, 101 Riverside Ave.\, Medford\, MA\, 02155
GEO:42.4164422;-71.1059052
X-APPLE-STRUCTURED-LOCATION;VALUE=URI;X-ADDRESS=Medford Senior Center 101 Riverside Ave. Medford MA 02155;X-APPLE-RADIUS=500;X-TITLE=101 Riverside Ave.:geo:-71.1059052,42.4164422
END:VEVENT
BEGIN:VEVENT
DTSTART;TZID=America/New_York:20251002T084500
DTEND;TZID=America/New_York:20251002T163000
DTSTAMP:20260422T201049
CREATED:20250921T163231Z
LAST-MODIFIED:20250921T163231Z
UID:10043291-1759394700-1759422600@www.cacheinmedford.org
SUMMARY:Motor Coach Tours: Pickity Place Gourmet Luncheon for Seniors
DESCRIPTION:Discover the hidden gem Pickity Place on Thursday\, October 2. Enjoy a five-course gourmet luncheon (entrée choices include Chicken Boursin or Roasted Root Vegetable with potato cake)\, explore the herb shop\, gardens\, and greenhouse\, and stop at Parker’s Gift Barn. Cost: $119.00 per person. Departs at 8:45 AM\, returns around 4:30 PM.
URL:https://www.cacheinmedford.org/event/motor-coach-tours-pickity-place-gourmet-luncheon-for-seniors/
LOCATION:Medford Senior Center\, 101 Riverside Ave.\, Medford\, MA\, 02155
GEO:42.4164422;-71.1059052
X-APPLE-STRUCTURED-LOCATION;VALUE=URI;X-ADDRESS=Medford Senior Center 101 Riverside Ave. Medford MA 02155;X-APPLE-RADIUS=500;X-TITLE=101 Riverside Ave.:geo:-71.1059052,42.4164422
END:VEVENT
BEGIN:VEVENT
DTSTART;TZID=America/New_York:20251001T130000
DTEND;TZID=America/New_York:20251001T150000
DTSTAMP:20260422T201049
CREATED:20250921T164512Z
LAST-MODIFIED:20250921T164512Z
UID:10043307-1759323600-1759330800@www.cacheinmedford.org
SUMMARY:Senior Movie Viewing
DESCRIPTION:Enjoy a weekly film in the Senior Center library — relax\, socialize\, and unwind.
URL:https://www.cacheinmedford.org/event/senior-movie-viewing/2025-10-01/
LOCATION:Medford Senior Center\, 101 Riverside Ave.\, Medford\, MA\, 02155
GEO:42.4164422;-71.1059052
X-APPLE-STRUCTURED-LOCATION;VALUE=URI;X-ADDRESS=Medford Senior Center 101 Riverside Ave. Medford MA 02155;X-APPLE-RADIUS=500;X-TITLE=101 Riverside Ave.:geo:-71.1059052,42.4164422
END:VEVENT
BEGIN:VEVENT
DTSTART;TZID=America/New_York:20250910T100000
DTEND;TZID=America/New_York:20250910T110000
DTSTAMP:20260422T201049
CREATED:20250823T173153Z
LAST-MODIFIED:20250823T173153Z
UID:10041958-1757498400-1757502000@www.cacheinmedford.org
SUMMARY:Jewelry Making for Seniors
DESCRIPTION:This new free craft program is available to the first 8 participants. You may only sign up for one class per month. All supplies will be provided by the senior center. \nSign up begins on September 1.
URL:https://www.cacheinmedford.org/event/jewelry-making-for-seniors/2025-09-10/
LOCATION:Medford Senior Center\, 101 Riverside Ave.\, Medford\, MA\, 02155
CATEGORIES:Classes/Workshops,Senior Programs
GEO:42.4164422;-71.1059052
X-APPLE-STRUCTURED-LOCATION;VALUE=URI;X-ADDRESS=Medford Senior Center 101 Riverside Ave. Medford MA 02155;X-APPLE-RADIUS=500;X-TITLE=101 Riverside Ave.:geo:-71.1059052,42.4164422
END:VEVENT
END:VCALENDAR