BEGIN:VCALENDAR
VERSION:2.0
PRODID:-//CACHE in Medford - ECPv6.15.18//NONSGML v1.0//EN
CALSCALE:GREGORIAN
METHOD:PUBLISH
X-WR-CALNAME:CACHE in Medford
X-ORIGINAL-URL:https://www.cacheinmedford.org
X-WR-CALDESC:Events for CACHE in Medford
REFRESH-INTERVAL;VALUE=DURATION:PT1H
X-Robots-Tag:noindex
X-PUBLISHED-TTL:PT1H
BEGIN:VTIMEZONE
TZID:America/New_York
BEGIN:DAYLIGHT
TZOFFSETFROM:-0500
TZOFFSETTO:-0400
TZNAME:EDT
DTSTART:20240310T070000
END:DAYLIGHT
BEGIN:STANDARD
TZOFFSETFROM:-0400
TZOFFSETTO:-0500
TZNAME:EST
DTSTART:20241103T060000
END:STANDARD
BEGIN:DAYLIGHT
TZOFFSETFROM:-0500
TZOFFSETTO:-0400
TZNAME:EDT
DTSTART:20250309T070000
END:DAYLIGHT
BEGIN:STANDARD
TZOFFSETFROM:-0400
TZOFFSETTO:-0500
TZNAME:EST
DTSTART:20251102T060000
END:STANDARD
BEGIN:DAYLIGHT
TZOFFSETFROM:-0500
TZOFFSETTO:-0400
TZNAME:EDT
DTSTART:20260308T070000
END:DAYLIGHT
BEGIN:STANDARD
TZOFFSETFROM:-0400
TZOFFSETTO:-0500
TZNAME:EST
DTSTART:20261101T060000
END:STANDARD
BEGIN:DAYLIGHT
TZOFFSETFROM:-0500
TZOFFSETTO:-0400
TZNAME:EDT
DTSTART:20270314T070000
END:DAYLIGHT
BEGIN:STANDARD
TZOFFSETFROM:-0400
TZOFFSETTO:-0500
TZNAME:EST
DTSTART:20271107T060000
END:STANDARD
END:VTIMEZONE
BEGIN:VEVENT
DTSTART;TZID=America/New_York:20260218T130000
DTEND;TZID=America/New_York:20260218T150000
DTSTAMP:20260422T154245
CREATED:20250921T164512Z
LAST-MODIFIED:20250921T164512Z
UID:10043327-1771419600-1771426800@www.cacheinmedford.org
SUMMARY:Senior Movie Viewing
DESCRIPTION:Enjoy a weekly film in the Senior Center library — relax\, socialize\, and unwind.
URL:https://www.cacheinmedford.org/event/senior-movie-viewing/2026-02-18/
LOCATION:Medford Senior Center\, 101 Riverside Ave.\, Medford\, MA\, 02155
GEO:42.4164422;-71.1059052
X-APPLE-STRUCTURED-LOCATION;VALUE=URI;X-ADDRESS=Medford Senior Center 101 Riverside Ave. Medford MA 02155;X-APPLE-RADIUS=500;X-TITLE=101 Riverside Ave.:geo:-71.1059052,42.4164422
END:VEVENT
BEGIN:VEVENT
DTSTART;TZID=America/New_York:20260213T094500
DTEND;TZID=America/New_York:20260213T113000
DTSTAMP:20260422T154245
CREATED:20250921T165045Z
LAST-MODIFIED:20250921T165200Z
UID:10043383-1770975900-1770982200@www.cacheinmedford.org
SUMMARY:Senior Ceramics at Clay Dreams with Rosemary
DESCRIPTION:Join Rosemary at Clay Dreams in Arlington for ceramics fun. Transportation available; van departs at 9:45 AM. $6 per class + cost of materials.
URL:https://www.cacheinmedford.org/event/senior-ceramics-at-clay-dreams-with-rosemary/2026-02-13/
LOCATION:Medford Senior Center\, 101 Riverside Ave.\, Medford\, MA\, 02155
GEO:42.4164422;-71.1059052
X-APPLE-STRUCTURED-LOCATION;VALUE=URI;X-ADDRESS=Medford Senior Center 101 Riverside Ave. Medford MA 02155;X-APPLE-RADIUS=500;X-TITLE=101 Riverside Ave.:geo:-71.1059052,42.4164422
END:VEVENT
BEGIN:VEVENT
DTSTART;TZID=America/New_York:20260211T130000
DTEND;TZID=America/New_York:20260211T150000
DTSTAMP:20260422T154245
CREATED:20250921T164512Z
LAST-MODIFIED:20250921T164512Z
UID:10043326-1770814800-1770822000@www.cacheinmedford.org
SUMMARY:Senior Movie Viewing
DESCRIPTION:Enjoy a weekly film in the Senior Center library — relax\, socialize\, and unwind.
URL:https://www.cacheinmedford.org/event/senior-movie-viewing/2026-02-11/
LOCATION:Medford Senior Center\, 101 Riverside Ave.\, Medford\, MA\, 02155
GEO:42.4164422;-71.1059052
X-APPLE-STRUCTURED-LOCATION;VALUE=URI;X-ADDRESS=Medford Senior Center 101 Riverside Ave. Medford MA 02155;X-APPLE-RADIUS=500;X-TITLE=101 Riverside Ave.:geo:-71.1059052,42.4164422
END:VEVENT
BEGIN:VEVENT
DTSTART;TZID=America/New_York:20260206T094500
DTEND;TZID=America/New_York:20260206T113000
DTSTAMP:20260422T154245
CREATED:20250921T165045Z
LAST-MODIFIED:20250921T165200Z
UID:10043382-1770371100-1770377400@www.cacheinmedford.org
SUMMARY:Senior Ceramics at Clay Dreams with Rosemary
DESCRIPTION:Join Rosemary at Clay Dreams in Arlington for ceramics fun. Transportation available; van departs at 9:45 AM. $6 per class + cost of materials.
URL:https://www.cacheinmedford.org/event/senior-ceramics-at-clay-dreams-with-rosemary/2026-02-06/
LOCATION:Medford Senior Center\, 101 Riverside Ave.\, Medford\, MA\, 02155
GEO:42.4164422;-71.1059052
X-APPLE-STRUCTURED-LOCATION;VALUE=URI;X-ADDRESS=Medford Senior Center 101 Riverside Ave. Medford MA 02155;X-APPLE-RADIUS=500;X-TITLE=101 Riverside Ave.:geo:-71.1059052,42.4164422
END:VEVENT
BEGIN:VEVENT
DTSTART;TZID=America/New_York:20260204T130000
DTEND;TZID=America/New_York:20260204T150000
DTSTAMP:20260422T154246
CREATED:20250921T164512Z
LAST-MODIFIED:20250921T164512Z
UID:10043325-1770210000-1770217200@www.cacheinmedford.org
SUMMARY:Senior Movie Viewing
DESCRIPTION:Enjoy a weekly film in the Senior Center library — relax\, socialize\, and unwind.
URL:https://www.cacheinmedford.org/event/senior-movie-viewing/2026-02-04/
LOCATION:Medford Senior Center\, 101 Riverside Ave.\, Medford\, MA\, 02155
GEO:42.4164422;-71.1059052
X-APPLE-STRUCTURED-LOCATION;VALUE=URI;X-ADDRESS=Medford Senior Center 101 Riverside Ave. Medford MA 02155;X-APPLE-RADIUS=500;X-TITLE=101 Riverside Ave.:geo:-71.1059052,42.4164422
END:VEVENT
BEGIN:VEVENT
DTSTART;TZID=America/New_York:20260130T094500
DTEND;TZID=America/New_York:20260130T113000
DTSTAMP:20260422T154246
CREATED:20250921T165045Z
LAST-MODIFIED:20250921T165200Z
UID:10043381-1769766300-1769772600@www.cacheinmedford.org
SUMMARY:Senior Ceramics at Clay Dreams with Rosemary
DESCRIPTION:Join Rosemary at Clay Dreams in Arlington for ceramics fun. Transportation available; van departs at 9:45 AM. $6 per class + cost of materials.
URL:https://www.cacheinmedford.org/event/senior-ceramics-at-clay-dreams-with-rosemary/2026-01-30/
LOCATION:Medford Senior Center\, 101 Riverside Ave.\, Medford\, MA\, 02155
GEO:42.4164422;-71.1059052
X-APPLE-STRUCTURED-LOCATION;VALUE=URI;X-ADDRESS=Medford Senior Center 101 Riverside Ave. Medford MA 02155;X-APPLE-RADIUS=500;X-TITLE=101 Riverside Ave.:geo:-71.1059052,42.4164422
END:VEVENT
BEGIN:VEVENT
DTSTART;TZID=America/New_York:20260128T130000
DTEND;TZID=America/New_York:20260128T150000
DTSTAMP:20260422T154246
CREATED:20250921T164512Z
LAST-MODIFIED:20250921T164512Z
UID:10043324-1769605200-1769612400@www.cacheinmedford.org
SUMMARY:Senior Movie Viewing
DESCRIPTION:Enjoy a weekly film in the Senior Center library — relax\, socialize\, and unwind.
URL:https://www.cacheinmedford.org/event/senior-movie-viewing/2026-01-28/
LOCATION:Medford Senior Center\, 101 Riverside Ave.\, Medford\, MA\, 02155
GEO:42.4164422;-71.1059052
X-APPLE-STRUCTURED-LOCATION;VALUE=URI;X-ADDRESS=Medford Senior Center 101 Riverside Ave. Medford MA 02155;X-APPLE-RADIUS=500;X-TITLE=101 Riverside Ave.:geo:-71.1059052,42.4164422
END:VEVENT
BEGIN:VEVENT
DTSTART;TZID=America/New_York:20260123T094500
DTEND;TZID=America/New_York:20260123T113000
DTSTAMP:20260422T154246
CREATED:20250921T165045Z
LAST-MODIFIED:20250921T165200Z
UID:10043380-1769161500-1769167800@www.cacheinmedford.org
SUMMARY:Senior Ceramics at Clay Dreams with Rosemary
DESCRIPTION:Join Rosemary at Clay Dreams in Arlington for ceramics fun. Transportation available; van departs at 9:45 AM. $6 per class + cost of materials.
URL:https://www.cacheinmedford.org/event/senior-ceramics-at-clay-dreams-with-rosemary/2026-01-23/
LOCATION:Medford Senior Center\, 101 Riverside Ave.\, Medford\, MA\, 02155
GEO:42.4164422;-71.1059052
X-APPLE-STRUCTURED-LOCATION;VALUE=URI;X-ADDRESS=Medford Senior Center 101 Riverside Ave. Medford MA 02155;X-APPLE-RADIUS=500;X-TITLE=101 Riverside Ave.:geo:-71.1059052,42.4164422
END:VEVENT
BEGIN:VEVENT
DTSTART;TZID=America/New_York:20260121T130000
DTEND;TZID=America/New_York:20260121T150000
DTSTAMP:20260422T154246
CREATED:20250921T164512Z
LAST-MODIFIED:20250921T164512Z
UID:10043323-1769000400-1769007600@www.cacheinmedford.org
SUMMARY:Senior Movie Viewing
DESCRIPTION:Enjoy a weekly film in the Senior Center library — relax\, socialize\, and unwind.
URL:https://www.cacheinmedford.org/event/senior-movie-viewing/2026-01-21/
LOCATION:Medford Senior Center\, 101 Riverside Ave.\, Medford\, MA\, 02155
GEO:42.4164422;-71.1059052
X-APPLE-STRUCTURED-LOCATION;VALUE=URI;X-ADDRESS=Medford Senior Center 101 Riverside Ave. Medford MA 02155;X-APPLE-RADIUS=500;X-TITLE=101 Riverside Ave.:geo:-71.1059052,42.4164422
END:VEVENT
BEGIN:VEVENT
DTSTART;TZID=America/New_York:20260116T094500
DTEND;TZID=America/New_York:20260116T113000
DTSTAMP:20260422T154246
CREATED:20250921T165045Z
LAST-MODIFIED:20250921T165200Z
UID:10043379-1768556700-1768563000@www.cacheinmedford.org
SUMMARY:Senior Ceramics at Clay Dreams with Rosemary
DESCRIPTION:Join Rosemary at Clay Dreams in Arlington for ceramics fun. Transportation available; van departs at 9:45 AM. $6 per class + cost of materials.
URL:https://www.cacheinmedford.org/event/senior-ceramics-at-clay-dreams-with-rosemary/2026-01-16/
LOCATION:Medford Senior Center\, 101 Riverside Ave.\, Medford\, MA\, 02155
GEO:42.4164422;-71.1059052
X-APPLE-STRUCTURED-LOCATION;VALUE=URI;X-ADDRESS=Medford Senior Center 101 Riverside Ave. Medford MA 02155;X-APPLE-RADIUS=500;X-TITLE=101 Riverside Ave.:geo:-71.1059052,42.4164422
END:VEVENT
BEGIN:VEVENT
DTSTART;TZID=America/New_York:20260114T130000
DTEND;TZID=America/New_York:20260114T150000
DTSTAMP:20260422T154246
CREATED:20250921T164512Z
LAST-MODIFIED:20250921T164512Z
UID:10043322-1768395600-1768402800@www.cacheinmedford.org
SUMMARY:Senior Movie Viewing
DESCRIPTION:Enjoy a weekly film in the Senior Center library — relax\, socialize\, and unwind.
URL:https://www.cacheinmedford.org/event/senior-movie-viewing/2026-01-14/
LOCATION:Medford Senior Center\, 101 Riverside Ave.\, Medford\, MA\, 02155
GEO:42.4164422;-71.1059052
X-APPLE-STRUCTURED-LOCATION;VALUE=URI;X-ADDRESS=Medford Senior Center 101 Riverside Ave. Medford MA 02155;X-APPLE-RADIUS=500;X-TITLE=101 Riverside Ave.:geo:-71.1059052,42.4164422
END:VEVENT
BEGIN:VEVENT
DTSTART;TZID=America/New_York:20260109T094500
DTEND;TZID=America/New_York:20260109T113000
DTSTAMP:20260422T154246
CREATED:20250921T165045Z
LAST-MODIFIED:20250921T165200Z
UID:10043378-1767951900-1767958200@www.cacheinmedford.org
SUMMARY:Senior Ceramics at Clay Dreams with Rosemary
DESCRIPTION:Join Rosemary at Clay Dreams in Arlington for ceramics fun. Transportation available; van departs at 9:45 AM. $6 per class + cost of materials.
URL:https://www.cacheinmedford.org/event/senior-ceramics-at-clay-dreams-with-rosemary/2026-01-09/
LOCATION:Medford Senior Center\, 101 Riverside Ave.\, Medford\, MA\, 02155
GEO:42.4164422;-71.1059052
X-APPLE-STRUCTURED-LOCATION;VALUE=URI;X-ADDRESS=Medford Senior Center 101 Riverside Ave. Medford MA 02155;X-APPLE-RADIUS=500;X-TITLE=101 Riverside Ave.:geo:-71.1059052,42.4164422
END:VEVENT
BEGIN:VEVENT
DTSTART;TZID=America/New_York:20260107T130000
DTEND;TZID=America/New_York:20260107T150000
DTSTAMP:20260422T154246
CREATED:20250921T164512Z
LAST-MODIFIED:20250921T164512Z
UID:10043321-1767790800-1767798000@www.cacheinmedford.org
SUMMARY:Senior Movie Viewing
DESCRIPTION:Enjoy a weekly film in the Senior Center library — relax\, socialize\, and unwind.
URL:https://www.cacheinmedford.org/event/senior-movie-viewing/2026-01-07/
LOCATION:Medford Senior Center\, 101 Riverside Ave.\, Medford\, MA\, 02155
GEO:42.4164422;-71.1059052
X-APPLE-STRUCTURED-LOCATION;VALUE=URI;X-ADDRESS=Medford Senior Center 101 Riverside Ave. Medford MA 02155;X-APPLE-RADIUS=500;X-TITLE=101 Riverside Ave.:geo:-71.1059052,42.4164422
END:VEVENT
BEGIN:VEVENT
DTSTART;TZID=America/New_York:20260102T094500
DTEND;TZID=America/New_York:20260102T113000
DTSTAMP:20260422T154246
CREATED:20250921T165045Z
LAST-MODIFIED:20250921T165200Z
UID:10043377-1767347100-1767353400@www.cacheinmedford.org
SUMMARY:Senior Ceramics at Clay Dreams with Rosemary
DESCRIPTION:Join Rosemary at Clay Dreams in Arlington for ceramics fun. Transportation available; van departs at 9:45 AM. $6 per class + cost of materials.
URL:https://www.cacheinmedford.org/event/senior-ceramics-at-clay-dreams-with-rosemary/2026-01-02/
LOCATION:Medford Senior Center\, 101 Riverside Ave.\, Medford\, MA\, 02155
GEO:42.4164422;-71.1059052
X-APPLE-STRUCTURED-LOCATION;VALUE=URI;X-ADDRESS=Medford Senior Center 101 Riverside Ave. Medford MA 02155;X-APPLE-RADIUS=500;X-TITLE=101 Riverside Ave.:geo:-71.1059052,42.4164422
END:VEVENT
BEGIN:VEVENT
DTSTART;TZID=America/New_York:20251231T130000
DTEND;TZID=America/New_York:20251231T150000
DTSTAMP:20260422T154246
CREATED:20250921T164512Z
LAST-MODIFIED:20250921T164512Z
UID:10043320-1767186000-1767193200@www.cacheinmedford.org
SUMMARY:Senior Movie Viewing
DESCRIPTION:Enjoy a weekly film in the Senior Center library — relax\, socialize\, and unwind.
URL:https://www.cacheinmedford.org/event/senior-movie-viewing/2025-12-31/
LOCATION:Medford Senior Center\, 101 Riverside Ave.\, Medford\, MA\, 02155
GEO:42.4164422;-71.1059052
X-APPLE-STRUCTURED-LOCATION;VALUE=URI;X-ADDRESS=Medford Senior Center 101 Riverside Ave. Medford MA 02155;X-APPLE-RADIUS=500;X-TITLE=101 Riverside Ave.:geo:-71.1059052,42.4164422
END:VEVENT
BEGIN:VEVENT
DTSTART;TZID=America/New_York:20251226T094500
DTEND;TZID=America/New_York:20251226T113000
DTSTAMP:20260422T154246
CREATED:20250921T165045Z
LAST-MODIFIED:20250921T165200Z
UID:10043376-1766742300-1766748600@www.cacheinmedford.org
SUMMARY:Senior Ceramics at Clay Dreams with Rosemary
DESCRIPTION:Join Rosemary at Clay Dreams in Arlington for ceramics fun. Transportation available; van departs at 9:45 AM. $6 per class + cost of materials.
URL:https://www.cacheinmedford.org/event/senior-ceramics-at-clay-dreams-with-rosemary/2025-12-26/
LOCATION:Medford Senior Center\, 101 Riverside Ave.\, Medford\, MA\, 02155
GEO:42.4164422;-71.1059052
X-APPLE-STRUCTURED-LOCATION;VALUE=URI;X-ADDRESS=Medford Senior Center 101 Riverside Ave. Medford MA 02155;X-APPLE-RADIUS=500;X-TITLE=101 Riverside Ave.:geo:-71.1059052,42.4164422
END:VEVENT
BEGIN:VEVENT
DTSTART;TZID=America/New_York:20251224T130000
DTEND;TZID=America/New_York:20251224T150000
DTSTAMP:20260422T154246
CREATED:20250921T164512Z
LAST-MODIFIED:20250921T164512Z
UID:10043319-1766581200-1766588400@www.cacheinmedford.org
SUMMARY:Senior Movie Viewing
DESCRIPTION:Enjoy a weekly film in the Senior Center library — relax\, socialize\, and unwind.
URL:https://www.cacheinmedford.org/event/senior-movie-viewing/2025-12-24/
LOCATION:Medford Senior Center\, 101 Riverside Ave.\, Medford\, MA\, 02155
GEO:42.4164422;-71.1059052
X-APPLE-STRUCTURED-LOCATION;VALUE=URI;X-ADDRESS=Medford Senior Center 101 Riverside Ave. Medford MA 02155;X-APPLE-RADIUS=500;X-TITLE=101 Riverside Ave.:geo:-71.1059052,42.4164422
END:VEVENT
BEGIN:VEVENT
DTSTART;TZID=America/New_York:20251219T094500
DTEND;TZID=America/New_York:20251219T113000
DTSTAMP:20260422T154246
CREATED:20250921T165045Z
LAST-MODIFIED:20250921T165200Z
UID:10043375-1766137500-1766143800@www.cacheinmedford.org
SUMMARY:Senior Ceramics at Clay Dreams with Rosemary
DESCRIPTION:Join Rosemary at Clay Dreams in Arlington for ceramics fun. Transportation available; van departs at 9:45 AM. $6 per class + cost of materials.
URL:https://www.cacheinmedford.org/event/senior-ceramics-at-clay-dreams-with-rosemary/2025-12-19/
LOCATION:Medford Senior Center\, 101 Riverside Ave.\, Medford\, MA\, 02155
GEO:42.4164422;-71.1059052
X-APPLE-STRUCTURED-LOCATION;VALUE=URI;X-ADDRESS=Medford Senior Center 101 Riverside Ave. Medford MA 02155;X-APPLE-RADIUS=500;X-TITLE=101 Riverside Ave.:geo:-71.1059052,42.4164422
END:VEVENT
BEGIN:VEVENT
DTSTART;TZID=America/New_York:20251217T130000
DTEND;TZID=America/New_York:20251217T150000
DTSTAMP:20260422T154246
CREATED:20250921T164512Z
LAST-MODIFIED:20250921T164512Z
UID:10043318-1765976400-1765983600@www.cacheinmedford.org
SUMMARY:Senior Movie Viewing
DESCRIPTION:Enjoy a weekly film in the Senior Center library — relax\, socialize\, and unwind.
URL:https://www.cacheinmedford.org/event/senior-movie-viewing/2025-12-17/
LOCATION:Medford Senior Center\, 101 Riverside Ave.\, Medford\, MA\, 02155
GEO:42.4164422;-71.1059052
X-APPLE-STRUCTURED-LOCATION;VALUE=URI;X-ADDRESS=Medford Senior Center 101 Riverside Ave. Medford MA 02155;X-APPLE-RADIUS=500;X-TITLE=101 Riverside Ave.:geo:-71.1059052,42.4164422
END:VEVENT
BEGIN:VEVENT
DTSTART;TZID=America/New_York:20251212T094500
DTEND;TZID=America/New_York:20251212T113000
DTSTAMP:20260422T154246
CREATED:20250921T165045Z
LAST-MODIFIED:20250921T165200Z
UID:10043374-1765532700-1765539000@www.cacheinmedford.org
SUMMARY:Senior Ceramics at Clay Dreams with Rosemary
DESCRIPTION:Join Rosemary at Clay Dreams in Arlington for ceramics fun. Transportation available; van departs at 9:45 AM. $6 per class + cost of materials.
URL:https://www.cacheinmedford.org/event/senior-ceramics-at-clay-dreams-with-rosemary/2025-12-12/
LOCATION:Medford Senior Center\, 101 Riverside Ave.\, Medford\, MA\, 02155
GEO:42.4164422;-71.1059052
X-APPLE-STRUCTURED-LOCATION;VALUE=URI;X-ADDRESS=Medford Senior Center 101 Riverside Ave. Medford MA 02155;X-APPLE-RADIUS=500;X-TITLE=101 Riverside Ave.:geo:-71.1059052,42.4164422
END:VEVENT
BEGIN:VEVENT
DTSTART;TZID=America/New_York:20251210T130000
DTEND;TZID=America/New_York:20251210T150000
DTSTAMP:20260422T154246
CREATED:20250921T164512Z
LAST-MODIFIED:20250921T164512Z
UID:10043317-1765371600-1765378800@www.cacheinmedford.org
SUMMARY:Senior Movie Viewing
DESCRIPTION:Enjoy a weekly film in the Senior Center library — relax\, socialize\, and unwind.
URL:https://www.cacheinmedford.org/event/senior-movie-viewing/2025-12-10/
LOCATION:Medford Senior Center\, 101 Riverside Ave.\, Medford\, MA\, 02155
GEO:42.4164422;-71.1059052
X-APPLE-STRUCTURED-LOCATION;VALUE=URI;X-ADDRESS=Medford Senior Center 101 Riverside Ave. Medford MA 02155;X-APPLE-RADIUS=500;X-TITLE=101 Riverside Ave.:geo:-71.1059052,42.4164422
END:VEVENT
BEGIN:VEVENT
DTSTART;TZID=America/New_York:20251205T094500
DTEND;TZID=America/New_York:20251205T113000
DTSTAMP:20260422T154246
CREATED:20250921T165045Z
LAST-MODIFIED:20250921T165200Z
UID:10043373-1764927900-1764934200@www.cacheinmedford.org
SUMMARY:Senior Ceramics at Clay Dreams with Rosemary
DESCRIPTION:Join Rosemary at Clay Dreams in Arlington for ceramics fun. Transportation available; van departs at 9:45 AM. $6 per class + cost of materials.
URL:https://www.cacheinmedford.org/event/senior-ceramics-at-clay-dreams-with-rosemary/2025-12-05/
LOCATION:Medford Senior Center\, 101 Riverside Ave.\, Medford\, MA\, 02155
GEO:42.4164422;-71.1059052
X-APPLE-STRUCTURED-LOCATION;VALUE=URI;X-ADDRESS=Medford Senior Center 101 Riverside Ave. Medford MA 02155;X-APPLE-RADIUS=500;X-TITLE=101 Riverside Ave.:geo:-71.1059052,42.4164422
END:VEVENT
BEGIN:VEVENT
DTSTART;TZID=America/New_York:20251203T130000
DTEND;TZID=America/New_York:20251203T150000
DTSTAMP:20260422T154246
CREATED:20250921T164512Z
LAST-MODIFIED:20250921T164512Z
UID:10043316-1764766800-1764774000@www.cacheinmedford.org
SUMMARY:Senior Movie Viewing
DESCRIPTION:Enjoy a weekly film in the Senior Center library — relax\, socialize\, and unwind.
URL:https://www.cacheinmedford.org/event/senior-movie-viewing/2025-12-03/
LOCATION:Medford Senior Center\, 101 Riverside Ave.\, Medford\, MA\, 02155
GEO:42.4164422;-71.1059052
X-APPLE-STRUCTURED-LOCATION;VALUE=URI;X-ADDRESS=Medford Senior Center 101 Riverside Ave. Medford MA 02155;X-APPLE-RADIUS=500;X-TITLE=101 Riverside Ave.:geo:-71.1059052,42.4164422
END:VEVENT
BEGIN:VEVENT
DTSTART;TZID=America/New_York:20251128T094500
DTEND;TZID=America/New_York:20251128T113000
DTSTAMP:20260422T154246
CREATED:20250921T165045Z
LAST-MODIFIED:20250921T165200Z
UID:10043372-1764323100-1764329400@www.cacheinmedford.org
SUMMARY:Senior Ceramics at Clay Dreams with Rosemary
DESCRIPTION:Join Rosemary at Clay Dreams in Arlington for ceramics fun. Transportation available; van departs at 9:45 AM. $6 per class + cost of materials.
URL:https://www.cacheinmedford.org/event/senior-ceramics-at-clay-dreams-with-rosemary/2025-11-28/
LOCATION:Medford Senior Center\, 101 Riverside Ave.\, Medford\, MA\, 02155
GEO:42.4164422;-71.1059052
X-APPLE-STRUCTURED-LOCATION;VALUE=URI;X-ADDRESS=Medford Senior Center 101 Riverside Ave. Medford MA 02155;X-APPLE-RADIUS=500;X-TITLE=101 Riverside Ave.:geo:-71.1059052,42.4164422
END:VEVENT
BEGIN:VEVENT
DTSTART;TZID=America/New_York:20251126T130000
DTEND;TZID=America/New_York:20251126T150000
DTSTAMP:20260422T154246
CREATED:20250921T164512Z
LAST-MODIFIED:20250921T164512Z
UID:10043315-1764162000-1764169200@www.cacheinmedford.org
SUMMARY:Senior Movie Viewing
DESCRIPTION:Enjoy a weekly film in the Senior Center library — relax\, socialize\, and unwind.
URL:https://www.cacheinmedford.org/event/senior-movie-viewing/2025-11-26/
LOCATION:Medford Senior Center\, 101 Riverside Ave.\, Medford\, MA\, 02155
GEO:42.4164422;-71.1059052
X-APPLE-STRUCTURED-LOCATION;VALUE=URI;X-ADDRESS=Medford Senior Center 101 Riverside Ave. Medford MA 02155;X-APPLE-RADIUS=500;X-TITLE=101 Riverside Ave.:geo:-71.1059052,42.4164422
END:VEVENT
BEGIN:VEVENT
DTSTART;TZID=America/New_York:20251121T094500
DTEND;TZID=America/New_York:20251121T113000
DTSTAMP:20260422T154246
CREATED:20250921T165045Z
LAST-MODIFIED:20250921T165200Z
UID:10043371-1763718300-1763724600@www.cacheinmedford.org
SUMMARY:Senior Ceramics at Clay Dreams with Rosemary
DESCRIPTION:Join Rosemary at Clay Dreams in Arlington for ceramics fun. Transportation available; van departs at 9:45 AM. $6 per class + cost of materials.
URL:https://www.cacheinmedford.org/event/senior-ceramics-at-clay-dreams-with-rosemary/2025-11-21/
LOCATION:Medford Senior Center\, 101 Riverside Ave.\, Medford\, MA\, 02155
GEO:42.4164422;-71.1059052
X-APPLE-STRUCTURED-LOCATION;VALUE=URI;X-ADDRESS=Medford Senior Center 101 Riverside Ave. Medford MA 02155;X-APPLE-RADIUS=500;X-TITLE=101 Riverside Ave.:geo:-71.1059052,42.4164422
END:VEVENT
BEGIN:VEVENT
DTSTART;TZID=America/New_York:20251119T130000
DTEND;TZID=America/New_York:20251119T150000
DTSTAMP:20260422T154246
CREATED:20250921T164512Z
LAST-MODIFIED:20250921T164512Z
UID:10043314-1763557200-1763564400@www.cacheinmedford.org
SUMMARY:Senior Movie Viewing
DESCRIPTION:Enjoy a weekly film in the Senior Center library — relax\, socialize\, and unwind.
URL:https://www.cacheinmedford.org/event/senior-movie-viewing/2025-11-19/
LOCATION:Medford Senior Center\, 101 Riverside Ave.\, Medford\, MA\, 02155
GEO:42.4164422;-71.1059052
X-APPLE-STRUCTURED-LOCATION;VALUE=URI;X-ADDRESS=Medford Senior Center 101 Riverside Ave. Medford MA 02155;X-APPLE-RADIUS=500;X-TITLE=101 Riverside Ave.:geo:-71.1059052,42.4164422
END:VEVENT
BEGIN:VEVENT
DTSTART;TZID=America/New_York:20251114T094500
DTEND;TZID=America/New_York:20251114T113000
DTSTAMP:20260422T154246
CREATED:20250921T165045Z
LAST-MODIFIED:20250921T165200Z
UID:10043370-1763113500-1763119800@www.cacheinmedford.org
SUMMARY:Senior Ceramics at Clay Dreams with Rosemary
DESCRIPTION:Join Rosemary at Clay Dreams in Arlington for ceramics fun. Transportation available; van departs at 9:45 AM. $6 per class + cost of materials.
URL:https://www.cacheinmedford.org/event/senior-ceramics-at-clay-dreams-with-rosemary/2025-11-14/
LOCATION:Medford Senior Center\, 101 Riverside Ave.\, Medford\, MA\, 02155
GEO:42.4164422;-71.1059052
X-APPLE-STRUCTURED-LOCATION;VALUE=URI;X-ADDRESS=Medford Senior Center 101 Riverside Ave. Medford MA 02155;X-APPLE-RADIUS=500;X-TITLE=101 Riverside Ave.:geo:-71.1059052,42.4164422
END:VEVENT
BEGIN:VEVENT
DTSTART;TZID=America/New_York:20251112T130000
DTEND;TZID=America/New_York:20251112T150000
DTSTAMP:20260422T154246
CREATED:20250921T164512Z
LAST-MODIFIED:20250921T164512Z
UID:10043313-1762952400-1762959600@www.cacheinmedford.org
SUMMARY:Senior Movie Viewing
DESCRIPTION:Enjoy a weekly film in the Senior Center library — relax\, socialize\, and unwind.
URL:https://www.cacheinmedford.org/event/senior-movie-viewing/2025-11-12/
LOCATION:Medford Senior Center\, 101 Riverside Ave.\, Medford\, MA\, 02155
GEO:42.4164422;-71.1059052
X-APPLE-STRUCTURED-LOCATION;VALUE=URI;X-ADDRESS=Medford Senior Center 101 Riverside Ave. Medford MA 02155;X-APPLE-RADIUS=500;X-TITLE=101 Riverside Ave.:geo:-71.1059052,42.4164422
END:VEVENT
BEGIN:VEVENT
DTSTART;TZID=America/New_York:20251107T094500
DTEND;TZID=America/New_York:20251107T113000
DTSTAMP:20260422T154246
CREATED:20250921T165045Z
LAST-MODIFIED:20250921T165200Z
UID:10043369-1762508700-1762515000@www.cacheinmedford.org
SUMMARY:Senior Ceramics at Clay Dreams with Rosemary
DESCRIPTION:Join Rosemary at Clay Dreams in Arlington for ceramics fun. Transportation available; van departs at 9:45 AM. $6 per class + cost of materials.
URL:https://www.cacheinmedford.org/event/senior-ceramics-at-clay-dreams-with-rosemary/2025-11-07/
LOCATION:Medford Senior Center\, 101 Riverside Ave.\, Medford\, MA\, 02155
GEO:42.4164422;-71.1059052
X-APPLE-STRUCTURED-LOCATION;VALUE=URI;X-ADDRESS=Medford Senior Center 101 Riverside Ave. Medford MA 02155;X-APPLE-RADIUS=500;X-TITLE=101 Riverside Ave.:geo:-71.1059052,42.4164422
END:VEVENT
END:VCALENDAR