BEGIN:VCALENDAR
VERSION:2.0
PRODID:-//CACHE in Medford - ECPv6.15.18//NONSGML v1.0//EN
CALSCALE:GREGORIAN
METHOD:PUBLISH
X-WR-CALNAME:CACHE in Medford
X-ORIGINAL-URL:https://www.cacheinmedford.org
X-WR-CALDESC:Events for CACHE in Medford
REFRESH-INTERVAL;VALUE=DURATION:PT1H
X-Robots-Tag:noindex
X-PUBLISHED-TTL:PT1H
BEGIN:VTIMEZONE
TZID:America/New_York
BEGIN:DAYLIGHT
TZOFFSETFROM:-0500
TZOFFSETTO:-0400
TZNAME:EDT
DTSTART:20220313T070000
END:DAYLIGHT
BEGIN:STANDARD
TZOFFSETFROM:-0400
TZOFFSETTO:-0500
TZNAME:EST
DTSTART:20221106T060000
END:STANDARD
BEGIN:DAYLIGHT
TZOFFSETFROM:-0500
TZOFFSETTO:-0400
TZNAME:EDT
DTSTART:20230312T070000
END:DAYLIGHT
BEGIN:STANDARD
TZOFFSETFROM:-0400
TZOFFSETTO:-0500
TZNAME:EST
DTSTART:20231105T060000
END:STANDARD
BEGIN:DAYLIGHT
TZOFFSETFROM:-0500
TZOFFSETTO:-0400
TZNAME:EDT
DTSTART:20240310T070000
END:DAYLIGHT
BEGIN:STANDARD
TZOFFSETFROM:-0400
TZOFFSETTO:-0500
TZNAME:EST
DTSTART:20241103T060000
END:STANDARD
BEGIN:DAYLIGHT
TZOFFSETFROM:-0500
TZOFFSETTO:-0400
TZNAME:EDT
DTSTART:20250309T070000
END:DAYLIGHT
BEGIN:STANDARD
TZOFFSETFROM:-0400
TZOFFSETTO:-0500
TZNAME:EST
DTSTART:20251102T060000
END:STANDARD
END:VTIMEZONE
BEGIN:VEVENT
DTSTART;TZID=America/New_York:20240629T120000
DTEND;TZID=America/New_York:20240629T170000
DTSTAMP:20260422T084146
CREATED:20240603T024342Z
LAST-MODIFIED:20240603T024531Z
UID:10038871-1719662400-1719680400@www.cacheinmedford.org
SUMMARY:Small Mart Market at Deep Cuts
DESCRIPTION:Deep Cuts is hosting its third Small Mart\, presented by High Energy Vintage of Somerville and Existential Thread Co. of Providence. The market will feature a curated selection of local artisans\, vintage\, records sellers\, makers and crafters. The Small Mart marketplace has a sense of humor and wants to turn the idea of the big box store on its head by empowering local businesses to come together to create a space of accessibility for a thoughtful shopper. Free admission; RSVP through Eventbrite.
URL:https://www.cacheinmedford.org/event/small-mart-market-at-deep-cuts-6-29/
LOCATION:Deep Cuts Brewery\, 21 Main St.\, Medford\, MA\, 02155\, United States
CATEGORIES:Other
ORGANIZER;CN="Deep Cuts Brewery":MAILTO:showlove@deepcuts.rocks
GEO:42.417912;-71.110156
X-APPLE-STRUCTURED-LOCATION;VALUE=URI;X-ADDRESS=Deep Cuts Brewery 21 Main St. Medford MA 02155 United States;X-APPLE-RADIUS=500;X-TITLE=21 Main St.:geo:-71.110156,42.417912
END:VEVENT
BEGIN:VEVENT
DTSTART;TZID=America/New_York:20240413T120000
DTEND;TZID=America/New_York:20240413T170000
DTSTAMP:20260422T084146
CREATED:20240325T024008Z
LAST-MODIFIED:20240325T024535Z
UID:10038518-1713009600-1713027600@www.cacheinmedford.org
SUMMARY:Small Mart Market at Deep Cuts
DESCRIPTION:Deep Cuts is hosting its second Small Mart\, presented by High Energy Vintage of Somerville and Existential Thread Co. of Providence. The market will feature a curated selection of local artisans\, vintage\, records sellers\, makers and crafters. The Small Mart marketplace has a sense of humor and wants to turn the idea of the big box store on its head by empowering local businesses to come together to create a space of accessibility for a thoughtful shopper.  Free admission; RSVP through Eventbrite.
URL:https://www.cacheinmedford.org/event/small-mart-market-at-deep-cuts/
LOCATION:Deep Cuts Brewery\, 21 Main St.\, Medford\, MA\, 02155\, United States
CATEGORIES:Other
ORGANIZER;CN="Deep Cuts Brewery":MAILTO:showlove@deepcuts.rocks
GEO:42.417912;-71.110156
X-APPLE-STRUCTURED-LOCATION;VALUE=URI;X-ADDRESS=Deep Cuts Brewery 21 Main St. Medford MA 02155 United States;X-APPLE-RADIUS=500;X-TITLE=21 Main St.:geo:-71.110156,42.417912
END:VEVENT
BEGIN:VEVENT
DTSTART;TZID=America/New_York:20231216T120000
DTEND;TZID=America/New_York:20231216T170000
DTSTAMP:20260422T084146
CREATED:20231129T174416Z
LAST-MODIFIED:20231129T175446Z
UID:10034144-1702728000-1702746000@www.cacheinmedford.org
SUMMARY:Small Mart Holiday Market at Deep Cuts
DESCRIPTION:Deep Cuts is hosting a Small Mart Holiday Market presented by High Energy Vintage of Somerville and Existential Thread Co. of Providence. The curated market will feature more than 20 artisans\, vintage\, makers and experiential vendors. Small Mart has a sense of humor and wants to turn the idea of the big box store on its head by empowering local businesses to come together to create a space of accessibility for a thoughtful shopper. Vendors have been carefully chosen and their goods are unique and small batch. Free admission; reserve your spot through Eventbrite.
URL:https://www.cacheinmedford.org/event/small-mart-holiday-market-at-deep-cuts/
LOCATION:Deep Cuts Brewery\, 21 Main St.\, Medford\, MA\, 02155\, United States
ORGANIZER;CN="Deep Cuts Brewery":MAILTO:showlove@deepcuts.rocks
GEO:42.417912;-71.110156
X-APPLE-STRUCTURED-LOCATION;VALUE=URI;X-ADDRESS=Deep Cuts Brewery 21 Main St. Medford MA 02155 United States;X-APPLE-RADIUS=500;X-TITLE=21 Main St.:geo:-71.110156,42.417912
END:VEVENT
END:VCALENDAR