BEGIN:VCALENDAR
VERSION:2.0
PRODID:-//CACHE in Medford - ECPv6.15.18//NONSGML v1.0//EN
CALSCALE:GREGORIAN
METHOD:PUBLISH
X-WR-CALNAME:CACHE in Medford
X-ORIGINAL-URL:https://www.cacheinmedford.org
X-WR-CALDESC:Events for CACHE in Medford
REFRESH-INTERVAL;VALUE=DURATION:PT1H
X-Robots-Tag:noindex
X-PUBLISHED-TTL:PT1H
BEGIN:VTIMEZONE
TZID:America/New_York
BEGIN:DAYLIGHT
TZOFFSETFROM:-0500
TZOFFSETTO:-0400
TZNAME:EDT
DTSTART:20220313T070000
END:DAYLIGHT
BEGIN:STANDARD
TZOFFSETFROM:-0400
TZOFFSETTO:-0500
TZNAME:EST
DTSTART:20221106T060000
END:STANDARD
BEGIN:DAYLIGHT
TZOFFSETFROM:-0500
TZOFFSETTO:-0400
TZNAME:EDT
DTSTART:20230312T070000
END:DAYLIGHT
BEGIN:STANDARD
TZOFFSETFROM:-0400
TZOFFSETTO:-0500
TZNAME:EST
DTSTART:20231105T060000
END:STANDARD
BEGIN:DAYLIGHT
TZOFFSETFROM:-0500
TZOFFSETTO:-0400
TZNAME:EDT
DTSTART:20240310T070000
END:DAYLIGHT
BEGIN:STANDARD
TZOFFSETFROM:-0400
TZOFFSETTO:-0500
TZNAME:EST
DTSTART:20241103T060000
END:STANDARD
BEGIN:DAYLIGHT
TZOFFSETFROM:-0500
TZOFFSETTO:-0400
TZNAME:EDT
DTSTART:20250309T070000
END:DAYLIGHT
BEGIN:STANDARD
TZOFFSETFROM:-0400
TZOFFSETTO:-0500
TZNAME:EST
DTSTART:20251102T060000
END:STANDARD
END:VTIMEZONE
BEGIN:VEVENT
DTSTART;TZID=America/New_York:20240121T150000
DTEND;TZID=America/New_York:20240121T190000
DTSTAMP:20260421T180154
CREATED:20240107T032908Z
LAST-MODIFIED:20240107T032908Z
UID:10034268-1705849200-1705863600@www.cacheinmedford.org
SUMMARY:Winter Spark: Family Fun Gathering
DESCRIPTION:The Medford Family Network is offering a fresh way to connect families in Medford and let kids unleash their energy on winter afternoons — Winter Spark: Family Fun Gathering at EventThem Studios. Experience a delightful dance party and dive into supervised creative crafts led by local volunteers. Drinks will be available to purchase\, including beer\, wine\, and kids options. Food options will be available\, but feel free to bring your own as well. There will be two time slots\, 3 to 5 p.m. and 5 to 7 p.m. Tickets ($5) are needed for each person in attendance\, children 2 and under are free. Order tickets\, as well as food items (pizza\, chicken fingers\, salad)\, through the event web page.
URL:https://www.cacheinmedford.org/event/winter-spark-family-fun-gathering/
LOCATION:EventThem Studios\, 344 Salem St.\, Medford\, MA\, 02155\, United States
CATEGORIES:Family Programs
ORGANIZER;CN="Medford Family Network":MAILTO:mcassidy@medford.k12.ma.us
GEO:42.4218199;-71.0966138
X-APPLE-STRUCTURED-LOCATION;VALUE=URI;X-ADDRESS=EventThem Studios 344 Salem St. Medford MA 02155 United States;X-APPLE-RADIUS=500;X-TITLE=344 Salem St.:geo:-71.0966138,42.4218199
END:VEVENT
BEGIN:VEVENT
DTSTART;TZID=America/New_York:20240117T180000
DTEND;TZID=America/New_York:20240117T180000
DTSTAMP:20260421T180154
CREATED:20240117T032042Z
LAST-MODIFIED:20240117T032432Z
UID:10034308-1705514400-1705514400@www.cacheinmedford.org
SUMMARY:Gallery Talk: JJ Gonson Photographer
DESCRIPTION:An exhibit of photos by JJ Gonson\, a prolific photographer of musicians and bands from the 1980s and ’90s\, has been extended into the new year at the EventThem Studios Gallery. And by popular demand\, this evening Gonson will present another talk about her experience shooting bands and her history with touring and photography. Regular gallery hours are 10 a.m. to 6 p.m.\, Monday through Friday.
URL:https://www.cacheinmedford.org/event/gallery-talk-jj-gonson-1-17/
LOCATION:EventThem Studios\, 344 Salem St.\, Medford\, MA\, 02155\, United States
CATEGORIES:Exhibits
ORGANIZER;CN="EventThem Studios":MAILTO:bryan@eventthem.com
GEO:42.4218199;-71.0966138
X-APPLE-STRUCTURED-LOCATION;VALUE=URI;X-ADDRESS=EventThem Studios 344 Salem St. Medford MA 02155 United States;X-APPLE-RADIUS=500;X-TITLE=344 Salem St.:geo:-71.0966138,42.4218199
END:VEVENT
BEGIN:VEVENT
DTSTART;TZID=America/New_York:20231220T180000
DTEND;TZID=America/New_York:20231220T213000
DTSTAMP:20260421T180154
CREATED:20231116T132640Z
LAST-MODIFIED:20231218T063607Z
UID:10037986-1703095200-1703107800@www.cacheinmedford.org
SUMMARY:Gallery Talk and Closing Party: JJ Gonson Photographer
DESCRIPTION:An exhibit of photos by JJ Gonson\, a prolific photographer of musicians and bands from the 1980s and ’90s\, is hanging at the EventThem Studios Gallery through December. Stop by this evening to hear the artist talk about her experience shooting bands and her history with touring and photography. After that there will be snacks and entertainment\, including music by Ezra Furman\, until about 9:30 p.m. Merchandise will be available for purchase. Regular gallery hours are 10 a.m. to 6 p.m.\, Monday through Friday. \nNote: This event was rescheduled from its original date of December 1.
URL:https://www.cacheinmedford.org/event/gallery-talk-jj-gonson-photographer/
LOCATION:EventThem Studios\, 344 Salem St.\, Medford\, MA\, 02155\, United States
CATEGORIES:Exhibits
ORGANIZER;CN="EventThem Studios":MAILTO:bryan@eventthem.com
GEO:42.4218199;-71.0966138
X-APPLE-STRUCTURED-LOCATION;VALUE=URI;X-ADDRESS=EventThem Studios 344 Salem St. Medford MA 02155 United States;X-APPLE-RADIUS=500;X-TITLE=344 Salem St.:geo:-71.0966138,42.4218199
END:VEVENT
BEGIN:VEVENT
DTSTART;TZID=America/New_York:20231208T190000
DTEND;TZID=America/New_York:20231208T190000
DTSTAMP:20260421T180154
CREATED:20231204T211452Z
LAST-MODIFIED:20231204T211452Z
UID:10038112-1702062000-1702062000@www.cacheinmedford.org
SUMMARY:Book Release and Signing: Destany Starr Rodriguez - Temperance
DESCRIPTION:EventThem Studios is hosting a book release and signing event with Destany Starr Rodriguez to celebrate her first book\, “Temperance\,” an intimate collection of poems. There also will be live performances from loved ones in addition to a book reading and signing. General admission tickets are $5 in advance through the EventThem website\, or $10 at the door. \n  \n 
URL:https://www.cacheinmedford.org/event/book-release-and-signing-destany-starr-rodriguez-temperance/
LOCATION:EventThem Studios\, 344 Salem St.\, Medford\, MA\, 02155\, United States
CATEGORIES:Book/Poetry Readings
ORGANIZER;CN="EventThem Studios":MAILTO:bryan@eventthem.com
GEO:42.4218199;-71.0966138
X-APPLE-STRUCTURED-LOCATION;VALUE=URI;X-ADDRESS=EventThem Studios 344 Salem St. Medford MA 02155 United States;X-APPLE-RADIUS=500;X-TITLE=344 Salem St.:geo:-71.0966138,42.4218199
END:VEVENT
BEGIN:VEVENT
DTSTART;TZID=America/New_York:20231118T100000
DTEND;TZID=America/New_York:20231118T160000
DTSTAMP:20260421T180154
CREATED:20231114T042448Z
LAST-MODIFIED:20231114T043327Z
UID:10037979-1700301600-1700323200@www.cacheinmedford.org
SUMMARY:EventThem Recording Studios Open House
DESCRIPTION:EventThem Studios\, which opened its new location on Salem Street last spring\, invites you to a Recording Studios Open House. Professional recording\, expert producers\, and creative inspiration await. For more information\, please contact Marcelo Trisano of the EventThem staff at marcelo@eventthem.com. Trisano is a recording engineer\, mixing engineer and recording artist with many years of experience. Fluent in English and Spanish\, he has worked with numerous clients and artists\, producing\, recording\, editing and mixing diverse musical genres and styles.
URL:https://www.cacheinmedford.org/event/eventthem-recording-studios-open-house/
LOCATION:EventThem Studios\, 344 Salem St.\, Medford\, MA\, 02155\, United States
CATEGORIES:Other
ORGANIZER;CN="EventThem Studios":MAILTO:bryan@eventthem.com
GEO:42.4218199;-71.0966138
X-APPLE-STRUCTURED-LOCATION;VALUE=URI;X-ADDRESS=EventThem Studios 344 Salem St. Medford MA 02155 United States;X-APPLE-RADIUS=500;X-TITLE=344 Salem St.:geo:-71.0966138,42.4218199
END:VEVENT
BEGIN:VEVENT
DTSTART;TZID=America/New_York:20231105T140000
DTEND;TZID=America/New_York:20231105T160000
DTSTAMP:20260421T180154
CREATED:20231011T031146Z
LAST-MODIFIED:20231103T024007Z
UID:10037765-1699192800-1699200000@www.cacheinmedford.org
SUMMARY:Evan Ewing at EventThem
DESCRIPTION:EventThem Studios invites you to a free couple hours of Unforeseen Adventures and musical excursions via a  free-range improvised piano performance by Medford resident Evan Ewing . . . with a side order of Art Exhibit (and clearance sale!). \n  \n  \n  \n 
URL:https://www.cacheinmedford.org/event/evan-ewing-at-event-them/
LOCATION:EventThem Studios\, 344 Salem St.\, Medford\, MA\, 02155\, United States
CATEGORIES:Live Music
ORGANIZER;CN="EventThem Studios":MAILTO:bryan@eventthem.com
GEO:42.4218199;-71.0966138
X-APPLE-STRUCTURED-LOCATION;VALUE=URI;X-ADDRESS=EventThem Studios 344 Salem St. Medford MA 02155 United States;X-APPLE-RADIUS=500;X-TITLE=344 Salem St.:geo:-71.0966138,42.4218199
END:VEVENT
BEGIN:VEVENT
DTSTART;TZID=America/New_York:20231102T170000
DTEND;TZID=America/New_York:20231102T200000
DTSTAMP:20260421T180154
CREATED:20231022T012641Z
LAST-MODIFIED:20231030T045704Z
UID:10037783-1698944400-1698955200@www.cacheinmedford.org
SUMMARY:Exhibition Opening: JJ Gonson Photography
DESCRIPTION:EventThem Studios invites you to an opening for a new exhibition by JJ Gonson\, a prolific photographer of musicians and bands from the 1980s and ’90s\, first in the Boston area and then in Portland\, Oregon. Shooting both live events and posed photos for magazines\, newspapers\, and promotional materials\, she amassed a collection of intimate portraits of musicians\, friends and fans\, both live on stage and candid off of it. Come meet the remarkable artist and take in decades of experiences. Some of Gonson’s pieces on display have never been seen by the public. She will also be selling her pieces and merchandise. There also will be live music. The Gonson exhibit will be on view through December 31; regular gallery hours are 10 a.m. to 6 p.m.\, Monday through Friday.
URL:https://www.cacheinmedford.org/event/gallery-opening-jj-gonson-photography/
LOCATION:EventThem Studios\, 344 Salem St.\, Medford\, MA\, 02155\, United States
CATEGORIES:Exhibits
ORGANIZER;CN="EventThem Studios":MAILTO:bryan@eventthem.com
GEO:42.4218199;-71.0966138
X-APPLE-STRUCTURED-LOCATION;VALUE=URI;X-ADDRESS=EventThem Studios 344 Salem St. Medford MA 02155 United States;X-APPLE-RADIUS=500;X-TITLE=344 Salem St.:geo:-71.0966138,42.4218199
END:VEVENT
BEGIN:VEVENT
DTSTART;TZID=America/New_York:20231024T180000
DTEND;TZID=America/New_York:20231024T210000
DTSTAMP:20260421T180154
CREATED:20231023T015850Z
LAST-MODIFIED:20231023T020450Z
UID:10037802-1698170400-1698181200@www.cacheinmedford.org
SUMMARY:EventThem Gallery Celebration: Four Days of Phree
DESCRIPTION:EventThem Studios marks the conclusion of Four Days of Phree with a celebration on the closing day of the  “Art By Phree” exhibit. Phree will host an open mic\, with all participants receiving a signed digital print from the artist. Merchandise and signed prints also will be available for purchase. Gallery hours are 10 a.m. to 6 p.m. today.
URL:https://www.cacheinmedford.org/event/eventthem-gallery-celebration/
LOCATION:EventThem Studios\, 344 Salem St.\, Medford\, MA\, 02155\, United States
CATEGORIES:Exhibits,Other
ORGANIZER;CN="EventThem Studios":MAILTO:bryan@eventthem.com
GEO:42.4218199;-71.0966138
X-APPLE-STRUCTURED-LOCATION;VALUE=URI;X-ADDRESS=EventThem Studios 344 Salem St. Medford MA 02155 United States;X-APPLE-RADIUS=500;X-TITLE=344 Salem St.:geo:-71.0966138,42.4218199
END:VEVENT
BEGIN:VEVENT
DTSTART;TZID=America/New_York:20231012T190000
DTEND;TZID=America/New_York:20231012T190000
DTSTAMP:20260421T180154
CREATED:20231009T041727Z
LAST-MODIFIED:20231009T041727Z
UID:10037762-1697137200-1697137200@www.cacheinmedford.org
SUMMARY:Annabel Lee\, Wyn and the White Light at EventThem
DESCRIPTION:EventThem Studios presents an evening of live music with Los Angeles sensation Annabel Lee\, plus the haunted-soul-rock project Wyn and the White Light. Lee has been packing every LA area venue she plays (The Echo\, School Night\, Satellite\, Moroccan Lounge\, Hotel Cafe and more) and is also the creator and curator of the Sweat Gala\, an annual multi-media\, fine art rock showcase and art auction in Los Angeles. The White Light is led by Wyn Doran\, a Female Performer of the Year New England Music Award nominee. Tickets are $18 through Dice. \n 
URL:https://www.cacheinmedford.org/event/annabel-lee-wyn-and-the-white-light-at-eventthem/
LOCATION:EventThem Studios\, 344 Salem St.\, Medford\, MA\, 02155\, United States
CATEGORIES:Live Music
ORGANIZER;CN="EventThem Studios":MAILTO:bryan@eventthem.com
GEO:42.4218199;-71.0966138
X-APPLE-STRUCTURED-LOCATION;VALUE=URI;X-ADDRESS=EventThem Studios 344 Salem St. Medford MA 02155 United States;X-APPLE-RADIUS=500;X-TITLE=344 Salem St.:geo:-71.0966138,42.4218199
END:VEVENT
BEGIN:VEVENT
DTSTART;TZID=America/New_York:20230909T180000
DTEND;TZID=America/New_York:20230909T220000
DTSTAMP:20260421T180154
CREATED:20230825T031402Z
LAST-MODIFIED:20230825T031413Z
UID:10037563-1694282400-1694296800@www.cacheinmedford.org
SUMMARY:EventThem Gallery Opening: Art by Phree
DESCRIPTION:EventThem Studios presents its second gallery opening\, featuring the captivating works of Art By Phree. The evening also will feature live performances of spoken word by Phree and some special guests. Snacks\, cold drinks\, and wine and beer on tap (21+) also available. Admission is $25 and includes one drink. Purchase tickets through Eventbrite.
URL:https://www.cacheinmedford.org/event/eventthem-gallery-opening-art-by-phree/
LOCATION:EventThem Studios\, 344 Salem St.\, Medford\, MA\, 02155\, United States
CATEGORIES:Exhibits,Other
ORGANIZER;CN="EventThem Studios":MAILTO:bryan@eventthem.com
GEO:42.4218199;-71.0966138
X-APPLE-STRUCTURED-LOCATION;VALUE=URI;X-ADDRESS=EventThem Studios 344 Salem St. Medford MA 02155 United States;X-APPLE-RADIUS=500;X-TITLE=344 Salem St.:geo:-71.0966138,42.4218199
END:VEVENT
BEGIN:VEVENT
DTSTART;TZID=America/New_York:20230520T180000
DTEND;TZID=America/New_York:20230520T220000
DTSTAMP:20260421T180154
CREATED:20230510T172650Z
LAST-MODIFIED:20230512T033148Z
UID:10037223-1684605600-1684620000@www.cacheinmedford.org
SUMMARY:Canvas Royale Live Painting Competition
DESCRIPTION:EventThem Studios presents the second edition of Canvas Royale\, a live painting competition at EventThem’s new space on Salem Street. Witness six talented artists face off in a thrilling speed painting competition\, with only 25 minutes to create their masterpiece. The audience will vote for the top artwork in each round\, and have the opportunity to own an original painting created on the spot. Tickets are $15 through Eventbrite. \n  \n 
URL:https://www.cacheinmedford.org/event/canvas-royale-live-painting-competition/
LOCATION:EventThem Studios\, 344 Salem St.\, Medford\, MA\, 02155\, United States
CATEGORIES:Other
ORGANIZER;CN="EventThem Studios":MAILTO:bryan@eventthem.com
GEO:42.4218199;-71.0966138
X-APPLE-STRUCTURED-LOCATION;VALUE=URI;X-ADDRESS=EventThem Studios 344 Salem St. Medford MA 02155 United States;X-APPLE-RADIUS=500;X-TITLE=344 Salem St.:geo:-71.0966138,42.4218199
END:VEVENT
BEGIN:VEVENT
DTSTART;TZID=America/New_York:20230506T120000
DTEND;TZID=America/New_York:20230506T180000
DTSTAMP:20260421T180154
CREATED:20230419T022553Z
LAST-MODIFIED:20230505T215036Z
UID:10037126-1683374400-1683396000@www.cacheinmedford.org
SUMMARY:EventThem Studios Grand Opening Celebration
DESCRIPTION:EventThem Studios is holding a celebration of the grand opening of its new location on Salem Street in Medford. Stop by for a free afternoon of music\, including a live performance by Tenille Ja’Nae (3:30 to 4)\, games\, small bites\, vendors\, and a few ticket giveaways. Check out EventThem’s new local art gallery\, which will showcase work by local makers\, podcast demonstrations by Medford Bytes (1 and 3 p.m.)\, overdub studio\, ticketing office\, and more. Free tickets to the event are not required but encouraged; reserve through Eventbrite. \n 
URL:https://www.cacheinmedford.org/event/eventthem-studios-grand-opening-celebration/
LOCATION:EventThem Studios\, 344 Salem St.\, Medford\, MA\, 02155\, United States
CATEGORIES:Other
ORGANIZER;CN="EventThem Studios":MAILTO:bryan@eventthem.com
GEO:42.4218199;-71.0966138
X-APPLE-STRUCTURED-LOCATION;VALUE=URI;X-ADDRESS=EventThem Studios 344 Salem St. Medford MA 02155 United States;X-APPLE-RADIUS=500;X-TITLE=344 Salem St.:geo:-71.0966138,42.4218199
END:VEVENT
END:VCALENDAR