BEGIN:VCALENDAR
VERSION:2.0
PRODID:-//CACHE in Medford - ECPv6.15.18//NONSGML v1.0//EN
CALSCALE:GREGORIAN
METHOD:PUBLISH
X-ORIGINAL-URL:https://www.cacheinmedford.org
X-WR-CALDESC:Events for CACHE in Medford
REFRESH-INTERVAL;VALUE=DURATION:PT1H
X-Robots-Tag:noindex
X-PUBLISHED-TTL:PT1H
BEGIN:VTIMEZONE
TZID:America/New_York
BEGIN:DAYLIGHT
TZOFFSETFROM:-0500
TZOFFSETTO:-0400
TZNAME:EDT
DTSTART:20250309T070000
END:DAYLIGHT
BEGIN:STANDARD
TZOFFSETFROM:-0400
TZOFFSETTO:-0500
TZNAME:EST
DTSTART:20251102T060000
END:STANDARD
BEGIN:DAYLIGHT
TZOFFSETFROM:-0500
TZOFFSETTO:-0400
TZNAME:EDT
DTSTART:20260308T070000
END:DAYLIGHT
BEGIN:STANDARD
TZOFFSETFROM:-0400
TZOFFSETTO:-0500
TZNAME:EST
DTSTART:20261101T060000
END:STANDARD
BEGIN:DAYLIGHT
TZOFFSETFROM:-0500
TZOFFSETTO:-0400
TZNAME:EDT
DTSTART:20270314T070000
END:DAYLIGHT
BEGIN:STANDARD
TZOFFSETFROM:-0400
TZOFFSETTO:-0500
TZNAME:EST
DTSTART:20271107T060000
END:STANDARD
END:VTIMEZONE
BEGIN:VEVENT
DTSTART;TZID=America/New_York:20260307T100000
DTEND;TZID=America/New_York:20260307T130000
DTSTAMP:20260420T080156
CREATED:20260222T000640Z
LAST-MODIFIED:20260222T000640Z
UID:10044572-1772877600-1772888400@www.cacheinmedford.org
SUMMARY:Wild Stitch: An Intuitive Approach to Embroidery & Weaving
DESCRIPTION:Break free from traditional rules and discover new inspiration for your hand embroidery and weaving practice. This class invites you to explore intuitive\, expressive stitching through experimentation\, play\, and curiosity. \nYou’ll learn about unconventional tools and techniques used to create intuitive hand-stitched work\, and begin to develop a personal visual language using needle\, thread\, fabric and whatever other material you would like to try. I’ll share my intuitive process and demonstrate how I embrace experimentation and material exploration within my own practice. \nWorking with found and repurposed fabrics\, we’ll deconstruct materials\, rethink their possibilities\, and transform them through hand stitching and weaving techniques. Beads\, felt balls\, sequins and other goodies will be available for you to add into your piece. The class includes hands-on demonstrations along with personalized guidance to support your individual creative direction. \nAll levels welcome—no prior experience necessary\, just a willingness to explore. \nCost:$45
URL:https://www.cacheinmedford.org/event/wild-stitch-an-intuitive-approach-to-embroidery-weaving/
LOCATION:Arts Collaborative Medford\, 162 Mystic Ave.\, Medford\, MA\, 02155\, United States
CATEGORIES:Classes/Workshops
GEO:42.4097679;-71.1046054
X-APPLE-STRUCTURED-LOCATION;VALUE=URI;X-ADDRESS=Arts Collaborative Medford 162 Mystic Ave. Medford MA 02155 United States;X-APPLE-RADIUS=500;X-TITLE=162 Mystic Ave.:geo:-71.1046054,42.4097679
END:VEVENT
END:VCALENDAR