BEGIN:VCALENDAR
VERSION:2.0
PRODID:-//CACHE in Medford - ECPv6.15.18//NONSGML v1.0//EN
CALSCALE:GREGORIAN
METHOD:PUBLISH
X-ORIGINAL-URL:https://www.cacheinmedford.org
X-WR-CALDESC:Events for CACHE in Medford
REFRESH-INTERVAL;VALUE=DURATION:PT1H
X-Robots-Tag:noindex
X-PUBLISHED-TTL:PT1H
BEGIN:VTIMEZONE
TZID:America/New_York
BEGIN:DAYLIGHT
TZOFFSETFROM:-0500
TZOFFSETTO:-0400
TZNAME:EDT
DTSTART:20250309T070000
END:DAYLIGHT
BEGIN:STANDARD
TZOFFSETFROM:-0400
TZOFFSETTO:-0500
TZNAME:EST
DTSTART:20251102T060000
END:STANDARD
BEGIN:DAYLIGHT
TZOFFSETFROM:-0500
TZOFFSETTO:-0400
TZNAME:EDT
DTSTART:20260308T070000
END:DAYLIGHT
BEGIN:STANDARD
TZOFFSETFROM:-0400
TZOFFSETTO:-0500
TZNAME:EST
DTSTART:20261101T060000
END:STANDARD
BEGIN:DAYLIGHT
TZOFFSETFROM:-0500
TZOFFSETTO:-0400
TZNAME:EDT
DTSTART:20270314T070000
END:DAYLIGHT
BEGIN:STANDARD
TZOFFSETFROM:-0400
TZOFFSETTO:-0500
TZNAME:EST
DTSTART:20271107T060000
END:STANDARD
END:VTIMEZONE
BEGIN:VEVENT
DTSTART;TZID=America/New_York:20260213T120000
DTEND;TZID=America/New_York:20260213T133000
DTSTAMP:20260420T120536
CREATED:20260125T181910Z
LAST-MODIFIED:20260125T181910Z
UID:10044472-1770984000-1770989400@www.cacheinmedford.org
SUMMARY:Senior Valentine’s Party
DESCRIPTION:Celebrate love and friendship at our Valentine’s Party! Enjoy a Chinese food luncheon\, delicious desserts\, entertainment by DJ George Landers\, raffles\, door prizes\, and a special recognition for the longest-married couple attending together. Tickets are $5 per person\, available starting February 3 (max two per person).
URL:https://www.cacheinmedford.org/event/senior-valentines-party/
LOCATION:Medford Senior Center\, 101 Riverside Ave.\, Medford\, MA\, 02155
CATEGORIES:Senior Programs
GEO:42.4164422;-71.1059052
X-APPLE-STRUCTURED-LOCATION;VALUE=URI;X-ADDRESS=Medford Senior Center 101 Riverside Ave. Medford MA 02155;X-APPLE-RADIUS=500;X-TITLE=101 Riverside Ave.:geo:-71.1059052,42.4164422
END:VEVENT
BEGIN:VEVENT
DTSTART;TZID=America/New_York:20260214T110000
DTEND;TZID=America/New_York:20260214T150000
DTSTAMP:20260420T120536
CREATED:20260201T152240Z
LAST-MODIFIED:20260201T152255Z
UID:10044507-1771066800-1771081200@www.cacheinmedford.org
SUMMARY:Valentine’s Day Makers Market by Pop Up Gallery
DESCRIPTION:Celebrate Valentine’s Day at Pop Up Gallery’s Makers Market in Medford! Feb 14\, 11–3 PM. Shop local makers & handmade goods. \n\n\n💖 Valentine’s Day Makers Market at Arts Collaborative Medford 💖 \nSpend your Valentine’s Day exploring creativity and supporting local makers at Pop Up Gallery’s Makers Market\, hosted at Arts Collaborative Medford. \nJoin us on Saturday\, February 14th\, from 11:00 AM to 3:00 PM\, for a welcoming indoor pop-up featuring local artists\, makers\, and small businesses. Discover handmade goods\, art\, jewelry\, candles\, gifts\, and one-of-a-kind finds — perfect for thoughtful Valentine’s gifts or a cozy weekend outing. \n📍 Event Details\nArts Collaborative Medford — Medford\, MA\nSaturday\, February 14th\n11:00 AM – 3:00 PM \nThis is a free\, community-focused event designed to highlight creativity and small businesses in a relaxed\, friendly setting. \n💌 Calling Vendors:\nVendor applications are still open!\nApply here: 👉 https://vendors.popupgallerymarket.com/boston \nCome shop local\, meet the makers\, and enjoy a creative Valentine’s Day with us — we’d love to see you there 💕🎨 \nHosted by: @pug.newengland\nFree to Attend
URL:https://www.cacheinmedford.org/event/valentines-day-makers-market-by-pop-up-gallery/
LOCATION:Arts Collaborative Medford\, 162 Mystic Ave.\, Medford\, MA\, 02155\, United States
CATEGORIES:Other
GEO:42.4097679;-71.1046054
X-APPLE-STRUCTURED-LOCATION;VALUE=URI;X-ADDRESS=Arts Collaborative Medford 162 Mystic Ave. Medford MA 02155 United States;X-APPLE-RADIUS=500;X-TITLE=162 Mystic Ave.:geo:-71.1046054,42.4097679
END:VEVENT
END:VCALENDAR