BEGIN:VCALENDAR
VERSION:2.0
PRODID:-//CACHE in Medford - ECPv6.15.18//NONSGML v1.0//EN
CALSCALE:GREGORIAN
METHOD:PUBLISH
X-WR-CALNAME:CACHE in Medford
X-ORIGINAL-URL:https://www.cacheinmedford.org
X-WR-CALDESC:Events for CACHE in Medford
REFRESH-INTERVAL;VALUE=DURATION:PT1H
X-Robots-Tag:noindex
X-PUBLISHED-TTL:PT1H
BEGIN:VTIMEZONE
TZID:America/New_York
BEGIN:DAYLIGHT
TZOFFSETFROM:-0500
TZOFFSETTO:-0400
TZNAME:EDT
DTSTART:20250309T070000
END:DAYLIGHT
BEGIN:STANDARD
TZOFFSETFROM:-0400
TZOFFSETTO:-0500
TZNAME:EST
DTSTART:20251102T060000
END:STANDARD
BEGIN:DAYLIGHT
TZOFFSETFROM:-0500
TZOFFSETTO:-0400
TZNAME:EDT
DTSTART:20260308T070000
END:DAYLIGHT
BEGIN:STANDARD
TZOFFSETFROM:-0400
TZOFFSETTO:-0500
TZNAME:EST
DTSTART:20261101T060000
END:STANDARD
BEGIN:DAYLIGHT
TZOFFSETFROM:-0500
TZOFFSETTO:-0400
TZNAME:EDT
DTSTART:20270314T070000
END:DAYLIGHT
BEGIN:STANDARD
TZOFFSETFROM:-0400
TZOFFSETTO:-0500
TZNAME:EST
DTSTART:20271107T060000
END:STANDARD
END:VTIMEZONE
BEGIN:VEVENT
DTSTART;TZID=America/New_York:20260123T210000
DTEND;TZID=America/New_York:20260123T233000
DTSTAMP:20260422T095612
CREATED:20260119T214230Z
LAST-MODIFIED:20260119T214230Z
UID:10044090-1769202000-1769211000@www.cacheinmedford.org
SUMMARY:DJ Artie-V – Live at Great American Beer Hall
DESCRIPTION:Dance into the weekend with DJ Artie-V\, a Massachusetts-based DJ and party starter spinning energetic\, open-format mixes to keep the vibe lively all night long. With experience on the decks around the region and a knack for reading the room — plus a reputation as a crowd favorite at local venues — Artie-V brings the beats that make every night feel like a celebration. \nWhether you’re here for craft beer\, good company\, or a fun night out with friends\, this DJ set promises infectious rhythms and a great soundtrack for your Friday night in Medford.
URL:https://www.cacheinmedford.org/event/dj-artie-v-live-at-great-american-beer-hall/
LOCATION:Great American Beer Hall\, 142 Mystic Ave.\, Medford\, MA\, 02155\, United States
CATEGORIES:Live Music
GEO:42.410454;-71.104875
X-APPLE-STRUCTURED-LOCATION;VALUE=URI;X-ADDRESS=Great American Beer Hall 142 Mystic Ave. Medford MA 02155 United States;X-APPLE-RADIUS=500;X-TITLE=142 Mystic Ave.:geo:-71.104875,42.410454
END:VEVENT
END:VCALENDAR