BEGIN:VCALENDAR
VERSION:2.0
PRODID:-//CACHE in Medford - ECPv6.15.18//NONSGML v1.0//EN
CALSCALE:GREGORIAN
METHOD:PUBLISH
X-ORIGINAL-URL:https://www.cacheinmedford.org
X-WR-CALDESC:Events for CACHE in Medford
REFRESH-INTERVAL;VALUE=DURATION:PT1H
X-Robots-Tag:noindex
X-PUBLISHED-TTL:PT1H
BEGIN:VTIMEZONE
TZID:America/New_York
BEGIN:DAYLIGHT
TZOFFSETFROM:-0500
TZOFFSETTO:-0400
TZNAME:EDT
DTSTART:20250309T070000
END:DAYLIGHT
BEGIN:STANDARD
TZOFFSETFROM:-0400
TZOFFSETTO:-0500
TZNAME:EST
DTSTART:20251102T060000
END:STANDARD
BEGIN:DAYLIGHT
TZOFFSETFROM:-0500
TZOFFSETTO:-0400
TZNAME:EDT
DTSTART:20260308T070000
END:DAYLIGHT
BEGIN:STANDARD
TZOFFSETFROM:-0400
TZOFFSETTO:-0500
TZNAME:EST
DTSTART:20261101T060000
END:STANDARD
BEGIN:DAYLIGHT
TZOFFSETFROM:-0500
TZOFFSETTO:-0400
TZNAME:EDT
DTSTART:20270314T070000
END:DAYLIGHT
BEGIN:STANDARD
TZOFFSETFROM:-0400
TZOFFSETTO:-0500
TZNAME:EST
DTSTART:20271107T060000
END:STANDARD
END:VTIMEZONE
BEGIN:VEVENT
DTSTART;TZID=America/New_York:20260121T190000
DTEND;TZID=America/New_York:20260121T210000
DTSTAMP:20260422T083715
CREATED:20260119T213947Z
LAST-MODIFIED:20260119T213947Z
UID:10044089-1769022000-1769029200@www.cacheinmedford.org
SUMMARY:Salsa Dancing
DESCRIPTION:Turn Thursday into a dance-floor celebration with Salsa Dancing Night at the Great American Beer Hall! Whether you’re a seasoned mover or just looking to try something new\, this fun\, social evening invites dancers of all levels to hit the floor to lively Latin rhythms. The energetic beats\, welcoming atmosphere\, and craft beers make it a perfect mid-week date night\, night out with friends\, or community dance experience. \nCome ready to sway\, spin\, and enjoy the music under the lights — no partner required!
URL:https://www.cacheinmedford.org/event/salsa-dancing/
LOCATION:Great American Beer Hall\, 142 Mystic Ave.\, Medford\, MA\, 02155\, United States
CATEGORIES:Classes/Workshops
GEO:42.410454;-71.104875
X-APPLE-STRUCTURED-LOCATION;VALUE=URI;X-ADDRESS=Great American Beer Hall 142 Mystic Ave. Medford MA 02155 United States;X-APPLE-RADIUS=500;X-TITLE=142 Mystic Ave.:geo:-71.104875,42.410454
END:VEVENT
END:VCALENDAR