BEGIN:VCALENDAR
VERSION:2.0
PRODID:-//CACHE in Medford - ECPv6.15.18//NONSGML v1.0//EN
CALSCALE:GREGORIAN
METHOD:PUBLISH
X-WR-CALNAME:CACHE in Medford
X-ORIGINAL-URL:https://www.cacheinmedford.org
X-WR-CALDESC:Events for CACHE in Medford
REFRESH-INTERVAL;VALUE=DURATION:PT1H
X-Robots-Tag:noindex
X-PUBLISHED-TTL:PT1H
BEGIN:VTIMEZONE
TZID:America/New_York
BEGIN:DAYLIGHT
TZOFFSETFROM:-0500
TZOFFSETTO:-0400
TZNAME:EDT
DTSTART:20250309T070000
END:DAYLIGHT
BEGIN:STANDARD
TZOFFSETFROM:-0400
TZOFFSETTO:-0500
TZNAME:EST
DTSTART:20251102T060000
END:STANDARD
BEGIN:DAYLIGHT
TZOFFSETFROM:-0500
TZOFFSETTO:-0400
TZNAME:EDT
DTSTART:20260308T070000
END:DAYLIGHT
BEGIN:STANDARD
TZOFFSETFROM:-0400
TZOFFSETTO:-0500
TZNAME:EST
DTSTART:20261101T060000
END:STANDARD
BEGIN:DAYLIGHT
TZOFFSETFROM:-0500
TZOFFSETTO:-0400
TZNAME:EDT
DTSTART:20270314T070000
END:DAYLIGHT
BEGIN:STANDARD
TZOFFSETFROM:-0400
TZOFFSETTO:-0500
TZNAME:EST
DTSTART:20271107T060000
END:STANDARD
END:VTIMEZONE
BEGIN:VEVENT
DTSTART;TZID=America/New_York:20260102T220000
DTEND;TZID=America/New_York:20260102T235900
DTSTAMP:20260420T171739
CREATED:20251229T185723Z
LAST-MODIFIED:20251229T185723Z
UID:10044060-1767391200-1767398340@www.cacheinmedford.org
SUMMARY:DJ Lee Mastermind
DESCRIPTION:Kick off the New Year right with DJ Lee Mastermind\, one of New England’s most experienced and dynamic open-format DJs. With over two decades of spinning and MC’ing at weddings\, clubs\, corporate events and private parties across the U.S. and internationally\, Lee knows how to read a room and keep every crowd moving. \nFrom hip-hop to house\, party anthems to global grooves\, his sets are designed to create an energetic\, inclusive dance-floor vibe that keeps the music flowing and the good times going. Whether you’re out for a fun night with friends or looking to make new ones on the floor\, this is one DJ set you won’t want to miss in Medford.
URL:https://www.cacheinmedford.org/event/dj-lee-mastermind/
LOCATION:Great American Beer Hall\, 142 Mystic Ave.\, Medford\, MA\, 02155\, United States
CATEGORIES:Live Music
GEO:42.410454;-71.104875
X-APPLE-STRUCTURED-LOCATION;VALUE=URI;X-ADDRESS=Great American Beer Hall 142 Mystic Ave. Medford MA 02155 United States;X-APPLE-RADIUS=500;X-TITLE=142 Mystic Ave.:geo:-71.104875,42.410454
END:VEVENT
BEGIN:VEVENT
DTSTART;TZID=America/New_York:20260109T210000
DTEND;TZID=America/New_York:20260109T233000
DTSTAMP:20260420T171739
CREATED:20251229T190154Z
LAST-MODIFIED:20251229T190154Z
UID:10044061-1767992400-1768001400@www.cacheinmedford.org
SUMMARY:7-Day Weekend
DESCRIPTION:Kick off your weekend vibes early with 7-Day Weekend — a high-energy party band known for delivering rock-solid live performances and a fun\, crowd-friendly set list that spans rock\, pop and dance classics. With tight musicianship and expressive vocals\, this band turns ordinary nights into a full-on celebration\, perfect for a night out with friends in Medford. \nExpect sing-along favorites\, upbeat rhythms and a live-music atmosphere that keeps the dance floor moving all night long. Bring your crew and get ready to start the weekend a little early!
URL:https://www.cacheinmedford.org/event/7-day-weekend/
LOCATION:Great American Beer Hall\, 142 Mystic Ave.\, Medford\, MA\, 02155\, United States
CATEGORIES:Live Music
GEO:42.410454;-71.104875
X-APPLE-STRUCTURED-LOCATION;VALUE=URI;X-ADDRESS=Great American Beer Hall 142 Mystic Ave. Medford MA 02155 United States;X-APPLE-RADIUS=500;X-TITLE=142 Mystic Ave.:geo:-71.104875,42.410454
END:VEVENT
BEGIN:VEVENT
DTSTART;TZID=America/New_York:20260110T220000
DTEND;TZID=America/New_York:20260110T233000
DTSTAMP:20260420T171739
CREATED:20251229T190344Z
LAST-MODIFIED:20251229T190344Z
UID:10044062-1768082400-1768087800@www.cacheinmedford.org
SUMMARY:DJ Decaso
DESCRIPTION:Turn up your night at The Great American Beer Hall with DJ Decaso\, spinning up a dance-floor ready mix of house\, hip-hop\, electronic and party favorites. With a knack for reading the room and blending sounds that keep the energy high\, DJ Decaso brings the beats that make every night feel like a celebration. \nWhether you’re out to dance\, hang with friends\, or just enjoy great vibes and good drinks\, this set promises the right soundtrack for an unforgettable Saturday in Medford.
URL:https://www.cacheinmedford.org/event/dj-decaso/
LOCATION:Great American Beer Hall\, 142 Mystic Ave.\, Medford\, MA\, 02155\, United States
CATEGORIES:Live Music
GEO:42.410454;-71.104875
X-APPLE-STRUCTURED-LOCATION;VALUE=URI;X-ADDRESS=Great American Beer Hall 142 Mystic Ave. Medford MA 02155 United States;X-APPLE-RADIUS=500;X-TITLE=142 Mystic Ave.:geo:-71.104875,42.410454
END:VEVENT
BEGIN:VEVENT
DTSTART;TZID=America/New_York:20260114T193000
DTEND;TZID=America/New_York:20260114T223000
DTSTAMP:20260420T171739
CREATED:20251222T210506Z
LAST-MODIFIED:20251222T210506Z
UID:10043806-1768419000-1768429800@www.cacheinmedford.org
SUMMARY:Line Dancing
DESCRIPTION:Get ready to double the fun because the Great American Beer Hall is now hosting line dancing nights twice a month due to popular demand! Each high-energy session includes professional lessons to get you moving\, making it the perfect excuse to grab a round of drinks with friends and dance the night away. \n\n\n\n\n\n\nLocation: Great American Beer Hall (142 Mystic Ave\, Medford\, MA) \nWhen: Every other Wednesday starting January 14th\, 7:30 PM -10:30PM \nWhat to Expect: Lessons\, great drinks\, line dancing to popular\, country\, and seasonal songs.
URL:https://www.cacheinmedford.org/event/line-dancing/2026-01-14/
LOCATION:Great American Beer Hall\, 142 Mystic Ave.\, Medford\, MA\, 02155\, United States
CATEGORIES:Other
GEO:42.410454;-71.104875
X-APPLE-STRUCTURED-LOCATION;VALUE=URI;X-ADDRESS=Great American Beer Hall 142 Mystic Ave. Medford MA 02155 United States;X-APPLE-RADIUS=500;X-TITLE=142 Mystic Ave.:geo:-71.104875,42.410454
END:VEVENT
BEGIN:VEVENT
DTSTART;TZID=America/New_York:20260117T210000
DTEND;TZID=America/New_York:20260117T233000
DTSTAMP:20260420T171739
CREATED:20251229T190539Z
LAST-MODIFIED:20251229T190539Z
UID:10044063-1768683600-1768692600@www.cacheinmedford.org
SUMMARY:Cover Story
DESCRIPTION:Get ready for a night of crowd-pleasing live music with Cover Story\, a high-energy party band known for delivering a dynamic mix of hit-driven cover songs across rock\, pop\, dance and more. Their tight performance style\, engaging stage presence and versatile set list make them a perfect fit for a lively Saturday evening at the Beer Hall. \nWhether you’re singing along to familiar favorites or dancing the night away with friends\, Cover Story brings the party — great music\, great vibes\, and a great night out in Medford.
URL:https://www.cacheinmedford.org/event/cover-story/
LOCATION:Great American Beer Hall\, 142 Mystic Ave.\, Medford\, MA\, 02155\, United States
CATEGORIES:Live Music
GEO:42.410454;-71.104875
X-APPLE-STRUCTURED-LOCATION;VALUE=URI;X-ADDRESS=Great American Beer Hall 142 Mystic Ave. Medford MA 02155 United States;X-APPLE-RADIUS=500;X-TITLE=142 Mystic Ave.:geo:-71.104875,42.410454
END:VEVENT
BEGIN:VEVENT
DTSTART;TZID=America/New_York:20260121T190000
DTEND;TZID=America/New_York:20260121T210000
DTSTAMP:20260420T171739
CREATED:20260119T213947Z
LAST-MODIFIED:20260119T213947Z
UID:10044089-1769022000-1769029200@www.cacheinmedford.org
SUMMARY:Salsa Dancing
DESCRIPTION:Turn Thursday into a dance-floor celebration with Salsa Dancing Night at the Great American Beer Hall! Whether you’re a seasoned mover or just looking to try something new\, this fun\, social evening invites dancers of all levels to hit the floor to lively Latin rhythms. The energetic beats\, welcoming atmosphere\, and craft beers make it a perfect mid-week date night\, night out with friends\, or community dance experience. \nCome ready to sway\, spin\, and enjoy the music under the lights — no partner required!
URL:https://www.cacheinmedford.org/event/salsa-dancing/
LOCATION:Great American Beer Hall\, 142 Mystic Ave.\, Medford\, MA\, 02155\, United States
CATEGORIES:Classes/Workshops
GEO:42.410454;-71.104875
X-APPLE-STRUCTURED-LOCATION;VALUE=URI;X-ADDRESS=Great American Beer Hall 142 Mystic Ave. Medford MA 02155 United States;X-APPLE-RADIUS=500;X-TITLE=142 Mystic Ave.:geo:-71.104875,42.410454
END:VEVENT
BEGIN:VEVENT
DTSTART;TZID=America/New_York:20260123T210000
DTEND;TZID=America/New_York:20260123T233000
DTSTAMP:20260420T171739
CREATED:20260119T214230Z
LAST-MODIFIED:20260119T214230Z
UID:10044090-1769202000-1769211000@www.cacheinmedford.org
SUMMARY:DJ Artie-V – Live at Great American Beer Hall
DESCRIPTION:Dance into the weekend with DJ Artie-V\, a Massachusetts-based DJ and party starter spinning energetic\, open-format mixes to keep the vibe lively all night long. With experience on the decks around the region and a knack for reading the room — plus a reputation as a crowd favorite at local venues — Artie-V brings the beats that make every night feel like a celebration. \nWhether you’re here for craft beer\, good company\, or a fun night out with friends\, this DJ set promises infectious rhythms and a great soundtrack for your Friday night in Medford.
URL:https://www.cacheinmedford.org/event/dj-artie-v-live-at-great-american-beer-hall/
LOCATION:Great American Beer Hall\, 142 Mystic Ave.\, Medford\, MA\, 02155\, United States
CATEGORIES:Live Music
GEO:42.410454;-71.104875
X-APPLE-STRUCTURED-LOCATION;VALUE=URI;X-ADDRESS=Great American Beer Hall 142 Mystic Ave. Medford MA 02155 United States;X-APPLE-RADIUS=500;X-TITLE=142 Mystic Ave.:geo:-71.104875,42.410454
END:VEVENT
BEGIN:VEVENT
DTSTART;TZID=America/New_York:20260128T193000
DTEND;TZID=America/New_York:20260128T223000
DTSTAMP:20260420T171739
CREATED:20251222T210506Z
LAST-MODIFIED:20251222T210506Z
UID:10043807-1769628600-1769639400@www.cacheinmedford.org
SUMMARY:Line Dancing
DESCRIPTION:Get ready to double the fun because the Great American Beer Hall is now hosting line dancing nights twice a month due to popular demand! Each high-energy session includes professional lessons to get you moving\, making it the perfect excuse to grab a round of drinks with friends and dance the night away. \n\n\n\n\n\n\nLocation: Great American Beer Hall (142 Mystic Ave\, Medford\, MA) \nWhen: Every other Wednesday starting January 14th\, 7:30 PM -10:30PM \nWhat to Expect: Lessons\, great drinks\, line dancing to popular\, country\, and seasonal songs.
URL:https://www.cacheinmedford.org/event/line-dancing/2026-01-28/
LOCATION:Great American Beer Hall\, 142 Mystic Ave.\, Medford\, MA\, 02155\, United States
CATEGORIES:Other
GEO:42.410454;-71.104875
X-APPLE-STRUCTURED-LOCATION;VALUE=URI;X-ADDRESS=Great American Beer Hall 142 Mystic Ave. Medford MA 02155 United States;X-APPLE-RADIUS=500;X-TITLE=142 Mystic Ave.:geo:-71.104875,42.410454
END:VEVENT
BEGIN:VEVENT
DTSTART;TZID=America/New_York:20260130T210000
DTEND;TZID=America/New_York:20260130T230000
DTSTAMP:20260420T171739
CREATED:20260125T183621Z
LAST-MODIFIED:20260125T183621Z
UID:10044480-1769806800-1769814000@www.cacheinmedford.org
SUMMARY:DJ Frank White – Live at Great American Beer Hall
DESCRIPTION:Turn up your Friday night with DJ Frank White\, spinning a high-energy mix of hip-hop\, dance\, electronic and open-format beats designed to keep the dance floor moving all night long. With a strong local reputation for reading the crowd and mixing tracks that bring out the best vibes\, Frank White is your go-to for a lively\, music-filled night out in Medford. \nWhether you’re celebrating with friends\, enjoying great craft beer\, or just ready to dance\, this DJ night is the perfect soundtrack for a fun weekend evening.
URL:https://www.cacheinmedford.org/event/dj-frank-white-live-at-great-american-beer-hall/
LOCATION:Great American Beer Hall\, 142 Mystic Ave.\, Medford\, MA\, 02155\, United States
CATEGORIES:Live Music
GEO:42.410454;-71.104875
X-APPLE-STRUCTURED-LOCATION;VALUE=URI;X-ADDRESS=Great American Beer Hall 142 Mystic Ave. Medford MA 02155 United States;X-APPLE-RADIUS=500;X-TITLE=142 Mystic Ave.:geo:-71.104875,42.410454
END:VEVENT
BEGIN:VEVENT
DTSTART;TZID=America/New_York:20260131T210000
DTEND;TZID=America/New_York:20260131T230000
DTSTAMP:20260420T171739
CREATED:20260125T183811Z
LAST-MODIFIED:20260125T183811Z
UID:10044481-1769893200-1769900400@www.cacheinmedford.org
SUMMARY:All Time Favorites – Live at Great American Beer Hall
DESCRIPTION:Spend your Saturday evening with All Time Favorites\, delivering a feel-good mix of classic hits and crowd-pleasing tunes spanning decades and genres. Designed for easy listening\, sing-alongs\, and relaxed dancing\, this live set is perfect for winding down the week with friends\, great food\, and craft beer. Expect familiar favorites\, warm vibes\, and a welcoming atmosphere that makes this a go-to night out in Medford.
URL:https://www.cacheinmedford.org/event/all-time-favorites-live-at-great-american-beer-hall/
LOCATION:Great American Beer Hall\, 142 Mystic Ave.\, Medford\, MA\, 02155\, United States
CATEGORIES:Live Music
GEO:42.410454;-71.104875
X-APPLE-STRUCTURED-LOCATION;VALUE=URI;X-ADDRESS=Great American Beer Hall 142 Mystic Ave. Medford MA 02155 United States;X-APPLE-RADIUS=500;X-TITLE=142 Mystic Ave.:geo:-71.104875,42.410454
END:VEVENT
END:VCALENDAR