BEGIN:VCALENDAR
VERSION:2.0
PRODID:-//CACHE in Medford - ECPv6.15.18//NONSGML v1.0//EN
CALSCALE:GREGORIAN
METHOD:PUBLISH
X-ORIGINAL-URL:https://www.cacheinmedford.org
X-WR-CALDESC:Events for CACHE in Medford
REFRESH-INTERVAL;VALUE=DURATION:PT1H
X-Robots-Tag:noindex
X-PUBLISHED-TTL:PT1H
BEGIN:VTIMEZONE
TZID:America/New_York
BEGIN:DAYLIGHT
TZOFFSETFROM:-0500
TZOFFSETTO:-0400
TZNAME:EDT
DTSTART:20250309T070000
END:DAYLIGHT
BEGIN:STANDARD
TZOFFSETFROM:-0400
TZOFFSETTO:-0500
TZNAME:EST
DTSTART:20251102T060000
END:STANDARD
BEGIN:DAYLIGHT
TZOFFSETFROM:-0500
TZOFFSETTO:-0400
TZNAME:EDT
DTSTART:20260308T070000
END:DAYLIGHT
BEGIN:STANDARD
TZOFFSETFROM:-0400
TZOFFSETTO:-0500
TZNAME:EST
DTSTART:20261101T060000
END:STANDARD
BEGIN:DAYLIGHT
TZOFFSETFROM:-0500
TZOFFSETTO:-0400
TZNAME:EDT
DTSTART:20270314T070000
END:DAYLIGHT
BEGIN:STANDARD
TZOFFSETFROM:-0400
TZOFFSETTO:-0500
TZNAME:EST
DTSTART:20271107T060000
END:STANDARD
END:VTIMEZONE
BEGIN:VEVENT
DTSTART;TZID=America/New_York:20260127T120000
DTEND;TZID=America/New_York:20260127T140000
DTSTAMP:20260421T165122
CREATED:20260119T201352Z
LAST-MODIFIED:20260119T201352Z
UID:10044078-1769515200-1769522400@www.cacheinmedford.org
SUMMARY:The Mahler Sessions: Anna Handler — Assistant Conductor\, Boston Symphony Orchestra
DESCRIPTION:Join the Tufts University Department of Music for The Mahler Sessions\, a compelling spring series of student-led conversations with leading classical musicians. This kickoff event features Anna Handler\, Assistant Conductor of the Boston Symphony Orchestra\, in a discussion about musical interpretation and the artistry behind performance. The series explores how musicians approach works like those of Gustav Mahler and what it means to bring them to life for modern audiences. \nFree and open to the public\, this session offers a rare opportunity to hear from a distinguished conductor and connect with Tufts’ vibrant musical community in Distler Performance Hall.
URL:https://www.cacheinmedford.org/event/the-mahler-sessions-anna-handler-assistant-conductor-boston-symphony-orchestra/
LOCATION:Distler Performance Hall\, Granoff Music Center\, Tufts University\, 20 Talbot Ave.\, Medford\, MA\, 02155\, United States
GEO:42.4044178;-71.1183102
X-APPLE-STRUCTURED-LOCATION;VALUE=URI;X-ADDRESS=Distler Performance Hall Granoff Music Center Tufts University 20 Talbot Ave. Medford MA 02155 United States;X-APPLE-RADIUS=500;X-TITLE=20 Talbot Ave.:geo:-71.1183102,42.4044178
END:VEVENT
END:VCALENDAR