BEGIN:VCALENDAR
VERSION:2.0
PRODID:-//CACHE in Medford - ECPv6.15.18//NONSGML v1.0//EN
CALSCALE:GREGORIAN
METHOD:PUBLISH
X-WR-CALNAME:CACHE in Medford
X-ORIGINAL-URL:https://www.cacheinmedford.org
X-WR-CALDESC:Events for CACHE in Medford
REFRESH-INTERVAL;VALUE=DURATION:PT1H
X-Robots-Tag:noindex
X-PUBLISHED-TTL:PT1H
BEGIN:VTIMEZONE
TZID:America/New_York
BEGIN:DAYLIGHT
TZOFFSETFROM:-0500
TZOFFSETTO:-0400
TZNAME:EDT
DTSTART:20250309T070000
END:DAYLIGHT
BEGIN:STANDARD
TZOFFSETFROM:-0400
TZOFFSETTO:-0500
TZNAME:EST
DTSTART:20251102T060000
END:STANDARD
BEGIN:DAYLIGHT
TZOFFSETFROM:-0500
TZOFFSETTO:-0400
TZNAME:EDT
DTSTART:20260308T070000
END:DAYLIGHT
BEGIN:STANDARD
TZOFFSETFROM:-0400
TZOFFSETTO:-0500
TZNAME:EST
DTSTART:20261101T060000
END:STANDARD
BEGIN:DAYLIGHT
TZOFFSETFROM:-0500
TZOFFSETTO:-0400
TZNAME:EDT
DTSTART:20270314T070000
END:DAYLIGHT
BEGIN:STANDARD
TZOFFSETFROM:-0400
TZOFFSETTO:-0500
TZNAME:EST
DTSTART:20271107T060000
END:STANDARD
END:VTIMEZONE
BEGIN:VEVENT
DTSTART;TZID=America/New_York:20260211T183000
DTEND;TZID=America/New_York:20260211T203000
DTSTAMP:20260424T133145
CREATED:20260126T020119Z
LAST-MODIFIED:20260126T020130Z
UID:10044484-1770834600-1770841800@www.cacheinmedford.org
SUMMARY:"Memories Flow Beneath It\, From Valley to Quabbin" Screening and Talkback
DESCRIPTION:Local filmmaker Roger Hagopian presents his documentary Memories Flow Beneath It\, From Valley to Quabbin. This powerful 69 minute film traces the displacement of people and the loss of a way of life in the Swift River Valley of central Massachusetts when the Quabbin Reservoir flooded four towns in order to create water infrastructure for 52 Boston metropolitan communities\, including Medford. Several interviewees include former valley residents\, historians\, and authors\, including J.R. Greene\, who has written numerous books on the subject. \nThe ever-westward evolution of the water systems begins with springs on the Shawmut Peninsula of Boston in 1630\, an aqueduct from Jamaica Pond\, and involves the consideration of the Mystic Lakes and Spot Pond\, before resorting to the Cochituate System emanating from Natick\, which became insufficient due to the mass immigration of refugees from the Irish Famine\, thus drastically increasing Boston’s population. The Great Boston Fire of 1872 exposed the limitations of the water supply\, leading to the Sudbury and Wachusett systems. Italian immigrants\, some of whom were stonemasons\, found work on these infrastructure projects as the system expanded further. State House debates\, Supreme Court decisions\, and incredible civil engineering innovations\, led to the creation of the Quabbin Reservoir. Former Valley residents recall their rural industrial and agricultural towns\, family life\, and the years leading up to their expulsion. The cold processes of eminent domain and eviction caused lifelong trauma to the valley residents\, especially the elderly. Generations of history were demolished by 1938 and the people were not given housing and employment assistance by the state – they were on their own. \nExpert commentary is given by noted historian\, the late Howard Zinn. The music track is graciously provided by pianist\, Jacqueline Schwab\, who has performed on numerous Ken Burns PBS documentaries\, beginning with The Civil War through The American Revolution. \nAbout the Filmmaker: Roger Hagopian lives in Lexington\, where he learned filmmaking at the local cable television studio there. A history lover since his youth\, he has had film screenings on the Armenians and the Genocide\, World War II veterans\, factory workers\, and local American history\, including the Middlesex Canal\, which ran through Medford\, at universities\, high schools\, public libraries\, historical societies\, churches\, temples\, community centers\, and other public and private venues. He has also appeared on local cable television stations and radio programs. After the film\, Roger will be present to discuss it with the audience.
URL:https://www.cacheinmedford.org/event/memories-flow-beneath-it-from-valley-to-quabbin-screening-and-talkback/
LOCATION:Medford Public Library\, 111 High St.\, Medford\, MA\, 02155\, United States
CATEGORIES:Film Showings
GEO:42.4197198;-71.1135305
X-APPLE-STRUCTURED-LOCATION;VALUE=URI;X-ADDRESS=Medford Public Library 111 High St. Medford MA 02155 United States;X-APPLE-RADIUS=500;X-TITLE=111 High St.:geo:-71.1135305,42.4197198
END:VEVENT
END:VCALENDAR