BEGIN:VCALENDAR
VERSION:2.0
PRODID:-//CACHE in Medford - ECPv6.15.18//NONSGML v1.0//EN
CALSCALE:GREGORIAN
METHOD:PUBLISH
X-WR-CALNAME:CACHE in Medford
X-ORIGINAL-URL:https://www.cacheinmedford.org
X-WR-CALDESC:Events for CACHE in Medford
REFRESH-INTERVAL;VALUE=DURATION:PT1H
X-Robots-Tag:noindex
X-PUBLISHED-TTL:PT1H
BEGIN:VTIMEZONE
TZID:America/New_York
BEGIN:DAYLIGHT
TZOFFSETFROM:-0500
TZOFFSETTO:-0400
TZNAME:EDT
DTSTART:20250309T070000
END:DAYLIGHT
BEGIN:STANDARD
TZOFFSETFROM:-0400
TZOFFSETTO:-0500
TZNAME:EST
DTSTART:20251102T060000
END:STANDARD
BEGIN:DAYLIGHT
TZOFFSETFROM:-0500
TZOFFSETTO:-0400
TZNAME:EDT
DTSTART:20260308T070000
END:DAYLIGHT
BEGIN:STANDARD
TZOFFSETFROM:-0400
TZOFFSETTO:-0500
TZNAME:EST
DTSTART:20261101T060000
END:STANDARD
BEGIN:DAYLIGHT
TZOFFSETFROM:-0500
TZOFFSETTO:-0400
TZNAME:EDT
DTSTART:20270314T070000
END:DAYLIGHT
BEGIN:STANDARD
TZOFFSETFROM:-0400
TZOFFSETTO:-0500
TZNAME:EST
DTSTART:20271107T060000
END:STANDARD
END:VTIMEZONE
BEGIN:VEVENT
DTSTART;TZID=America/New_York:20260423T190000
DTEND;TZID=America/New_York:20260423T210000
DTSTAMP:20260423T054816
CREATED:20260418T145021Z
LAST-MODIFIED:20260418T145021Z
UID:10044731-1776970800-1776978000@www.cacheinmedford.org
SUMMARY:Original Poetry Open Mic with guest poets Linda Haviland Conte & David P. Miller
DESCRIPTION:Original Poetry Open MicHosted by Vijaya Sundaram\, Medford Poet Laureate Emeritus (2023–2025)Featured Poet: Linda Haviland Conte & David P. Miller Suggested Donation: $5-$10\n\nPoets\, dreamers\, and writers – we want to see you\, hear you\, and welcome you! Bring an original poem or story to read. We’ll provide a microphone and podium.\n—\nGuest Poets:\n\nLinda Haviland Conte is the author of two poetry collections published by Ibbetson Street Press\, Seldom Purely and Slow As A Poem. Her work has appeared in the anthologies From the Farther Shore\, Constellations\, Bagels with the Bards\, and Connecticut River Review. Linda has been featured in Verse Daily and WCAI’s Poetry Sunday program\, and several of her poems were recognized by the National Federation of State Poetry Societies. Linda has served on the Board of The New England Poetry Club for ten years\, most recently as Vice President. (lindaconte.net)\n\nDavid P. Miller’s collection\, Bend in the Stair\, was published by Lily Poetry Review Books in 2021. Nixes Mate Books published his Sprawled Asleep in 2019. His poems have appeared in Meat for Tea\, Reed Magazine\, Jerry Jazz Musician\, Tar River Poetry\, Cherry Tree\, Second Coming\, The Ekphrastic Review\, The Disappointed Housewife\, and Blood + Honey\, among other journals. In 2025\, David received a Tanne Foundation award. He is a member of The New England Poetry Club’s Board of Directors\, and a member of Boston’s Jamaica Pond Poets and co-directs their Chapter and Verse literary reading series.\n\n—\nOpen mics are on the 4th Thursday of each month! Check ACM website for upcoming dates\, the next one will be May 28th 2026.
URL:https://www.cacheinmedford.org/event/original-poetry-open-mic-with-guest-poets-linda-haviland-conte-david-p-miller/
LOCATION:Arts Collaborative Medford\, 162 Mystic Ave.\, Medford\, MA\, 02155\, United States
CATEGORIES:Book/Poetry Readings
GEO:42.4097679;-71.1046054
X-APPLE-STRUCTURED-LOCATION;VALUE=URI;X-ADDRESS=Arts Collaborative Medford 162 Mystic Ave. Medford MA 02155 United States;X-APPLE-RADIUS=500;X-TITLE=162 Mystic Ave.:geo:-71.1046054,42.4097679
END:VEVENT
END:VCALENDAR