BEGIN:VCALENDAR
VERSION:2.0
PRODID:-//CACHE in Medford - ECPv6.15.18//NONSGML v1.0//EN
CALSCALE:GREGORIAN
METHOD:PUBLISH
X-ORIGINAL-URL:https://www.cacheinmedford.org
X-WR-CALDESC:Events for CACHE in Medford
REFRESH-INTERVAL;VALUE=DURATION:PT1H
X-Robots-Tag:noindex
X-PUBLISHED-TTL:PT1H
BEGIN:VTIMEZONE
TZID:America/New_York
BEGIN:DAYLIGHT
TZOFFSETFROM:-0500
TZOFFSETTO:-0400
TZNAME:EDT
DTSTART:20250309T070000
END:DAYLIGHT
BEGIN:STANDARD
TZOFFSETFROM:-0400
TZOFFSETTO:-0500
TZNAME:EST
DTSTART:20251102T060000
END:STANDARD
BEGIN:DAYLIGHT
TZOFFSETFROM:-0500
TZOFFSETTO:-0400
TZNAME:EDT
DTSTART:20260308T070000
END:DAYLIGHT
BEGIN:STANDARD
TZOFFSETFROM:-0400
TZOFFSETTO:-0500
TZNAME:EST
DTSTART:20261101T060000
END:STANDARD
BEGIN:DAYLIGHT
TZOFFSETFROM:-0500
TZOFFSETTO:-0400
TZNAME:EDT
DTSTART:20270314T070000
END:DAYLIGHT
BEGIN:STANDARD
TZOFFSETFROM:-0400
TZOFFSETTO:-0500
TZNAME:EST
DTSTART:20271107T060000
END:STANDARD
END:VTIMEZONE
BEGIN:VEVENT
DTSTART;TZID=America/New_York:20260311T190000
DTEND;TZID=America/New_York:20260311T203000
DTSTAMP:20260421T060058
CREATED:20260222T005758Z
LAST-MODIFIED:20260222T005758Z
UID:10044574-1773255600-1773261000@www.cacheinmedford.org
SUMMARY:World Poetry Salon
DESCRIPTION:Learn about modern poetry with short poems from some of the most celebrated writers of the twentieth century. We’ll listen to or read the poems\, share initial impressions\, and discuss whatever questions or themes emerge. The texts will be provided at the meeting—no homework required! \nIn March we’ll feature Jorge Luis Borges of Argentina and Philip Larkin of England. \nThis free salon-style series welcomes everyone—whether you’re well-versed in poetry or simply curious. Drop in for one session or all; each 90-minute meetup stands on its own. Prior experience with poetry will be helpful but isn’t required. An interest in innovative techniques\, tolerance for ambiguity\, and appreciation of different points of view will also be helpful. \nEmphasis will be given to poets who bore witness to social upheaval and shaped modern literature with their responses to historical events. We will take a global perspective and include many writers in different languages who have been translated into English. Brief introductions to the poets will be offered\, but no stuffy lectures; we’ll make connections and discoveries together through our sharing of questions and observations. \nHosted by Gary Roberts\, a poet and co-founder of Arts Collaborative Medford\, as part of our literary arts initiative. Bring your coffee\, tea\, or notebook and join us for a relaxed\, open conversation about how poetry can reflect\, resist\, and reimagine the world around us.
URL:https://www.cacheinmedford.org/event/world-poetry-salon-2/
LOCATION:Arts Collaborative Medford\, 162 Mystic Ave.\, Medford\, MA\, 02155\, United States
CATEGORIES:Book/Poetry Readings
GEO:42.4097679;-71.1046054
X-APPLE-STRUCTURED-LOCATION;VALUE=URI;X-ADDRESS=Arts Collaborative Medford 162 Mystic Ave. Medford MA 02155 United States;X-APPLE-RADIUS=500;X-TITLE=162 Mystic Ave.:geo:-71.1046054,42.4097679
END:VEVENT
BEGIN:VEVENT
DTSTART;TZID=America/New_York:20260326T190000
DTEND;TZID=America/New_York:20260326T203000
DTSTAMP:20260421T060058
CREATED:20260315T221852Z
LAST-MODIFIED:20260315T221852Z
UID:10044617-1774551600-1774557000@www.cacheinmedford.org
SUMMARY:Original Poetry Open Mic with Guest Poet Richard Cambridge
DESCRIPTION:Original Poetry Open MicHosted by Vijaya Sundaram\, Medford Poet Laureate Emeritus (2023–2025)Featured Poet: Richard Cambridge Suggested Donation: $5-$10\n\nPoets\, dreamers\, and writers – we want to see you\, hear you\, and welcome you! Bring an original poem or story to read. We’ll provide a microphone and podium. \n\nGuest Poet: Richard Cambridge’s work has appeared in the Paterson Literary Review\, Nantucket Journal\, Asheville Poetry Revie\, and other publications. He is the author of a collection of poetry\, PULSA – A Books of Books (Hanover Press)\, spoken word CDs One Shot New – Poetry of Conscience (Earthshine) and The Cigarette Papers – A Memoir of Addiction (Fern Hill)\, from which he developed a one-person play that opened at The Institute of Contemporary Art in Boston. His awards include the Allen Ginsberg Poetry Prize and a finalist position at the Fine Arts Work Center. Among several other accolades\, he recieved the Cambridge Peace & Justice Award for his contributions to the arts and activism in 2003.\n\nOpen mics are on the 4th Thursday of each month! Check ACM website for upcoming dates\, the next one will be April 23rd 2026.
URL:https://www.cacheinmedford.org/event/original-poetry-open-mic-with-guest-poet-richard-cambridge/
LOCATION:Arts Collaborative Medford\, 162 Mystic Ave.\, Medford\, MA\, 02155\, United States
CATEGORIES:Book/Poetry Readings
GEO:42.4097679;-71.1046054
X-APPLE-STRUCTURED-LOCATION;VALUE=URI;X-ADDRESS=Arts Collaborative Medford 162 Mystic Ave. Medford MA 02155 United States;X-APPLE-RADIUS=500;X-TITLE=162 Mystic Ave.:geo:-71.1046054,42.4097679
END:VEVENT
BEGIN:VEVENT
DTSTART;TZID=America/New_York:20260327T153000
DTEND;TZID=America/New_York:20260327T173000
DTSTAMP:20260421T060058
CREATED:20260315T213900Z
LAST-MODIFIED:20260315T213900Z
UID:10044606-1774625400-1774632600@www.cacheinmedford.org
SUMMARY:Poetry Club with Vijaya Sundaram
DESCRIPTION:Join Vijaya Sundaram\, Medford’s 2023-2025 Poet Laureate\, and take the mic and shine a light on the issues that matter most to you\, with passion\, lyricism\, and force. \nWe’ll meet to read and discuss the work of great poets\, while crafting and performing our own work. \nThe library strives to be open and accessible for all. If you need accommodations to attend the program\, please be sure to register. There is a follow-up question that will help us understand how we can include you in our programs.
URL:https://www.cacheinmedford.org/event/poetry-club-with-vijaya-sundaram-9/
LOCATION:Medford Public Library\, 111 High St.\, Medford\, MA\, 02155\, United States
CATEGORIES:Book/Poetry Readings
GEO:42.4197198;-71.1135305
X-APPLE-STRUCTURED-LOCATION;VALUE=URI;X-ADDRESS=Medford Public Library 111 High St. Medford MA 02155 United States;X-APPLE-RADIUS=500;X-TITLE=111 High St.:geo:-71.1135305,42.4197198
END:VEVENT
BEGIN:VEVENT
DTSTART;TZID=America/New_York:20260329T180000
DTEND;TZID=America/New_York:20260329T210000
DTSTAMP:20260421T060058
CREATED:20260329T132316Z
LAST-MODIFIED:20260329T132316Z
UID:10044634-1774807200-1774818000@www.cacheinmedford.org
SUMMARY:Springward Poetry Festival Opening Reception
DESCRIPTION:Join us for the Springward Poetry Festival\, a weekend of poetry-focused interactive programming for all ages. We aim to foster an environment where poets\, appreciators of poetry\, and those curious about the art form can celebrate National Poetry Month\, learn about poetry\, and connect with each other. \nStart with our ongoing monthly World Poetry Salon (free)\, on Thursday night\, April 9. The festival then kicks off on Friday night\, April 10\, at 6:00 with a public reception and a set of poetry readings\, including by Max Heinegg\, Medford’s Poet Laureate. \nOn Saturday\, April 11\, we’ll offer a daylong lineup of programming\, with readings\, workshops\, and more! Featured during this year’s festival will be Black Ocean\, an award-winning independent publisher with Medford roots\, as it celebrates its 20th anniversary. We will highlight Massachusetts and regional poets as headlining performers throughout the weekend. There will be an Open Mic for community members to share their work. We will offer workshops proposed and led by local poets to provide attendees with a safe\, communal space for poetic exploration. More program details will posted here later in March. \nGeneral admission for the Springward Festival is $20 for adults and $5 for students\, for the entire weekend. If you want to help sponsor the festival\, please contact admin@artscollabmedford.org about how to support this wonderful event. \nOverview Schedule \nThursday   7:00–8:30\, World Poetry Salon \nFriday        6:00–9:00\, Opening Reception\, readings at 7:00 \nSaturday   11:00–12:30\, Community Workshops I\n1:00–2:15\, Massachusetts Poets I\n2:30–3:30\, Open Mic\n3:30–5:00\, Community Workshops II\n5:00–6:00\, Black Ocean Poets\n6:30–7:30\, Massachusetts Poets II\n7:30–8:00\, Regie Gibson\, MA Poet Laureate \nClick here for full schedule.
URL:https://www.cacheinmedford.org/event/springward-poetry-festival-opening-reception/
LOCATION:Arts Collaborative Medford\, 162 Mystic Ave.\, Medford\, MA\, 02155\, United States
CATEGORIES:Book/Poetry Readings,Festivals
GEO:42.4097679;-71.1046054
X-APPLE-STRUCTURED-LOCATION;VALUE=URI;X-ADDRESS=Arts Collaborative Medford 162 Mystic Ave. Medford MA 02155 United States;X-APPLE-RADIUS=500;X-TITLE=162 Mystic Ave.:geo:-71.1046054,42.4097679
END:VEVENT
END:VCALENDAR