BEGIN:VCALENDAR
VERSION:2.0
PRODID:-//CACHE in Medford - ECPv6.15.18//NONSGML v1.0//EN
CALSCALE:GREGORIAN
METHOD:PUBLISH
X-ORIGINAL-URL:https://www.cacheinmedford.org
X-WR-CALDESC:Events for CACHE in Medford
REFRESH-INTERVAL;VALUE=DURATION:PT1H
X-Robots-Tag:noindex
X-PUBLISHED-TTL:PT1H
BEGIN:VTIMEZONE
TZID:America/New_York
BEGIN:DAYLIGHT
TZOFFSETFROM:-0500
TZOFFSETTO:-0400
TZNAME:EDT
DTSTART:20250309T070000
END:DAYLIGHT
BEGIN:STANDARD
TZOFFSETFROM:-0400
TZOFFSETTO:-0500
TZNAME:EST
DTSTART:20251102T060000
END:STANDARD
BEGIN:DAYLIGHT
TZOFFSETFROM:-0500
TZOFFSETTO:-0400
TZNAME:EDT
DTSTART:20260308T070000
END:DAYLIGHT
BEGIN:STANDARD
TZOFFSETFROM:-0400
TZOFFSETTO:-0500
TZNAME:EST
DTSTART:20261101T060000
END:STANDARD
BEGIN:DAYLIGHT
TZOFFSETFROM:-0500
TZOFFSETTO:-0400
TZNAME:EDT
DTSTART:20270314T070000
END:DAYLIGHT
BEGIN:STANDARD
TZOFFSETFROM:-0400
TZOFFSETTO:-0500
TZNAME:EST
DTSTART:20271107T060000
END:STANDARD
END:VTIMEZONE
BEGIN:VEVENT
DTSTART;TZID=America/New_York:20260227T190000
DTEND;TZID=America/New_York:20260227T213000
DTSTAMP:20260421T221104
CREATED:20260201T153113Z
LAST-MODIFIED:20260201T153113Z
UID:10044518-1772218800-1772227800@www.cacheinmedford.org
SUMMARY:Cilla Bonnie Album Release Show
DESCRIPTION:Join us for a celebratory evening to honor the release of Cilla Bonnie‘s newest full length album ‘There For Me’! Bonnie’s muusic echoes her musical heroes with groovy r&b-esque vibes and structural rock. It is sure to be a good time! \n\n\n\n\n\nCilla Bonnie is a bassist\, singer and songwriter whose soulful grooves and distinctive voice have built a devoted following over two decades of performing\, touring\, and recording. \nCilla works across roles: as a solo artist\, she writes all her songs and arrangements\, often performing in stripped-down formats (bass + vocal) or with a tight trio for full-band grooves. Her sound draws from R&B and soul influences while embracing structural rock dynamics — a blend that gives her music both intimacy and power. \nIn performance\, Cilla is known for bringing warmth and authenticity — whether she’s performing solo in an intimate venue or laying down low-end grooves that get an entire room swaying. Her dedication to crafting honest\, soulful music sets her apart. \n‘There for Me’ is a full length album of Cilla’s to be released in the beginning of 2026. This music touches on elements and themes that Cilla knows all too well and hopes listeners will hear themselves in the lyrics\, music and imagery. This album features bandmates Emmett Harrity on keys (Katie Matzell) and Chris Sweet on drums (Micromasse). \n$20 in advance | $25 at door
URL:https://www.cacheinmedford.org/event/cilla-bonnie-album-release-show/
LOCATION:Arts Collaborative Medford\, 162 Mystic Ave.\, Medford\, MA\, 02155\, United States
CATEGORIES:Live Music
GEO:42.4097679;-71.1046054
X-APPLE-STRUCTURED-LOCATION;VALUE=URI;X-ADDRESS=Arts Collaborative Medford 162 Mystic Ave. Medford MA 02155 United States;X-APPLE-RADIUS=500;X-TITLE=162 Mystic Ave.:geo:-71.1046054,42.4097679
END:VEVENT
END:VCALENDAR