BEGIN:VCALENDAR
VERSION:2.0
PRODID:-//CACHE in Medford - ECPv6.15.18//NONSGML v1.0//EN
CALSCALE:GREGORIAN
METHOD:PUBLISH
X-WR-CALNAME:CACHE in Medford
X-ORIGINAL-URL:https://www.cacheinmedford.org
X-WR-CALDESC:Events for CACHE in Medford
REFRESH-INTERVAL;VALUE=DURATION:PT1H
X-Robots-Tag:noindex
X-PUBLISHED-TTL:PT1H
BEGIN:VTIMEZONE
TZID:America/New_York
BEGIN:DAYLIGHT
TZOFFSETFROM:-0500
TZOFFSETTO:-0400
TZNAME:EDT
DTSTART:20250309T070000
END:DAYLIGHT
BEGIN:STANDARD
TZOFFSETFROM:-0400
TZOFFSETTO:-0500
TZNAME:EST
DTSTART:20251102T060000
END:STANDARD
BEGIN:DAYLIGHT
TZOFFSETFROM:-0500
TZOFFSETTO:-0400
TZNAME:EDT
DTSTART:20260308T070000
END:DAYLIGHT
BEGIN:STANDARD
TZOFFSETFROM:-0400
TZOFFSETTO:-0500
TZNAME:EST
DTSTART:20261101T060000
END:STANDARD
BEGIN:DAYLIGHT
TZOFFSETFROM:-0500
TZOFFSETTO:-0400
TZNAME:EDT
DTSTART:20270314T070000
END:DAYLIGHT
BEGIN:STANDARD
TZOFFSETFROM:-0400
TZOFFSETTO:-0500
TZNAME:EST
DTSTART:20271107T060000
END:STANDARD
END:VTIMEZONE
BEGIN:VEVENT
DTSTART;TZID=America/New_York:20260116T180000
DTEND;TZID=America/New_York:20260116T210000
DTSTAMP:20260420T114322
CREATED:20251229T151625Z
LAST-MODIFIED:20251229T151625Z
UID:10044052-1768586400-1768597200@www.cacheinmedford.org
SUMMARY:Unreliable Witness - Opening Reception
DESCRIPTION:Celebrate the opening of Unreliable Witness\, an interactive art exhibition by Stephanie Todhunter with collaborations from Earl Howard and Peter West. This immersive show explores how perception shifts with context\, inviting visitors to question what they see and how they interpret it through dynamic visual and conceptual work. The opening reception is free and open to all — enjoy art\, community\, and conversation with the artists themselves.
URL:https://www.cacheinmedford.org/event/unreliable-witness-opening-reception/
LOCATION:Arts Collaborative Medford\, 162 Mystic Ave.\, Medford\, MA\, 02155\, United States
CATEGORIES:Exhibits
GEO:42.4097679;-71.1046054
X-APPLE-STRUCTURED-LOCATION;VALUE=URI;X-ADDRESS=Arts Collaborative Medford 162 Mystic Ave. Medford MA 02155 United States;X-APPLE-RADIUS=500;X-TITLE=162 Mystic Ave.:geo:-71.1046054,42.4097679
END:VEVENT
BEGIN:VEVENT
DTSTART;TZID=America/New_York:20260125T190000
DTEND;TZID=America/New_York:20260125T210000
DTSTAMP:20260420T114322
CREATED:20260126T024803Z
LAST-MODIFIED:20260126T024803Z
UID:10044500-1769367600-1769374800@www.cacheinmedford.org
SUMMARY:Adèle Patnaude – "The Art of Aquarius" Opening Reception
DESCRIPTION:Celebrate the launch of The Art of Aquarius\, a debut solo exhibit by Adèle Patnaude on Saturday\, February 7th\, 7:00–9:00 PM at our Opening Reception. This evening reception invites guests to explore Adèle’s latest collection of paintings while enjoying light refreshments and casual conversation with the artist. \nGuests will have the opportunity to learn about Adèle’s process\, ask questions\, and gain insight into her experiences that inspire her work. Whether you’re an art enthusiast or simply curious\, this is a great way to engage with local art and support Boston’s creative community. \nThis event is free and open to the public — come connect\, unwind\, and experience an evening of art and inspiration. \nRSVP HERE!
URL:https://www.cacheinmedford.org/event/adele-patnaude-the-art-of-aquarius-opening-reception/
LOCATION:EventThem Studios\, 344 Salem St.\, Medford\, MA\, 02155\, United States
CATEGORIES:Exhibits
ORGANIZER;CN="EventThem Studios":MAILTO:bryan@eventthem.com
GEO:42.4218199;-71.0966138
X-APPLE-STRUCTURED-LOCATION;VALUE=URI;X-ADDRESS=EventThem Studios 344 Salem St. Medford MA 02155 United States;X-APPLE-RADIUS=500;X-TITLE=344 Salem St.:geo:-71.0966138,42.4218199
END:VEVENT
END:VCALENDAR