BEGIN:VCALENDAR
VERSION:2.0
PRODID:-//CACHE in Medford - ECPv6.15.18//NONSGML v1.0//EN
CALSCALE:GREGORIAN
METHOD:PUBLISH
X-ORIGINAL-URL:https://www.cacheinmedford.org
X-WR-CALDESC:Events for CACHE in Medford
REFRESH-INTERVAL;VALUE=DURATION:PT1H
X-Robots-Tag:noindex
X-PUBLISHED-TTL:PT1H
BEGIN:VTIMEZONE
TZID:America/New_York
BEGIN:DAYLIGHT
TZOFFSETFROM:-0500
TZOFFSETTO:-0400
TZNAME:EDT
DTSTART:20240310T070000
END:DAYLIGHT
BEGIN:STANDARD
TZOFFSETFROM:-0400
TZOFFSETTO:-0500
TZNAME:EST
DTSTART:20241103T060000
END:STANDARD
BEGIN:DAYLIGHT
TZOFFSETFROM:-0500
TZOFFSETTO:-0400
TZNAME:EDT
DTSTART:20250309T070000
END:DAYLIGHT
BEGIN:STANDARD
TZOFFSETFROM:-0400
TZOFFSETTO:-0500
TZNAME:EST
DTSTART:20251102T060000
END:STANDARD
BEGIN:DAYLIGHT
TZOFFSETFROM:-0500
TZOFFSETTO:-0400
TZNAME:EDT
DTSTART:20260308T070000
END:DAYLIGHT
BEGIN:STANDARD
TZOFFSETFROM:-0400
TZOFFSETTO:-0500
TZNAME:EST
DTSTART:20261101T060000
END:STANDARD
END:VTIMEZONE
BEGIN:VEVENT
DTSTART;TZID=America/New_York:20251203T183000
DTEND;TZID=America/New_York:20251203T210000
DTSTAMP:20260422T212829
CREATED:20251022T135003Z
LAST-MODIFIED:20251022T135016Z
UID:10043547-1764786600-1764795600@www.cacheinmedford.org
SUMMARY:Live Figure Drawing
DESCRIPTION:This is a non-instructor lead live drawing session. All sessions are in person\, and will be with a nude or lightly clothed model. There will be a studio monitor present to assist the model and participants. Each session will feature a live model using a mixture of short and long poses – starting at one-minute poses and working up to a 15 or 20 minute pose.\nParticipants should bring their own materials. \n\n\n\n\n\n\nAvailable Session Dates: \n\n\nWed 9/10 \n\n\nWed 9/24 \n\n\nWed 10/8 \n\n\nWed 10/22 \n\n\nWed 11/5 \n\n\nWed 11/19 \n\n\nWed 12/3 \n\n\nWed 12/17 \n\n\nEvery other Wednesday \n$15; pre-register or drop-in
URL:https://www.cacheinmedford.org/event/live-figure-drawing/2025-12-03/
LOCATION:Arts Collaborative Medford\, 162 Mystic Ave.\, Medford\, MA\, 02155\, United States
CATEGORIES:Classes/Workshops
GEO:42.4097679;-71.1046054
X-APPLE-STRUCTURED-LOCATION;VALUE=URI;X-ADDRESS=Arts Collaborative Medford 162 Mystic Ave. Medford MA 02155 United States;X-APPLE-RADIUS=500;X-TITLE=162 Mystic Ave.:geo:-71.1046054,42.4097679
END:VEVENT
BEGIN:VEVENT
DTSTART;TZID=America/New_York:20251217T183000
DTEND;TZID=America/New_York:20251217T210000
DTSTAMP:20260422T212829
CREATED:20251022T135003Z
LAST-MODIFIED:20251022T135016Z
UID:10043548-1765996200-1766005200@www.cacheinmedford.org
SUMMARY:Live Figure Drawing
DESCRIPTION:This is a non-instructor lead live drawing session. All sessions are in person\, and will be with a nude or lightly clothed model. There will be a studio monitor present to assist the model and participants. Each session will feature a live model using a mixture of short and long poses – starting at one-minute poses and working up to a 15 or 20 minute pose.\nParticipants should bring their own materials. \n\n\n\n\n\n\nAvailable Session Dates: \n\n\nWed 9/10 \n\n\nWed 9/24 \n\n\nWed 10/8 \n\n\nWed 10/22 \n\n\nWed 11/5 \n\n\nWed 11/19 \n\n\nWed 12/3 \n\n\nWed 12/17 \n\n\nEvery other Wednesday \n$15; pre-register or drop-in
URL:https://www.cacheinmedford.org/event/live-figure-drawing/2025-12-17/
LOCATION:Arts Collaborative Medford\, 162 Mystic Ave.\, Medford\, MA\, 02155\, United States
CATEGORIES:Classes/Workshops
GEO:42.4097679;-71.1046054
X-APPLE-STRUCTURED-LOCATION;VALUE=URI;X-ADDRESS=Arts Collaborative Medford 162 Mystic Ave. Medford MA 02155 United States;X-APPLE-RADIUS=500;X-TITLE=162 Mystic Ave.:geo:-71.1046054,42.4097679
END:VEVENT
END:VCALENDAR