BEGIN:VCALENDAR
VERSION:2.0
PRODID:-//CACHE in Medford - ECPv6.15.18//NONSGML v1.0//EN
CALSCALE:GREGORIAN
METHOD:PUBLISH
X-ORIGINAL-URL:https://www.cacheinmedford.org
X-WR-CALDESC:Events for CACHE in Medford
REFRESH-INTERVAL;VALUE=DURATION:PT1H
X-Robots-Tag:noindex
X-PUBLISHED-TTL:PT1H
BEGIN:VTIMEZONE
TZID:America/New_York
BEGIN:DAYLIGHT
TZOFFSETFROM:-0500
TZOFFSETTO:-0400
TZNAME:EDT
DTSTART:20250309T070000
END:DAYLIGHT
BEGIN:STANDARD
TZOFFSETFROM:-0400
TZOFFSETTO:-0500
TZNAME:EST
DTSTART:20251102T060000
END:STANDARD
BEGIN:DAYLIGHT
TZOFFSETFROM:-0500
TZOFFSETTO:-0400
TZNAME:EDT
DTSTART:20260308T070000
END:DAYLIGHT
BEGIN:STANDARD
TZOFFSETFROM:-0400
TZOFFSETTO:-0500
TZNAME:EST
DTSTART:20261101T060000
END:STANDARD
BEGIN:DAYLIGHT
TZOFFSETFROM:-0500
TZOFFSETTO:-0400
TZNAME:EDT
DTSTART:20270314T070000
END:DAYLIGHT
BEGIN:STANDARD
TZOFFSETFROM:-0400
TZOFFSETTO:-0500
TZNAME:EST
DTSTART:20271107T060000
END:STANDARD
END:VTIMEZONE
BEGIN:VEVENT
DTSTART;TZID=America/New_York:20260326T173000
DTEND;TZID=America/New_York:20260326T200000
DTSTAMP:20260423T161525
CREATED:20260315T220915Z
LAST-MODIFIED:20260315T220915Z
UID:10044614-1774546200-1774555200@www.cacheinmedford.org
SUMMARY:Where The Light Came In: Judith Black Book Signing and Q&A
DESCRIPTION:The most consequential moments are rarely dramatic. What stays with us\, what makes us feel truly seen\, is often small\, domestic\, and endlessly repeated. Judith Black’s photographs\, made at home in the early 1980s of her four young children and their stepfather\, remind us of this simple truth. \nIn 1980\, after a divorce\, Judith moved her family to Cambridge\, Massachusetts\, and took a job at the darkroom at MIT. Their home wasn’t grand\, but it was theirs\, a place to begin again. Not long after settling in\, they found a worn old armchair left on the side of the road and gave it a place by the window. It became a spot of rest and quiet theatre\, a vantage point from which Judith watched her children grow\, day by day\, frame by frame. \nThis new book gathers every photograph she made of that single chair. What begins as cast-off furniture becomes\, through her attentive eye\, a kind of threshold: a simple thing that holds a whole world. There is a truth here that is easy to overlook\, that by staying close to the ordinary\, by returning to the same corner of a room\, we might learn to see more clearly. And that the measure of a life is so often found not in grand gestures\, but in the worn fabric of a chair\, the shifting light\, the hush of children growing older under our watch.
URL:https://www.cacheinmedford.org/event/where-the-light-came-in-judith-black-book-signing-and-qa/
LOCATION:Palm Press Bookstore\, 19 High St.\, Medford\, MA\, 02155\, United States
CATEGORIES:Book/Poetry Readings
ORGANIZER;CN="Palm Press Bookstore":MAILTO:info@palmpress.studio
GEO:42.4184888;-71.1100591
X-APPLE-STRUCTURED-LOCATION;VALUE=URI;X-ADDRESS=Palm Press Bookstore 19 High St. Medford MA 02155 United States;X-APPLE-RADIUS=500;X-TITLE=19 High St.:geo:-71.1100591,42.4184888
END:VEVENT
END:VCALENDAR