BEGIN:VCALENDAR
VERSION:2.0
PRODID:-//CACHE in Medford - ECPv6.15.18//NONSGML v1.0//EN
CALSCALE:GREGORIAN
METHOD:PUBLISH
X-ORIGINAL-URL:https://www.cacheinmedford.org
X-WR-CALDESC:Events for CACHE in Medford
REFRESH-INTERVAL;VALUE=DURATION:PT1H
X-Robots-Tag:noindex
X-PUBLISHED-TTL:PT1H
BEGIN:VTIMEZONE
TZID:America/New_York
BEGIN:DAYLIGHT
TZOFFSETFROM:-0500
TZOFFSETTO:-0400
TZNAME:EDT
DTSTART:20240310T070000
END:DAYLIGHT
BEGIN:STANDARD
TZOFFSETFROM:-0400
TZOFFSETTO:-0500
TZNAME:EST
DTSTART:20241103T060000
END:STANDARD
BEGIN:DAYLIGHT
TZOFFSETFROM:-0500
TZOFFSETTO:-0400
TZNAME:EDT
DTSTART:20250309T070000
END:DAYLIGHT
BEGIN:STANDARD
TZOFFSETFROM:-0400
TZOFFSETTO:-0500
TZNAME:EST
DTSTART:20251102T060000
END:STANDARD
BEGIN:DAYLIGHT
TZOFFSETFROM:-0500
TZOFFSETTO:-0400
TZNAME:EDT
DTSTART:20260308T070000
END:DAYLIGHT
BEGIN:STANDARD
TZOFFSETFROM:-0400
TZOFFSETTO:-0500
TZNAME:EST
DTSTART:20261101T060000
END:STANDARD
END:VTIMEZONE
BEGIN:VEVENT
DTSTART;TZID=America/New_York:20250904T180000
DTEND;TZID=America/New_York:20250904T200000
DTSTAMP:20260424T173042
CREATED:20250823T173549Z
LAST-MODIFIED:20250823T173549Z
UID:10041959-1757008800-1757016000@www.cacheinmedford.org
SUMMARY:Community Reception: "How do you throw a brick through the window..."
DESCRIPTION:Please join us at TUAG / Boston for a community-wide reception to celebrate How do you throw a brick through the window…\, coming up in just over two weeks! \nHow do you throw a brick through the window… features the work of seven artists—Yani aviles\, Chloe P. Crawford\, Nat Decker\, Jeff Kasper\, Carly Mandel\, Jeffrey Meris\, and Libby Paloma—who engage the radical questioning of Korean American writer\, artist\, and musician Johanna Hedva: “How do you throw a brick through the window of a bank if you can’t get out of bed?” to explore how individuals with individuals with disabilities\, chronic illnesses\, and neurodivergence navigate forms of protest despite the normalization of ableism in public spaces. \nLearn more about the event and RSVP using the links below: \nCOMMUNITY RECEPTION\nThursday\, September 4\n6–8PM\n230 Fenway / SMFA at Tufts \nRegister for the Community Reception here. \nThe exhibition is co-organized by Laurel V. McLaughlin and Tanya Gayer in dialogue with the artists. \nThe accompanying symposium for HDYTB and pre-exhibition programming at TUAG were supported by a curatorial research fellowship from The Andy Warhol Foundation for the Visual Arts for Laurel V. McLaughlin. Access for programming support for the exhibition is provided by an anonymous donor.
URL:https://www.cacheinmedford.org/event/community-reception-how-do-you-throw-a-brick-through-the-window/
LOCATION:Tufts University Art Galleries\, Aidekman Arts Center\, 40 Talbot Ave.\, Medford\, MA\, 02155\, United States
CATEGORIES:Exhibits
GEO:42.4043201;-71.119282
X-APPLE-STRUCTURED-LOCATION;VALUE=URI;X-ADDRESS=Tufts University Art Galleries Aidekman Arts Center 40 Talbot Ave. Medford MA 02155 United States;X-APPLE-RADIUS=500;X-TITLE=40 Talbot Ave.:geo:-71.119282,42.4043201
END:VEVENT
END:VCALENDAR