BEGIN:VCALENDAR
VERSION:2.0
PRODID:-//CACHE in Medford - ECPv6.15.18//NONSGML v1.0//EN
CALSCALE:GREGORIAN
METHOD:PUBLISH
X-WR-CALNAME:CACHE in Medford
X-ORIGINAL-URL:https://www.cacheinmedford.org
X-WR-CALDESC:Events for CACHE in Medford
REFRESH-INTERVAL;VALUE=DURATION:PT1H
X-Robots-Tag:noindex
X-PUBLISHED-TTL:PT1H
BEGIN:VTIMEZONE
TZID:America/New_York
BEGIN:DAYLIGHT
TZOFFSETFROM:-0500
TZOFFSETTO:-0400
TZNAME:EDT
DTSTART:20250309T070000
END:DAYLIGHT
BEGIN:STANDARD
TZOFFSETFROM:-0400
TZOFFSETTO:-0500
TZNAME:EST
DTSTART:20251102T060000
END:STANDARD
BEGIN:DAYLIGHT
TZOFFSETFROM:-0500
TZOFFSETTO:-0400
TZNAME:EDT
DTSTART:20260308T070000
END:DAYLIGHT
BEGIN:STANDARD
TZOFFSETFROM:-0400
TZOFFSETTO:-0500
TZNAME:EST
DTSTART:20261101T060000
END:STANDARD
BEGIN:DAYLIGHT
TZOFFSETFROM:-0500
TZOFFSETTO:-0400
TZNAME:EDT
DTSTART:20270314T070000
END:DAYLIGHT
BEGIN:STANDARD
TZOFFSETFROM:-0400
TZOFFSETTO:-0500
TZNAME:EST
DTSTART:20271107T060000
END:STANDARD
END:VTIMEZONE
BEGIN:VEVENT
DTSTART;TZID=America/New_York:20260427T100000
DTEND;TZID=America/New_York:20260427T110000
DTSTAMP:20260423T054853
CREATED:20250914T171956Z
LAST-MODIFIED:20250914T171956Z
UID:10042400-1777284000-1777287600@www.cacheinmedford.org
SUMMARY:Gentle Yoga for Seniors
DESCRIPTION:Join Rosa on Mondays at 10:00 AM for gentle yoga designed to increase flexibility\, balance\, and relaxation. Cost: $5 per class.
URL:https://www.cacheinmedford.org/event/gentle-yoga-for-seniors/2026-04-27/
LOCATION:Medford Senior Center\, 101 Riverside Ave.\, Medford\, MA\, 02155
CATEGORIES:Senior Programs
GEO:42.4164422;-71.1059052
X-APPLE-STRUCTURED-LOCATION;VALUE=URI;X-ADDRESS=Medford Senior Center 101 Riverside Ave. Medford MA 02155;X-APPLE-RADIUS=500;X-TITLE=101 Riverside Ave.:geo:-71.1059052,42.4164422
END:VEVENT
BEGIN:VEVENT
DTSTART;TZID=America/New_York:20260504T100000
DTEND;TZID=America/New_York:20260504T110000
DTSTAMP:20260423T054853
CREATED:20250914T171956Z
LAST-MODIFIED:20250914T171956Z
UID:10042401-1777888800-1777892400@www.cacheinmedford.org
SUMMARY:Gentle Yoga for Seniors
DESCRIPTION:Join Rosa on Mondays at 10:00 AM for gentle yoga designed to increase flexibility\, balance\, and relaxation. Cost: $5 per class.
URL:https://www.cacheinmedford.org/event/gentle-yoga-for-seniors/2026-05-04/
LOCATION:Medford Senior Center\, 101 Riverside Ave.\, Medford\, MA\, 02155
CATEGORIES:Senior Programs
GEO:42.4164422;-71.1059052
X-APPLE-STRUCTURED-LOCATION;VALUE=URI;X-ADDRESS=Medford Senior Center 101 Riverside Ave. Medford MA 02155;X-APPLE-RADIUS=500;X-TITLE=101 Riverside Ave.:geo:-71.1059052,42.4164422
END:VEVENT
BEGIN:VEVENT
DTSTART;TZID=America/New_York:20260511T100000
DTEND;TZID=America/New_York:20260511T110000
DTSTAMP:20260423T054853
CREATED:20250914T171956Z
LAST-MODIFIED:20250914T171956Z
UID:10042402-1778493600-1778497200@www.cacheinmedford.org
SUMMARY:Gentle Yoga for Seniors
DESCRIPTION:Join Rosa on Mondays at 10:00 AM for gentle yoga designed to increase flexibility\, balance\, and relaxation. Cost: $5 per class.
URL:https://www.cacheinmedford.org/event/gentle-yoga-for-seniors/2026-05-11/
LOCATION:Medford Senior Center\, 101 Riverside Ave.\, Medford\, MA\, 02155
CATEGORIES:Senior Programs
GEO:42.4164422;-71.1059052
X-APPLE-STRUCTURED-LOCATION;VALUE=URI;X-ADDRESS=Medford Senior Center 101 Riverside Ave. Medford MA 02155;X-APPLE-RADIUS=500;X-TITLE=101 Riverside Ave.:geo:-71.1059052,42.4164422
END:VEVENT
BEGIN:VEVENT
DTSTART;TZID=America/New_York:20260518T100000
DTEND;TZID=America/New_York:20260518T110000
DTSTAMP:20260423T054853
CREATED:20250914T171956Z
LAST-MODIFIED:20250914T171956Z
UID:10042403-1779098400-1779102000@www.cacheinmedford.org
SUMMARY:Gentle Yoga for Seniors
DESCRIPTION:Join Rosa on Mondays at 10:00 AM for gentle yoga designed to increase flexibility\, balance\, and relaxation. Cost: $5 per class.
URL:https://www.cacheinmedford.org/event/gentle-yoga-for-seniors/2026-05-18/
LOCATION:Medford Senior Center\, 101 Riverside Ave.\, Medford\, MA\, 02155
CATEGORIES:Senior Programs
GEO:42.4164422;-71.1059052
X-APPLE-STRUCTURED-LOCATION;VALUE=URI;X-ADDRESS=Medford Senior Center 101 Riverside Ave. Medford MA 02155;X-APPLE-RADIUS=500;X-TITLE=101 Riverside Ave.:geo:-71.1059052,42.4164422
END:VEVENT
BEGIN:VEVENT
DTSTART;TZID=America/New_York:20260525T100000
DTEND;TZID=America/New_York:20260525T110000
DTSTAMP:20260423T054853
CREATED:20250914T171956Z
LAST-MODIFIED:20250914T171956Z
UID:10042404-1779703200-1779706800@www.cacheinmedford.org
SUMMARY:Gentle Yoga for Seniors
DESCRIPTION:Join Rosa on Mondays at 10:00 AM for gentle yoga designed to increase flexibility\, balance\, and relaxation. Cost: $5 per class.
URL:https://www.cacheinmedford.org/event/gentle-yoga-for-seniors/2026-05-25/
LOCATION:Medford Senior Center\, 101 Riverside Ave.\, Medford\, MA\, 02155
CATEGORIES:Senior Programs
GEO:42.4164422;-71.1059052
X-APPLE-STRUCTURED-LOCATION;VALUE=URI;X-ADDRESS=Medford Senior Center 101 Riverside Ave. Medford MA 02155;X-APPLE-RADIUS=500;X-TITLE=101 Riverside Ave.:geo:-71.1059052,42.4164422
END:VEVENT
BEGIN:VEVENT
DTSTART;TZID=America/New_York:20260601T100000
DTEND;TZID=America/New_York:20260601T110000
DTSTAMP:20260423T054853
CREATED:20250914T171956Z
LAST-MODIFIED:20250914T171956Z
UID:10042405-1780308000-1780311600@www.cacheinmedford.org
SUMMARY:Gentle Yoga for Seniors
DESCRIPTION:Join Rosa on Mondays at 10:00 AM for gentle yoga designed to increase flexibility\, balance\, and relaxation. Cost: $5 per class.
URL:https://www.cacheinmedford.org/event/gentle-yoga-for-seniors/2026-06-01/
LOCATION:Medford Senior Center\, 101 Riverside Ave.\, Medford\, MA\, 02155
CATEGORIES:Senior Programs
GEO:42.4164422;-71.1059052
X-APPLE-STRUCTURED-LOCATION;VALUE=URI;X-ADDRESS=Medford Senior Center 101 Riverside Ave. Medford MA 02155;X-APPLE-RADIUS=500;X-TITLE=101 Riverside Ave.:geo:-71.1059052,42.4164422
END:VEVENT
BEGIN:VEVENT
DTSTART;TZID=America/New_York:20260608T100000
DTEND;TZID=America/New_York:20260608T110000
DTSTAMP:20260423T054853
CREATED:20250914T171956Z
LAST-MODIFIED:20250914T171956Z
UID:10042406-1780912800-1780916400@www.cacheinmedford.org
SUMMARY:Gentle Yoga for Seniors
DESCRIPTION:Join Rosa on Mondays at 10:00 AM for gentle yoga designed to increase flexibility\, balance\, and relaxation. Cost: $5 per class.
URL:https://www.cacheinmedford.org/event/gentle-yoga-for-seniors/2026-06-08/
LOCATION:Medford Senior Center\, 101 Riverside Ave.\, Medford\, MA\, 02155
CATEGORIES:Senior Programs
GEO:42.4164422;-71.1059052
X-APPLE-STRUCTURED-LOCATION;VALUE=URI;X-ADDRESS=Medford Senior Center 101 Riverside Ave. Medford MA 02155;X-APPLE-RADIUS=500;X-TITLE=101 Riverside Ave.:geo:-71.1059052,42.4164422
END:VEVENT
BEGIN:VEVENT
DTSTART;TZID=America/New_York:20260615T100000
DTEND;TZID=America/New_York:20260615T110000
DTSTAMP:20260423T054853
CREATED:20250914T171956Z
LAST-MODIFIED:20250914T171956Z
UID:10042407-1781517600-1781521200@www.cacheinmedford.org
SUMMARY:Gentle Yoga for Seniors
DESCRIPTION:Join Rosa on Mondays at 10:00 AM for gentle yoga designed to increase flexibility\, balance\, and relaxation. Cost: $5 per class.
URL:https://www.cacheinmedford.org/event/gentle-yoga-for-seniors/2026-06-15/
LOCATION:Medford Senior Center\, 101 Riverside Ave.\, Medford\, MA\, 02155
CATEGORIES:Senior Programs
GEO:42.4164422;-71.1059052
X-APPLE-STRUCTURED-LOCATION;VALUE=URI;X-ADDRESS=Medford Senior Center 101 Riverside Ave. Medford MA 02155;X-APPLE-RADIUS=500;X-TITLE=101 Riverside Ave.:geo:-71.1059052,42.4164422
END:VEVENT
BEGIN:VEVENT
DTSTART;TZID=America/New_York:20260622T100000
DTEND;TZID=America/New_York:20260622T110000
DTSTAMP:20260423T054853
CREATED:20250914T171956Z
LAST-MODIFIED:20250914T171956Z
UID:10042408-1782122400-1782126000@www.cacheinmedford.org
SUMMARY:Gentle Yoga for Seniors
DESCRIPTION:Join Rosa on Mondays at 10:00 AM for gentle yoga designed to increase flexibility\, balance\, and relaxation. Cost: $5 per class.
URL:https://www.cacheinmedford.org/event/gentle-yoga-for-seniors/2026-06-22/
LOCATION:Medford Senior Center\, 101 Riverside Ave.\, Medford\, MA\, 02155
CATEGORIES:Senior Programs
GEO:42.4164422;-71.1059052
X-APPLE-STRUCTURED-LOCATION;VALUE=URI;X-ADDRESS=Medford Senior Center 101 Riverside Ave. Medford MA 02155;X-APPLE-RADIUS=500;X-TITLE=101 Riverside Ave.:geo:-71.1059052,42.4164422
END:VEVENT
BEGIN:VEVENT
DTSTART;TZID=America/New_York:20260629T100000
DTEND;TZID=America/New_York:20260629T110000
DTSTAMP:20260423T054853
CREATED:20250914T171956Z
LAST-MODIFIED:20250914T171956Z
UID:10042409-1782727200-1782730800@www.cacheinmedford.org
SUMMARY:Gentle Yoga for Seniors
DESCRIPTION:Join Rosa on Mondays at 10:00 AM for gentle yoga designed to increase flexibility\, balance\, and relaxation. Cost: $5 per class.
URL:https://www.cacheinmedford.org/event/gentle-yoga-for-seniors/2026-06-29/
LOCATION:Medford Senior Center\, 101 Riverside Ave.\, Medford\, MA\, 02155
CATEGORIES:Senior Programs
GEO:42.4164422;-71.1059052
X-APPLE-STRUCTURED-LOCATION;VALUE=URI;X-ADDRESS=Medford Senior Center 101 Riverside Ave. Medford MA 02155;X-APPLE-RADIUS=500;X-TITLE=101 Riverside Ave.:geo:-71.1059052,42.4164422
END:VEVENT
BEGIN:VEVENT
DTSTART;TZID=America/New_York:20260706T100000
DTEND;TZID=America/New_York:20260706T110000
DTSTAMP:20260423T054853
CREATED:20250914T171956Z
LAST-MODIFIED:20250914T171956Z
UID:10042410-1783332000-1783335600@www.cacheinmedford.org
SUMMARY:Gentle Yoga for Seniors
DESCRIPTION:Join Rosa on Mondays at 10:00 AM for gentle yoga designed to increase flexibility\, balance\, and relaxation. Cost: $5 per class.
URL:https://www.cacheinmedford.org/event/gentle-yoga-for-seniors/2026-07-06/
LOCATION:Medford Senior Center\, 101 Riverside Ave.\, Medford\, MA\, 02155
CATEGORIES:Senior Programs
GEO:42.4164422;-71.1059052
X-APPLE-STRUCTURED-LOCATION;VALUE=URI;X-ADDRESS=Medford Senior Center 101 Riverside Ave. Medford MA 02155;X-APPLE-RADIUS=500;X-TITLE=101 Riverside Ave.:geo:-71.1059052,42.4164422
END:VEVENT
BEGIN:VEVENT
DTSTART;TZID=America/New_York:20260713T100000
DTEND;TZID=America/New_York:20260713T110000
DTSTAMP:20260423T054853
CREATED:20250914T171956Z
LAST-MODIFIED:20250914T171956Z
UID:10042411-1783936800-1783940400@www.cacheinmedford.org
SUMMARY:Gentle Yoga for Seniors
DESCRIPTION:Join Rosa on Mondays at 10:00 AM for gentle yoga designed to increase flexibility\, balance\, and relaxation. Cost: $5 per class.
URL:https://www.cacheinmedford.org/event/gentle-yoga-for-seniors/2026-07-13/
LOCATION:Medford Senior Center\, 101 Riverside Ave.\, Medford\, MA\, 02155
CATEGORIES:Senior Programs
GEO:42.4164422;-71.1059052
X-APPLE-STRUCTURED-LOCATION;VALUE=URI;X-ADDRESS=Medford Senior Center 101 Riverside Ave. Medford MA 02155;X-APPLE-RADIUS=500;X-TITLE=101 Riverside Ave.:geo:-71.1059052,42.4164422
END:VEVENT
BEGIN:VEVENT
DTSTART;TZID=America/New_York:20260720T100000
DTEND;TZID=America/New_York:20260720T110000
DTSTAMP:20260423T054853
CREATED:20250914T171956Z
LAST-MODIFIED:20250914T171956Z
UID:10042412-1784541600-1784545200@www.cacheinmedford.org
SUMMARY:Gentle Yoga for Seniors
DESCRIPTION:Join Rosa on Mondays at 10:00 AM for gentle yoga designed to increase flexibility\, balance\, and relaxation. Cost: $5 per class.
URL:https://www.cacheinmedford.org/event/gentle-yoga-for-seniors/2026-07-20/
LOCATION:Medford Senior Center\, 101 Riverside Ave.\, Medford\, MA\, 02155
CATEGORIES:Senior Programs
GEO:42.4164422;-71.1059052
X-APPLE-STRUCTURED-LOCATION;VALUE=URI;X-ADDRESS=Medford Senior Center 101 Riverside Ave. Medford MA 02155;X-APPLE-RADIUS=500;X-TITLE=101 Riverside Ave.:geo:-71.1059052,42.4164422
END:VEVENT
BEGIN:VEVENT
DTSTART;TZID=America/New_York:20260727T100000
DTEND;TZID=America/New_York:20260727T110000
DTSTAMP:20260423T054853
CREATED:20250914T171956Z
LAST-MODIFIED:20250914T171956Z
UID:10042413-1785146400-1785150000@www.cacheinmedford.org
SUMMARY:Gentle Yoga for Seniors
DESCRIPTION:Join Rosa on Mondays at 10:00 AM for gentle yoga designed to increase flexibility\, balance\, and relaxation. Cost: $5 per class.
URL:https://www.cacheinmedford.org/event/gentle-yoga-for-seniors/2026-07-27/
LOCATION:Medford Senior Center\, 101 Riverside Ave.\, Medford\, MA\, 02155
CATEGORIES:Senior Programs
GEO:42.4164422;-71.1059052
X-APPLE-STRUCTURED-LOCATION;VALUE=URI;X-ADDRESS=Medford Senior Center 101 Riverside Ave. Medford MA 02155;X-APPLE-RADIUS=500;X-TITLE=101 Riverside Ave.:geo:-71.1059052,42.4164422
END:VEVENT
BEGIN:VEVENT
DTSTART;TZID=America/New_York:20260803T100000
DTEND;TZID=America/New_York:20260803T110000
DTSTAMP:20260423T054853
CREATED:20250914T171956Z
LAST-MODIFIED:20250914T171956Z
UID:10042414-1785751200-1785754800@www.cacheinmedford.org
SUMMARY:Gentle Yoga for Seniors
DESCRIPTION:Join Rosa on Mondays at 10:00 AM for gentle yoga designed to increase flexibility\, balance\, and relaxation. Cost: $5 per class.
URL:https://www.cacheinmedford.org/event/gentle-yoga-for-seniors/2026-08-03/
LOCATION:Medford Senior Center\, 101 Riverside Ave.\, Medford\, MA\, 02155
CATEGORIES:Senior Programs
GEO:42.4164422;-71.1059052
X-APPLE-STRUCTURED-LOCATION;VALUE=URI;X-ADDRESS=Medford Senior Center 101 Riverside Ave. Medford MA 02155;X-APPLE-RADIUS=500;X-TITLE=101 Riverside Ave.:geo:-71.1059052,42.4164422
END:VEVENT
BEGIN:VEVENT
DTSTART;TZID=America/New_York:20260810T100000
DTEND;TZID=America/New_York:20260810T110000
DTSTAMP:20260423T054853
CREATED:20250914T171956Z
LAST-MODIFIED:20250914T171956Z
UID:10042415-1786356000-1786359600@www.cacheinmedford.org
SUMMARY:Gentle Yoga for Seniors
DESCRIPTION:Join Rosa on Mondays at 10:00 AM for gentle yoga designed to increase flexibility\, balance\, and relaxation. Cost: $5 per class.
URL:https://www.cacheinmedford.org/event/gentle-yoga-for-seniors/2026-08-10/
LOCATION:Medford Senior Center\, 101 Riverside Ave.\, Medford\, MA\, 02155
CATEGORIES:Senior Programs
GEO:42.4164422;-71.1059052
X-APPLE-STRUCTURED-LOCATION;VALUE=URI;X-ADDRESS=Medford Senior Center 101 Riverside Ave. Medford MA 02155;X-APPLE-RADIUS=500;X-TITLE=101 Riverside Ave.:geo:-71.1059052,42.4164422
END:VEVENT
BEGIN:VEVENT
DTSTART;TZID=America/New_York:20260817T100000
DTEND;TZID=America/New_York:20260817T110000
DTSTAMP:20260423T054853
CREATED:20250914T171956Z
LAST-MODIFIED:20250914T171956Z
UID:10042416-1786960800-1786964400@www.cacheinmedford.org
SUMMARY:Gentle Yoga for Seniors
DESCRIPTION:Join Rosa on Mondays at 10:00 AM for gentle yoga designed to increase flexibility\, balance\, and relaxation. Cost: $5 per class.
URL:https://www.cacheinmedford.org/event/gentle-yoga-for-seniors/2026-08-17/
LOCATION:Medford Senior Center\, 101 Riverside Ave.\, Medford\, MA\, 02155
CATEGORIES:Senior Programs
GEO:42.4164422;-71.1059052
X-APPLE-STRUCTURED-LOCATION;VALUE=URI;X-ADDRESS=Medford Senior Center 101 Riverside Ave. Medford MA 02155;X-APPLE-RADIUS=500;X-TITLE=101 Riverside Ave.:geo:-71.1059052,42.4164422
END:VEVENT
BEGIN:VEVENT
DTSTART;TZID=America/New_York:20260824T100000
DTEND;TZID=America/New_York:20260824T110000
DTSTAMP:20260423T054853
CREATED:20250914T171956Z
LAST-MODIFIED:20250914T171956Z
UID:10042417-1787565600-1787569200@www.cacheinmedford.org
SUMMARY:Gentle Yoga for Seniors
DESCRIPTION:Join Rosa on Mondays at 10:00 AM for gentle yoga designed to increase flexibility\, balance\, and relaxation. Cost: $5 per class.
URL:https://www.cacheinmedford.org/event/gentle-yoga-for-seniors/2026-08-24/
LOCATION:Medford Senior Center\, 101 Riverside Ave.\, Medford\, MA\, 02155
CATEGORIES:Senior Programs
GEO:42.4164422;-71.1059052
X-APPLE-STRUCTURED-LOCATION;VALUE=URI;X-ADDRESS=Medford Senior Center 101 Riverside Ave. Medford MA 02155;X-APPLE-RADIUS=500;X-TITLE=101 Riverside Ave.:geo:-71.1059052,42.4164422
END:VEVENT
BEGIN:VEVENT
DTSTART;TZID=America/New_York:20260831T100000
DTEND;TZID=America/New_York:20260831T110000
DTSTAMP:20260423T054853
CREATED:20250914T171956Z
LAST-MODIFIED:20250914T171956Z
UID:10042418-1788170400-1788174000@www.cacheinmedford.org
SUMMARY:Gentle Yoga for Seniors
DESCRIPTION:Join Rosa on Mondays at 10:00 AM for gentle yoga designed to increase flexibility\, balance\, and relaxation. Cost: $5 per class.
URL:https://www.cacheinmedford.org/event/gentle-yoga-for-seniors/2026-08-31/
LOCATION:Medford Senior Center\, 101 Riverside Ave.\, Medford\, MA\, 02155
CATEGORIES:Senior Programs
GEO:42.4164422;-71.1059052
X-APPLE-STRUCTURED-LOCATION;VALUE=URI;X-ADDRESS=Medford Senior Center 101 Riverside Ave. Medford MA 02155;X-APPLE-RADIUS=500;X-TITLE=101 Riverside Ave.:geo:-71.1059052,42.4164422
END:VEVENT
BEGIN:VEVENT
DTSTART;TZID=America/New_York:20260907T100000
DTEND;TZID=America/New_York:20260907T110000
DTSTAMP:20260423T054853
CREATED:20250914T171956Z
LAST-MODIFIED:20250914T171956Z
UID:10042419-1788775200-1788778800@www.cacheinmedford.org
SUMMARY:Gentle Yoga for Seniors
DESCRIPTION:Join Rosa on Mondays at 10:00 AM for gentle yoga designed to increase flexibility\, balance\, and relaxation. Cost: $5 per class.
URL:https://www.cacheinmedford.org/event/gentle-yoga-for-seniors/2026-09-07/
LOCATION:Medford Senior Center\, 101 Riverside Ave.\, Medford\, MA\, 02155
CATEGORIES:Senior Programs
GEO:42.4164422;-71.1059052
X-APPLE-STRUCTURED-LOCATION;VALUE=URI;X-ADDRESS=Medford Senior Center 101 Riverside Ave. Medford MA 02155;X-APPLE-RADIUS=500;X-TITLE=101 Riverside Ave.:geo:-71.1059052,42.4164422
END:VEVENT
BEGIN:VEVENT
DTSTART;TZID=America/New_York:20260914T100000
DTEND;TZID=America/New_York:20260914T110000
DTSTAMP:20260423T054853
CREATED:20250914T171956Z
LAST-MODIFIED:20250914T171956Z
UID:10042420-1789380000-1789383600@www.cacheinmedford.org
SUMMARY:Gentle Yoga for Seniors
DESCRIPTION:Join Rosa on Mondays at 10:00 AM for gentle yoga designed to increase flexibility\, balance\, and relaxation. Cost: $5 per class.
URL:https://www.cacheinmedford.org/event/gentle-yoga-for-seniors/2026-09-14/
LOCATION:Medford Senior Center\, 101 Riverside Ave.\, Medford\, MA\, 02155
CATEGORIES:Senior Programs
GEO:42.4164422;-71.1059052
X-APPLE-STRUCTURED-LOCATION;VALUE=URI;X-ADDRESS=Medford Senior Center 101 Riverside Ave. Medford MA 02155;X-APPLE-RADIUS=500;X-TITLE=101 Riverside Ave.:geo:-71.1059052,42.4164422
END:VEVENT
BEGIN:VEVENT
DTSTART;TZID=America/New_York:20260921T100000
DTEND;TZID=America/New_York:20260921T110000
DTSTAMP:20260423T054853
CREATED:20250914T171956Z
LAST-MODIFIED:20250914T171956Z
UID:10042421-1789984800-1789988400@www.cacheinmedford.org
SUMMARY:Gentle Yoga for Seniors
DESCRIPTION:Join Rosa on Mondays at 10:00 AM for gentle yoga designed to increase flexibility\, balance\, and relaxation. Cost: $5 per class.
URL:https://www.cacheinmedford.org/event/gentle-yoga-for-seniors/2026-09-21/
LOCATION:Medford Senior Center\, 101 Riverside Ave.\, Medford\, MA\, 02155
CATEGORIES:Senior Programs
GEO:42.4164422;-71.1059052
X-APPLE-STRUCTURED-LOCATION;VALUE=URI;X-ADDRESS=Medford Senior Center 101 Riverside Ave. Medford MA 02155;X-APPLE-RADIUS=500;X-TITLE=101 Riverside Ave.:geo:-71.1059052,42.4164422
END:VEVENT
BEGIN:VEVENT
DTSTART;TZID=America/New_York:20260928T100000
DTEND;TZID=America/New_York:20260928T110000
DTSTAMP:20260423T054853
CREATED:20250914T171956Z
LAST-MODIFIED:20250914T171956Z
UID:10042422-1790589600-1790593200@www.cacheinmedford.org
SUMMARY:Gentle Yoga for Seniors
DESCRIPTION:Join Rosa on Mondays at 10:00 AM for gentle yoga designed to increase flexibility\, balance\, and relaxation. Cost: $5 per class.
URL:https://www.cacheinmedford.org/event/gentle-yoga-for-seniors/2026-09-28/
LOCATION:Medford Senior Center\, 101 Riverside Ave.\, Medford\, MA\, 02155
CATEGORIES:Senior Programs
GEO:42.4164422;-71.1059052
X-APPLE-STRUCTURED-LOCATION;VALUE=URI;X-ADDRESS=Medford Senior Center 101 Riverside Ave. Medford MA 02155;X-APPLE-RADIUS=500;X-TITLE=101 Riverside Ave.:geo:-71.1059052,42.4164422
END:VEVENT
END:VCALENDAR