BEGIN:VCALENDAR
VERSION:2.0
PRODID:-//CACHE in Medford - ECPv6.15.18//NONSGML v1.0//EN
CALSCALE:GREGORIAN
METHOD:PUBLISH
X-ORIGINAL-URL:https://www.cacheinmedford.org
X-WR-CALDESC:Events for CACHE in Medford
REFRESH-INTERVAL;VALUE=DURATION:PT1H
X-Robots-Tag:noindex
X-PUBLISHED-TTL:PT1H
BEGIN:VTIMEZONE
TZID:America/New_York
BEGIN:DAYLIGHT
TZOFFSETFROM:-0500
TZOFFSETTO:-0400
TZNAME:EDT
DTSTART:20250309T070000
END:DAYLIGHT
BEGIN:STANDARD
TZOFFSETFROM:-0400
TZOFFSETTO:-0500
TZNAME:EST
DTSTART:20251102T060000
END:STANDARD
BEGIN:DAYLIGHT
TZOFFSETFROM:-0500
TZOFFSETTO:-0400
TZNAME:EDT
DTSTART:20260308T070000
END:DAYLIGHT
BEGIN:STANDARD
TZOFFSETFROM:-0400
TZOFFSETTO:-0500
TZNAME:EST
DTSTART:20261101T060000
END:STANDARD
BEGIN:DAYLIGHT
TZOFFSETFROM:-0500
TZOFFSETTO:-0400
TZNAME:EDT
DTSTART:20270314T070000
END:DAYLIGHT
BEGIN:STANDARD
TZOFFSETFROM:-0400
TZOFFSETTO:-0500
TZNAME:EST
DTSTART:20271107T060000
END:STANDARD
END:VTIMEZONE
BEGIN:VEVENT
DTSTART;TZID=America/New_York:20260305T193000
DTEND;TZID=America/New_York:20260305T213000
DTSTAMP:20260425T111954
CREATED:20260221T221429Z
LAST-MODIFIED:20260221T221429Z
UID:10044560-1772739000-1772746200@www.cacheinmedford.org
SUMMARY:S P A D E: A Theatrical Adaptation of a Fake True-Crime Documentary
DESCRIPTION:S P A D E is created through curricular connections with the TDPS Devised Performance class\, based on a fictional amateur true-crime documentary about a girl murdered and dismembered in Missouri in 1989. Through ritual reenactment\, ensemble-driven object work\, and collective imagining\, S P A D E makes new meaning of the scene of the crime. \nBased on Tragedy in Spades: A Crime Documentary by Liza Birkenmeier\nWith original songs by Chris Giarmo
URL:https://www.cacheinmedford.org/event/s-p-a-d-e-a-theatrical-adaptation-of-a-fake-true-crime-documentary/2026-03-05/
LOCATION:Balch Arena Theatre\, Aidekman Arts Center\, Tufts University\, 40 Talbot Ave.\, Medford\, MA\, 02155\, United States
CATEGORIES:Theatre Productions
GEO:42.4043201;-71.119282
X-APPLE-STRUCTURED-LOCATION;VALUE=URI;X-ADDRESS=Balch Arena Theatre Aidekman Arts Center Tufts University 40 Talbot Ave. Medford MA 02155 United States;X-APPLE-RADIUS=500;X-TITLE=40 Talbot Ave.:geo:-71.119282,42.4043201
END:VEVENT
BEGIN:VEVENT
DTSTART;TZID=America/New_York:20260306T200000
DTEND;TZID=America/New_York:20260306T220000
DTSTAMP:20260425T111954
CREATED:20260221T221429Z
LAST-MODIFIED:20260221T221429Z
UID:10044561-1772827200-1772834400@www.cacheinmedford.org
SUMMARY:S P A D E: A Theatrical Adaptation of a Fake True-Crime Documentary
DESCRIPTION:S P A D E is created through curricular connections with the TDPS Devised Performance class\, based on a fictional amateur true-crime documentary about a girl murdered and dismembered in Missouri in 1989. Through ritual reenactment\, ensemble-driven object work\, and collective imagining\, S P A D E makes new meaning of the scene of the crime. \nBased on Tragedy in Spades: A Crime Documentary by Liza Birkenmeier\nWith original songs by Chris Giarmo
URL:https://www.cacheinmedford.org/event/s-p-a-d-e-a-theatrical-adaptation-of-a-fake-true-crime-documentary/2026-03-06/
LOCATION:Balch Arena Theatre\, Aidekman Arts Center\, Tufts University\, 40 Talbot Ave.\, Medford\, MA\, 02155\, United States
CATEGORIES:Theatre Productions
GEO:42.4043201;-71.119282
X-APPLE-STRUCTURED-LOCATION;VALUE=URI;X-ADDRESS=Balch Arena Theatre Aidekman Arts Center Tufts University 40 Talbot Ave. Medford MA 02155 United States;X-APPLE-RADIUS=500;X-TITLE=40 Talbot Ave.:geo:-71.119282,42.4043201
END:VEVENT
BEGIN:VEVENT
DTSTART;TZID=America/New_York:20260307T150000
DTEND;TZID=America/New_York:20260307T170000
DTSTAMP:20260425T111954
CREATED:20260221T221429Z
LAST-MODIFIED:20260221T221429Z
UID:10044562-1772895600-1772902800@www.cacheinmedford.org
SUMMARY:S P A D E: A Theatrical Adaptation of a Fake True-Crime Documentary
DESCRIPTION:S P A D E is created through curricular connections with the TDPS Devised Performance class\, based on a fictional amateur true-crime documentary about a girl murdered and dismembered in Missouri in 1989. Through ritual reenactment\, ensemble-driven object work\, and collective imagining\, S P A D E makes new meaning of the scene of the crime. \nBased on Tragedy in Spades: A Crime Documentary by Liza Birkenmeier\nWith original songs by Chris Giarmo
URL:https://www.cacheinmedford.org/event/s-p-a-d-e-a-theatrical-adaptation-of-a-fake-true-crime-documentary/2026-03-07/1/
LOCATION:Balch Arena Theatre\, Aidekman Arts Center\, Tufts University\, 40 Talbot Ave.\, Medford\, MA\, 02155\, United States
CATEGORIES:Theatre Productions
GEO:42.4043201;-71.119282
X-APPLE-STRUCTURED-LOCATION;VALUE=URI;X-ADDRESS=Balch Arena Theatre Aidekman Arts Center Tufts University 40 Talbot Ave. Medford MA 02155 United States;X-APPLE-RADIUS=500;X-TITLE=40 Talbot Ave.:geo:-71.119282,42.4043201
END:VEVENT
BEGIN:VEVENT
DTSTART;TZID=America/New_York:20260307T200000
DTEND;TZID=America/New_York:20260307T220000
DTSTAMP:20260425T111954
CREATED:20260221T221429Z
LAST-MODIFIED:20260221T221429Z
UID:10044563-1772913600-1772920800@www.cacheinmedford.org
SUMMARY:S P A D E: A Theatrical Adaptation of a Fake True-Crime Documentary
DESCRIPTION:S P A D E is created through curricular connections with the TDPS Devised Performance class\, based on a fictional amateur true-crime documentary about a girl murdered and dismembered in Missouri in 1989. Through ritual reenactment\, ensemble-driven object work\, and collective imagining\, S P A D E makes new meaning of the scene of the crime. \nBased on Tragedy in Spades: A Crime Documentary by Liza Birkenmeier\nWith original songs by Chris Giarmo
URL:https://www.cacheinmedford.org/event/s-p-a-d-e-a-theatrical-adaptation-of-a-fake-true-crime-documentary/2026-03-07/2/
LOCATION:Balch Arena Theatre\, Aidekman Arts Center\, Tufts University\, 40 Talbot Ave.\, Medford\, MA\, 02155\, United States
CATEGORIES:Theatre Productions
GEO:42.4043201;-71.119282
X-APPLE-STRUCTURED-LOCATION;VALUE=URI;X-ADDRESS=Balch Arena Theatre Aidekman Arts Center Tufts University 40 Talbot Ave. Medford MA 02155 United States;X-APPLE-RADIUS=500;X-TITLE=40 Talbot Ave.:geo:-71.119282,42.4043201
END:VEVENT
END:VCALENDAR