BEGIN:VCALENDAR
VERSION:2.0
PRODID:-//CACHE in Medford - ECPv6.15.18//NONSGML v1.0//EN
CALSCALE:GREGORIAN
METHOD:PUBLISH
X-ORIGINAL-URL:https://www.cacheinmedford.org
X-WR-CALDESC:Events for CACHE in Medford
REFRESH-INTERVAL;VALUE=DURATION:PT1H
X-Robots-Tag:noindex
X-PUBLISHED-TTL:PT1H
BEGIN:VTIMEZONE
TZID:America/New_York
BEGIN:DAYLIGHT
TZOFFSETFROM:-0500
TZOFFSETTO:-0400
TZNAME:EDT
DTSTART:20240310T070000
END:DAYLIGHT
BEGIN:STANDARD
TZOFFSETFROM:-0400
TZOFFSETTO:-0500
TZNAME:EST
DTSTART:20241103T060000
END:STANDARD
BEGIN:DAYLIGHT
TZOFFSETFROM:-0500
TZOFFSETTO:-0400
TZNAME:EDT
DTSTART:20250309T070000
END:DAYLIGHT
BEGIN:STANDARD
TZOFFSETFROM:-0400
TZOFFSETTO:-0500
TZNAME:EST
DTSTART:20251102T060000
END:STANDARD
BEGIN:DAYLIGHT
TZOFFSETFROM:-0500
TZOFFSETTO:-0400
TZNAME:EDT
DTSTART:20260308T070000
END:DAYLIGHT
BEGIN:STANDARD
TZOFFSETFROM:-0400
TZOFFSETTO:-0500
TZNAME:EST
DTSTART:20261101T060000
END:STANDARD
BEGIN:DAYLIGHT
TZOFFSETFROM:-0500
TZOFFSETTO:-0400
TZNAME:EDT
DTSTART:20270314T070000
END:DAYLIGHT
BEGIN:STANDARD
TZOFFSETFROM:-0400
TZOFFSETTO:-0500
TZNAME:EST
DTSTART:20271107T060000
END:STANDARD
END:VTIMEZONE
BEGIN:VEVENT
DTSTART;TZID=America/New_York:20251218T153000
DTEND;TZID=America/New_York:20251218T163000
DTSTAMP:20260423T042937
CREATED:20251203T143251Z
LAST-MODIFIED:20251203T143251Z
UID:10043761-1766071800-1766075400@www.cacheinmedford.org
SUMMARY:Fizzy Slime Making for Teens
DESCRIPTION:For teens in middle school and high school.\n \nMake your own fizzy slime in the MakerSpace using instant snow! All materials will be provided. \nSign up is required. Registration will begin on November 1. Please complete the sign up form below. \nIf you have any questions\, contact Val: vvaz@minlib.net
URL:https://www.cacheinmedford.org/event/fizzy-slime-making-for-teens/
LOCATION:Medford Public Library\, 111 High St.\, Medford\, MA\, 02155\, United States
CATEGORIES:Teen Programs
GEO:42.4197198;-71.1135305
X-APPLE-STRUCTURED-LOCATION;VALUE=URI;X-ADDRESS=Medford Public Library 111 High St. Medford MA 02155 United States;X-APPLE-RADIUS=500;X-TITLE=111 High St.:geo:-71.1135305,42.4197198
END:VEVENT
BEGIN:VEVENT
DTSTART;TZID=America/New_York:20251222T183000
DTEND;TZID=America/New_York:20251222T200000
DTSTAMP:20260423T042937
CREATED:20251203T144029Z
LAST-MODIFIED:20251203T144029Z
UID:10043790-1766428200-1766433600@www.cacheinmedford.org
SUMMARY:DIY Shower Jellies for Teens
DESCRIPTION:For teens in middle school and high school.\n \nLearn how to make your own shower jellies! All materials will be provided. \nSign up is required. Registration will begin on November 1.
URL:https://www.cacheinmedford.org/event/diy-shower-jellies-for-teens/
LOCATION:Medford Public Library\, 111 High St.\, Medford\, MA\, 02155\, United States
CATEGORIES:Teen Programs
GEO:42.4197198;-71.1135305
X-APPLE-STRUCTURED-LOCATION;VALUE=URI;X-ADDRESS=Medford Public Library 111 High St. Medford MA 02155 United States;X-APPLE-RADIUS=500;X-TITLE=111 High St.:geo:-71.1135305,42.4197198
END:VEVENT
BEGIN:VEVENT
DTSTART;TZID=America/New_York:20260209T153000
DTEND;TZID=America/New_York:20260209T163000
DTSTAMP:20260423T042937
CREATED:20260126T015927Z
LAST-MODIFIED:20260126T015927Z
UID:10044483-1770651000-1770654600@www.cacheinmedford.org
SUMMARY:Tween Color Club (grades 5-8)
DESCRIPTION:Join us to chill out and color. We’ll chat and listen to music. There’s no pressure to create the perfect page–the point is just to relax. \nThis month\, we’ll be coloring reverse coloring pages: the color is already on the page\, so we’ll need to provide the lines! \nThis program is for tweens in grades 5-8. All supplies will be provided by the library. \nQuestions? Email Sam D. at sdonahue@minlib.net.
URL:https://www.cacheinmedford.org/event/tween-color-club-grades-5-8/
LOCATION:Medford Public Library\, 111 High St.\, Medford\, MA\, 02155\, United States
CATEGORIES:Teen Programs
GEO:42.4197198;-71.1135305
X-APPLE-STRUCTURED-LOCATION;VALUE=URI;X-ADDRESS=Medford Public Library 111 High St. Medford MA 02155 United States;X-APPLE-RADIUS=500;X-TITLE=111 High St.:geo:-71.1135305,42.4197198
END:VEVENT
END:VCALENDAR