BEGIN:VCALENDAR
VERSION:2.0
PRODID:-//CACHE in Medford - ECPv6.15.18//NONSGML v1.0//EN
CALSCALE:GREGORIAN
METHOD:PUBLISH
X-WR-CALNAME:CACHE in Medford
X-ORIGINAL-URL:https://www.cacheinmedford.org
X-WR-CALDESC:Events for CACHE in Medford
REFRESH-INTERVAL;VALUE=DURATION:PT1H
X-Robots-Tag:noindex
X-PUBLISHED-TTL:PT1H
BEGIN:VTIMEZONE
TZID:UTC
BEGIN:STANDARD
TZOFFSETFROM:+0000
TZOFFSETTO:+0000
TZNAME:UTC
DTSTART:20220101T000000
END:STANDARD
END:VTIMEZONE
BEGIN:VTIMEZONE
TZID:America/New_York
BEGIN:DAYLIGHT
TZOFFSETFROM:-0500
TZOFFSETTO:-0400
TZNAME:EDT
DTSTART:20220313T070000
END:DAYLIGHT
BEGIN:STANDARD
TZOFFSETFROM:-0400
TZOFFSETTO:-0500
TZNAME:EST
DTSTART:20221106T060000
END:STANDARD
BEGIN:DAYLIGHT
TZOFFSETFROM:-0500
TZOFFSETTO:-0400
TZNAME:EDT
DTSTART:20230312T070000
END:DAYLIGHT
BEGIN:STANDARD
TZOFFSETFROM:-0400
TZOFFSETTO:-0500
TZNAME:EST
DTSTART:20231105T060000
END:STANDARD
BEGIN:DAYLIGHT
TZOFFSETFROM:-0500
TZOFFSETTO:-0400
TZNAME:EDT
DTSTART:20240310T070000
END:DAYLIGHT
BEGIN:STANDARD
TZOFFSETFROM:-0400
TZOFFSETTO:-0500
TZNAME:EST
DTSTART:20241103T060000
END:STANDARD
END:VTIMEZONE
BEGIN:VEVENT
DTSTART;TZID=UTC:20230715T120000
DTEND;TZID=UTC:20230715T150000
DTSTAMP:20260419T081018
CREATED:20230320T191034Z
LAST-MODIFIED:20230509T023704Z
UID:10033062-1689422400-1689433200@www.cacheinmedford.org
SUMMARY:Brooks Estate Picnic
DESCRIPTION:The Medford-Brooks Estate Land Trust (M-BELT) invites you to its annual summer picnic on the grounds of the historic Brooks Estate. The event includes tours of the Shepherd Brooks Manor\, food\, music\, raffles\, and other fun. Come learn about the Brooks family and enjoy this beautiful historic estate. M-BELT supplies the hot dogs\, burgers/veggie burgers and soft drinks. Guests are welcome to bring one of the following (chips/snacks\, salad\, cookies\, grill item or other picnic food) but bringing food is NOT required to attend. \nThe Brooks Estate is a city-owned environmental and historical treasure in West Medford that offers Brooks Pond and 50 acres of open space for birds\, wildlife and nature lovers. As the manager\, M-BELT has spearheaded the protection and restoration of the property\, which includes the 1880 Manor and Carriage House. These Victorian gems are under renovation as community assets. \n  \n 
URL:https://www.cacheinmedford.org/event/brooks-estate-picnic-23/
LOCATION:Brooks Estate\, 275 Grove St.\, Medford\, MA\, 02155
CATEGORIES:Open House/Tours,Other
ORGANIZER;CN="Medford-Brooks Estate Land Trust":MAILTO:inquiries@brooksestate.org
GEO:42.4348653;-71.136766
X-APPLE-STRUCTURED-LOCATION;VALUE=URI;X-ADDRESS=Brooks Estate 275 Grove St. Medford MA 02155;X-APPLE-RADIUS=500;X-TITLE=275 Grove St.:geo:-71.136766,42.4348653
END:VEVENT
BEGIN:VEVENT
DTSTART;TZID=UTC:20230603T130000
DTEND;TZID=UTC:20230603T160000
DTSTAMP:20260419T081018
CREATED:20230508T005034Z
LAST-MODIFIED:20230525T025021Z
UID:10033330-1685797200-1685808000@www.cacheinmedford.org
SUMMARY:Royall House Tours Opening Day
DESCRIPTION:The Royall House & Slave Quarters reopens today for its 2023 tour season. The museum will offer guided tours at 1\, 2 and 3 p.m. each Saturday and Sunday through October 15. No reservations are required. Admission for guided tours of the mansion is $10 for adults; $8 for seniors; $5 for students; $2 for EBT or WIC cardholders; and free for children age 12 and under\, Tufts University students\, Blue Star Families\, and Massachusetts Teachers Association members or retirees. Admission to the Slave Quarters\, which also houses the archaeological exhibit\, gift shop\, and restrooms\, is free of charge. Groups of 10 or more can arrange private tours for weekdays or Saturday mornings. \nIn the eighteenth century\, the Royall House & Slave Quarters was home to the largest slaveholding family in Massachusetts and the enslaved Africans who made their lavish way of life possible. Today\, the Royall House & Slave Quarters is a museum whose architecture\, household items\, archaeological artifacts\, and programs bear witness to intertwined stories of wealth and bondage\, set against the backdrop of America’s quest for independence. The Slave Quarters is the only remaining such structure in the northern United States\, and the Royall House is among the finest colonial-era buildings in New England.
URL:https://www.cacheinmedford.org/event/royall-house-tours-opening-day-23/
LOCATION:Royall House & Slave Quarters\, 15 George St.\, Medford\, MA\, 02155
CATEGORIES:Exhibits,Historical Talks/Presentations,Open House/Tours
GEO:42.4119624;-71.1114664
X-APPLE-STRUCTURED-LOCATION;VALUE=URI;X-ADDRESS=Royall House & Slave Quarters 15 George St. Medford MA 02155;X-APPLE-RADIUS=500;X-TITLE=15 George St.:geo:-71.1114664,42.4119624
END:VEVENT
BEGIN:VEVENT
DTSTART;TZID=America/New_York:20230429T100000
DTEND;TZID=America/New_York:20230429T160000
DTSTAMP:20260419T081018
CREATED:20230320T190647Z
LAST-MODIFIED:20230930T204320Z
UID:10033060-1682762400-1682784000@www.cacheinmedford.org
SUMMARY:Brooks Estate Spring Spruce-up and Open House
DESCRIPTION:It’s time for the Medford-Brooks Estate Land Trust’s annual Spring Spruce-up and Open House event. Come lend a hand\, working on outdoor and indoor tasks\, including some painting\, anytime between 10 a.m. to 2 p.m. Gloves and tools provided\, but additional loppers\, rakes\, etc.\, welcome. Wear work clothes. Tours of the Shepherd Brooks Manor will commence at 2 p.m.\, with the last tour at 3:40 p.m. Please email inquiries@brooksestate.org to RSVP or with questions. \nParking note: Do not park in Oak Grove Cemetery or on Grove Street; best to park on nearby side streets off of Grove Street and walk up the access drive to the estate. Limited spaces are available at the Boardwalk lot along the access drive\, and at the Manor\, with preference at the Manor for handicapped parking. \nM-BELT is a nonprofit organization that manages the Brooks Estate\, owned by the City of Medford. A former Victorian summer retreat for Peter Chardon Brooks and Shepherd Brooks\, the property is graced by two Victorian buildings\, the Shepherd Brooks Manor and Carriage House (1880)\, both slated for adaptive re-use as community assets. The property also offers Brooks Pond and 50 acres of open space for birds\, wildlife and nature lovers.
URL:https://www.cacheinmedford.org/event/brooks-estate-spring-spruce-up-and-open-house/
LOCATION:Brooks Estate\, 275 Grove St.\, Medford\, MA\, 02155
CATEGORIES:Open House/Tours,Other
ORGANIZER;CN="Medford-Brooks Estate Land Trust":MAILTO:inquiries@brooksestate.org
GEO:42.4348653;-71.136766
X-APPLE-STRUCTURED-LOCATION;VALUE=URI;X-ADDRESS=Brooks Estate 275 Grove St. Medford MA 02155;X-APPLE-RADIUS=500;X-TITLE=275 Grove St.:geo:-71.136766,42.4348653
END:VEVENT
END:VCALENDAR