BEGIN:VCALENDAR
VERSION:2.0
PRODID:-//CACHE in Medford - ECPv6.15.18//NONSGML v1.0//EN
CALSCALE:GREGORIAN
METHOD:PUBLISH
X-ORIGINAL-URL:https://www.cacheinmedford.org
X-WR-CALDESC:Events for CACHE in Medford
REFRESH-INTERVAL;VALUE=DURATION:PT1H
X-Robots-Tag:noindex
X-PUBLISHED-TTL:PT1H
BEGIN:VTIMEZONE
TZID:America/New_York
BEGIN:DAYLIGHT
TZOFFSETFROM:-0500
TZOFFSETTO:-0400
TZNAME:EDT
DTSTART:20240310T070000
END:DAYLIGHT
BEGIN:STANDARD
TZOFFSETFROM:-0400
TZOFFSETTO:-0500
TZNAME:EST
DTSTART:20241103T060000
END:STANDARD
BEGIN:DAYLIGHT
TZOFFSETFROM:-0500
TZOFFSETTO:-0400
TZNAME:EDT
DTSTART:20250309T070000
END:DAYLIGHT
BEGIN:STANDARD
TZOFFSETFROM:-0400
TZOFFSETTO:-0500
TZNAME:EST
DTSTART:20251102T060000
END:STANDARD
BEGIN:DAYLIGHT
TZOFFSETFROM:-0500
TZOFFSETTO:-0400
TZNAME:EDT
DTSTART:20260308T070000
END:DAYLIGHT
BEGIN:STANDARD
TZOFFSETFROM:-0400
TZOFFSETTO:-0500
TZNAME:EST
DTSTART:20261101T060000
END:STANDARD
END:VTIMEZONE
BEGIN:VEVENT
DTSTART;TZID=America/New_York:20250915T153000
DTEND;TZID=America/New_York:20250915T163000
DTSTAMP:20260419T093219
CREATED:20250914T163252Z
LAST-MODIFIED:20250914T163252Z
UID:10042119-1757950200-1757953800@www.cacheinmedford.org
SUMMARY:Kid's Sensory Bottles Craft Workshop (Ages 5+)
DESCRIPTION:Make your own calming/sensory bottle! All supplies will be provided by the library. \n**This program is for anyone\, but is particularly designed for neurodiverse kids: kids who are autistic\, have ADHD\, and/or other sensory processing challenges.** \nDuring this program\, children are encouraged to engage fully with the craft and try it out\, even if they think it might be too hard. This program may get loud because of conversation in the room. \nThis program is for kids ages 5+ and registration is required. \nQuestions? Contact mranieri@minlib.net \nWe want to do our best to provide your child with the best accommodations possible to make their experience at Sensory Bottles both fun and rewarding. Any additional information you can provide to help us support your child would be very helpful.
URL:https://www.cacheinmedford.org/event/kids-sensory-bottles-craft-workshop-ages-5/
LOCATION:Medford Public Library\, 111 High St.\, Medford\, MA\, 02155\, United States
CATEGORIES:Children's Programs
GEO:42.4197198;-71.1135305
X-APPLE-STRUCTURED-LOCATION;VALUE=URI;X-ADDRESS=Medford Public Library 111 High St. Medford MA 02155 United States;X-APPLE-RADIUS=500;X-TITLE=111 High St.:geo:-71.1135305,42.4197198
END:VEVENT
END:VCALENDAR