BEGIN:VCALENDAR
VERSION:2.0
PRODID:-//CACHE in Medford - ECPv6.15.18//NONSGML v1.0//EN
CALSCALE:GREGORIAN
METHOD:PUBLISH
X-WR-CALNAME:CACHE in Medford
X-ORIGINAL-URL:https://www.cacheinmedford.org
X-WR-CALDESC:Events for CACHE in Medford
REFRESH-INTERVAL;VALUE=DURATION:PT1H
X-Robots-Tag:noindex
X-PUBLISHED-TTL:PT1H
BEGIN:VTIMEZONE
TZID:America/New_York
BEGIN:DAYLIGHT
TZOFFSETFROM:-0500
TZOFFSETTO:-0400
TZNAME:EDT
DTSTART:20250309T070000
END:DAYLIGHT
BEGIN:STANDARD
TZOFFSETFROM:-0400
TZOFFSETTO:-0500
TZNAME:EST
DTSTART:20251102T060000
END:STANDARD
BEGIN:DAYLIGHT
TZOFFSETFROM:-0500
TZOFFSETTO:-0400
TZNAME:EDT
DTSTART:20260308T070000
END:DAYLIGHT
BEGIN:STANDARD
TZOFFSETFROM:-0400
TZOFFSETTO:-0500
TZNAME:EST
DTSTART:20261101T060000
END:STANDARD
BEGIN:DAYLIGHT
TZOFFSETFROM:-0500
TZOFFSETTO:-0400
TZNAME:EDT
DTSTART:20270314T070000
END:DAYLIGHT
BEGIN:STANDARD
TZOFFSETFROM:-0400
TZOFFSETTO:-0500
TZNAME:EST
DTSTART:20271107T060000
END:STANDARD
END:VTIMEZONE
BEGIN:VEVENT
DTSTART;VALUE=DATE:20260416
DTEND;VALUE=DATE:20260418
DTSTAMP:20260422T113639
CREATED:20260125T181530Z
LAST-MODIFIED:20260125T181530Z
UID:10044100-1776304800-1776391199@www.cacheinmedford.org
SUMMARY:Senior Motor Coach Tour: Viva Las Vegas! Tribute Show & Luncheon
DESCRIPTION:Travel by motor coach to Castleton Banquet Center in Windham\, NH for a plated luncheon featuring Chicken Parm or Vegetable Lasagna\, followed by an exciting Viva Las Vegas Tribute Show starring Dan Fontaine. Tickets go on sale February 6 — don’t miss this high-energy afternoon of music and fun!
URL:https://www.cacheinmedford.org/event/senior-motor-coach-tour-viva-las-vegas-tribute-show-luncheon/
LOCATION:Medford Senior Center\, 101 Riverside Ave.\, Medford\, MA\, 02155
CATEGORIES:Senior Programs
GEO:42.4164422;-71.1059052
X-APPLE-STRUCTURED-LOCATION;VALUE=URI;X-ADDRESS=Medford Senior Center 101 Riverside Ave. Medford MA 02155;X-APPLE-RADIUS=500;X-TITLE=101 Riverside Ave.:geo:-71.1059052,42.4164422
END:VEVENT
BEGIN:VEVENT
DTSTART;TZID=America/New_York:20260416T133000
DTEND;TZID=America/New_York:20260416T143000
DTSTAMP:20260422T113639
CREATED:20250914T171716Z
LAST-MODIFIED:20250914T171716Z
UID:10042343-1776346200-1776349800@www.cacheinmedford.org
SUMMARY:Art for Everyone for Seniors
DESCRIPTION:Get creative with Tom in this free art class on Thursdays at 1:30 PM. Offered in person or via Zoom\, it’s open to all skill levels. Supplies and inspiration provided—just bring your imagination!
URL:https://www.cacheinmedford.org/event/art-for-everyone-for-seniors/2026-04-16/
LOCATION:Medford Senior Center\, 101 Riverside Ave.\, Medford\, MA\, 02155
CATEGORIES:Senior Programs
GEO:42.4164422;-71.1059052
X-APPLE-STRUCTURED-LOCATION;VALUE=URI;X-ADDRESS=Medford Senior Center 101 Riverside Ave. Medford MA 02155;X-APPLE-RADIUS=500;X-TITLE=101 Riverside Ave.:geo:-71.1059052,42.4164422
END:VEVENT
BEGIN:VEVENT
DTSTART;TZID=America/New_York:20260416T140000
DTEND;TZID=America/New_York:20260416T150000
DTSTAMP:20260422T113639
CREATED:20250914T171057Z
LAST-MODIFIED:20250914T171057Z
UID:10042150-1776348000-1776351600@www.cacheinmedford.org
SUMMARY:LGBTQ+ Meet & Greet for Seniors
DESCRIPTION:Join us on Thursday\, September 18\, 2:00–3:00 PM at the MCOA/Senior Center for our monthly LGBTQ+ Meet & Greet. This group is designed to ensure LGBTQIA+ members feel welcome\, supported\, and connected. The gathering meets the third Thursday of each month from 2–3 PM. Facilitated by Janice Cole.
URL:https://www.cacheinmedford.org/event/lgbtq-meet-greet-for-seniors/2026-04-16/
LOCATION:Medford Senior Center\, 101 Riverside Ave.\, Medford\, MA\, 02155
CATEGORIES:Senior Programs
GEO:42.4164422;-71.1059052
X-APPLE-STRUCTURED-LOCATION;VALUE=URI;X-ADDRESS=Medford Senior Center 101 Riverside Ave. Medford MA 02155;X-APPLE-RADIUS=500;X-TITLE=101 Riverside Ave.:geo:-71.1059052,42.4164422
END:VEVENT
BEGIN:VEVENT
DTSTART;TZID=America/New_York:20260416T180000
DTEND;TZID=America/New_York:20260416T200000
DTSTAMP:20260422T113639
CREATED:20260401T225036Z
LAST-MODIFIED:20260401T225036Z
UID:10044711-1776362400-1776369600@www.cacheinmedford.org
SUMMARY:Paint & Sip: Rainy Paris
DESCRIPTION:Join artist Edward Rocha for an immersive Paint & Sip experience as we recreate a romantic rainy Parisian street scene! \n\n\n\n\nEscape to Paris for an evening! \nJoin artist Edward Rocha for an immersive Paint & Sip experience as we recreate a romantic rainy Parisian street scene\, brushstroke by brushstroke. This class is designed for all skill levels! \nWhat’s included: \n\nAll painting materials provided\nStep-by-step guided instruction from Edward Rocha\nCash bar on-site (drinks available for purchase)\n\nCome ready to relax\, create\, and capture the romance of Paris in the rain. You’ll leave with a finished painting and a great story. \nSpots are limited — grab yours today!
URL:https://www.cacheinmedford.org/event/paint-sip-rainy-paris/
LOCATION:EventThem Studios\, 344 Salem St.\, Medford\, MA\, 02155\, United States
CATEGORIES:Classes/Workshops
ORGANIZER;CN="EventThem Studios":MAILTO:bryan@eventthem.com
GEO:42.4218199;-71.0966138
X-APPLE-STRUCTURED-LOCATION;VALUE=URI;X-ADDRESS=EventThem Studios 344 Salem St. Medford MA 02155 United States;X-APPLE-RADIUS=500;X-TITLE=344 Salem St.:geo:-71.0966138,42.4218199
END:VEVENT
BEGIN:VEVENT
DTSTART;TZID=America/New_York:20260416T200000
DTEND;TZID=America/New_York:20260416T230000
DTSTAMP:20260422T113639
CREATED:20260329T135122Z
LAST-MODIFIED:20260329T135122Z
UID:10044651-1776369600-1776380400@www.cacheinmedford.org
SUMMARY:Caeltish at Mrs. Murphy’s Pub
DESCRIPTION:With fire in her hair and music in her bones\, the redheaded fiddler leads while the cartage player drives the pulse of the night. \nCaeltish returns with fast bows\, driving rhythm\, and a sound built for a packed pub. It’s a session that pulls you in — lively\, immersive\, and impossible to leave early.
URL:https://www.cacheinmedford.org/event/caeltish-at-mrs-murphys-pub-10/
LOCATION:Mrs. Murphy’s Pub\, 25 Salem St.\, Medford\, MA\, 02155\, United States
CATEGORIES:Live Music
GEO:42.4182797;-71.1085281
X-APPLE-STRUCTURED-LOCATION;VALUE=URI;X-ADDRESS=Mrs. Murphy’s Pub 25 Salem St. Medford MA 02155 United States;X-APPLE-RADIUS=500;X-TITLE=25 Salem St.:geo:-71.1085281,42.4182797
END:VEVENT
END:VCALENDAR