BEGIN:VCALENDAR
VERSION:2.0
PRODID:-//CACHE in Medford - ECPv6.15.18//NONSGML v1.0//EN
CALSCALE:GREGORIAN
METHOD:PUBLISH
X-ORIGINAL-URL:https://www.cacheinmedford.org
X-WR-CALDESC:Events for CACHE in Medford
REFRESH-INTERVAL;VALUE=DURATION:PT1H
X-Robots-Tag:noindex
X-PUBLISHED-TTL:PT1H
BEGIN:VTIMEZONE
TZID:America/New_York
BEGIN:DAYLIGHT
TZOFFSETFROM:-0500
TZOFFSETTO:-0400
TZNAME:EDT
DTSTART:20250309T070000
END:DAYLIGHT
BEGIN:STANDARD
TZOFFSETFROM:-0400
TZOFFSETTO:-0500
TZNAME:EST
DTSTART:20251102T060000
END:STANDARD
BEGIN:DAYLIGHT
TZOFFSETFROM:-0500
TZOFFSETTO:-0400
TZNAME:EDT
DTSTART:20260308T070000
END:DAYLIGHT
BEGIN:STANDARD
TZOFFSETFROM:-0400
TZOFFSETTO:-0500
TZNAME:EST
DTSTART:20261101T060000
END:STANDARD
BEGIN:DAYLIGHT
TZOFFSETFROM:-0500
TZOFFSETTO:-0400
TZNAME:EDT
DTSTART:20270314T070000
END:DAYLIGHT
BEGIN:STANDARD
TZOFFSETFROM:-0400
TZOFFSETTO:-0500
TZNAME:EST
DTSTART:20271107T060000
END:STANDARD
END:VTIMEZONE
BEGIN:VEVENT
DTSTART;TZID=America/New_York:20260404T090000
DTEND;TZID=America/New_York:20260404T110000
DTSTAMP:20260423T122041
CREATED:20250623T175615Z
LAST-MODIFIED:20250623T175615Z
UID:10041326-1775293200-1775300400@www.cacheinmedford.org
SUMMARY:MakerSpace Drop-In
DESCRIPTION:Stop by the Medford Public Library’s MakerSpace and work on your personal projects or ask our in-house expert about how to use the space and equipment. General safety badging is available during this time as well. \nThis program is for adults and teens 16+.
URL:https://www.cacheinmedford.org/event/makerspace-drop-in-3/2026-04-04/
LOCATION:Medford Public Library\, 111 High St.\, Medford\, MA\, 02155\, United States
CATEGORIES:Classes/Workshops
GEO:42.4197198;-71.1135305
X-APPLE-STRUCTURED-LOCATION;VALUE=URI;X-ADDRESS=Medford Public Library 111 High St. Medford MA 02155 United States;X-APPLE-RADIUS=500;X-TITLE=111 High St.:geo:-71.1135305,42.4197198
END:VEVENT
BEGIN:VEVENT
DTSTART;TZID=America/New_York:20260404T100000
DTEND;TZID=America/New_York:20260404T110000
DTSTAMP:20260423T122041
CREATED:20250623T175804Z
LAST-MODIFIED:20250623T175804Z
UID:10041584-1775296800-1775300400@www.cacheinmedford.org
SUMMARY:Family Story Time
DESCRIPTION:This story hour at the Medford Public Library is for children between the ages of 3-7. We will explore new concepts with books and songs. Parents and caregivers are welcome to join in! Story Time ends with a short craft or activity. \nDuring Family Story Time\, grown-ups are expected to remain in the room and keep an eye on the child(ren) they’re accompanying and are encouraged to engage fully in singing and movement activities. During the craft period\, grown-ups should plan to assist their kid(s) as needed. Family Story Time can sometimes be crowded and loud; depending on the craft\, it can also get a little messy. \nNo registration required.
URL:https://www.cacheinmedford.org/event/family-story-time-4/2026-04-04/
LOCATION:Medford Public Library\, 111 High St.\, Medford\, MA\, 02155\, United States
CATEGORIES:Children's Programs,Family Programs
GEO:42.4197198;-71.1135305
X-APPLE-STRUCTURED-LOCATION;VALUE=URI;X-ADDRESS=Medford Public Library 111 High St. Medford MA 02155 United States;X-APPLE-RADIUS=500;X-TITLE=111 High St.:geo:-71.1135305,42.4197198
END:VEVENT
BEGIN:VEVENT
DTSTART;TZID=America/New_York:20260404T103000
DTEND;TZID=America/New_York:20260404T133000
DTSTAMP:20260423T122041
CREATED:20260329T133139Z
LAST-MODIFIED:20260329T133139Z
UID:10044637-1775298600-1775309400@www.cacheinmedford.org
SUMMARY:Stained Glass Flower Workshop (Beginner 2D)
DESCRIPTION:Create beautiful stained glass works of art by shaping and assembling pre-cut glass petals and incorporating brass and copper elements. This class cover the basics of the Tiffany-style copper foil method. You will learn to foil\, burnish\, flux\, solder\, and apply patina while exploring the basic chemistry behind this science-heavy art form. No patterns to follow\, giving you the freedom to explore your creativity with playfulness. You will work at your own pace and make 1-3 flowers. Ticket price includes all materials.\n\nThis class is for ages 21+
URL:https://www.cacheinmedford.org/event/stained-glass-flower-workshop-beginner-2d/
LOCATION:Arts Collaborative Medford\, 162 Mystic Ave.\, Medford\, MA\, 02155\, United States
CATEGORIES:Classes/Workshops
GEO:42.4097679;-71.1046054
X-APPLE-STRUCTURED-LOCATION;VALUE=URI;X-ADDRESS=Arts Collaborative Medford 162 Mystic Ave. Medford MA 02155 United States;X-APPLE-RADIUS=500;X-TITLE=162 Mystic Ave.:geo:-71.1046054,42.4097679
END:VEVENT
BEGIN:VEVENT
DTSTART;TZID=America/New_York:20260404T110000
DTEND;TZID=America/New_York:20260404T140000
DTSTAMP:20260423T122041
CREATED:20260329T153022Z
LAST-MODIFIED:20260329T153022Z
UID:10044665-1775300400-1775311200@www.cacheinmedford.org
SUMMARY:NCSW Open Studios
DESCRIPTION:North Country Studio Workshops is hosting Open Studios in celebration of National Handmade Day and the artists and craftspeople who make us thrive. \nYou are invited to visit one or more of their participating craftspeople on this day to learn more about NCSW\, their artists and craftspeople\, and upcoming 2027 workshops. \nEach Open Studio will provide a different opportunity\, from a small Vermont studio to a larger gathering of artists in Medford. \nAt ACM\, fiber arts demonstrations will be given every 30 minutes for 10-15 minutes with: \n\nDeborah Pressman\, cold wax\nLynne Francis-Lunn\, sculptural weaving with paper\nLois Russell\, basketry\nMarsy Sumner\, fiber collage\nPolly Allen\, basketry\nLynn Goldberg\, basketry.\n\nNCSW’s Open Studios are part of H a n d w o r k 2 0 2 6 \, Craft in America’s Nationwide Semiquincentennial collaboration showcasing the importance of the handmade and celebrating the diversity of craft that defines America. IG @handwork2026 \nFREE! Open to all
URL:https://www.cacheinmedford.org/event/ncsw-open-studios/
LOCATION:Arts Collaborative Medford\, 162 Mystic Ave.\, Medford\, MA\, 02155\, United States
CATEGORIES:Open House/Tours
GEO:42.4097679;-71.1046054
X-APPLE-STRUCTURED-LOCATION;VALUE=URI;X-ADDRESS=Arts Collaborative Medford 162 Mystic Ave. Medford MA 02155 United States;X-APPLE-RADIUS=500;X-TITLE=162 Mystic Ave.:geo:-71.1046054,42.4097679
END:VEVENT
BEGIN:VEVENT
DTSTART;TZID=America/New_York:20260404T190000
DTEND;TZID=America/New_York:20260404T213000
DTSTAMP:20260423T122041
CREATED:20260329T140726Z
LAST-MODIFIED:20260329T140726Z
UID:10044655-1775329200-1775338200@www.cacheinmedford.org
SUMMARY:Boston Progressive Jazz Festival
DESCRIPTION:Experience the cutting edge of Boston’s jazz scene at the Boston Progressive Jazz Festival\, a night dedicated to artists pushing the boundaries of what jazz can be. This showcase brings together innovative local musicians whose sounds stretch from traditional roots into experimental\, genre-blending territory. \nExpect a dynamic mix of styles — from groove-driven improvisation to avant-garde exploration — all in an intimate live-music setting. The festival celebrates the question at the heart of modern jazz: what is jazz\, anyway? \nCome discover new voices\, bold sounds\, and a vibrant slice of Boston’s evolving music scene.
URL:https://www.cacheinmedford.org/event/boston-progressive-jazz-festival/2026-04-04/
LOCATION:Deep Cuts Brewery\, 21 Main St.\, Medford\, MA\, 02155\, United States
CATEGORIES:Festivals,Live Music
ORGANIZER;CN="Deep Cuts Brewery":MAILTO:showlove@deepcuts.rocks
GEO:42.417912;-71.110156
X-APPLE-STRUCTURED-LOCATION;VALUE=URI;X-ADDRESS=Deep Cuts Brewery 21 Main St. Medford MA 02155 United States;X-APPLE-RADIUS=500;X-TITLE=21 Main St.:geo:-71.110156,42.417912
END:VEVENT
BEGIN:VEVENT
DTSTART;TZID=America/New_York:20260404T200000
DTEND;TZID=America/New_York:20260404T230000
DTSTAMP:20260423T122041
CREATED:20260329T134411Z
LAST-MODIFIED:20260329T134411Z
UID:10044646-1775332800-1775343600@www.cacheinmedford.org
SUMMARY:Shady Armadillo at Mrs. Murphy’s Pub
DESCRIPTION:Shady Armadillo hits at 8PM — country anthems\, rock sing-alongs\, and absolutely zero chill. \nThis is a full-throttle Saturday night set built for loud choruses\, raised glasses\, and a crowd that’s in it from the first song to the last. Expect familiar favorites\, high energy\, and the kind of night where the drinks keep flowing and the music doesn’t let up.
URL:https://www.cacheinmedford.org/event/shady-armadillo-at-mrs-murphys-pub/
LOCATION:Mrs. Murphy’s Pub\, 25 Salem St.\, Medford\, MA\, 02155\, United States
CATEGORIES:Live Music
GEO:42.4182797;-71.1085281
X-APPLE-STRUCTURED-LOCATION;VALUE=URI;X-ADDRESS=Mrs. Murphy’s Pub 25 Salem St. Medford MA 02155 United States;X-APPLE-RADIUS=500;X-TITLE=25 Salem St.:geo:-71.1085281,42.4182797
END:VEVENT
END:VCALENDAR