BEGIN:VCALENDAR
VERSION:2.0
PRODID:-//CACHE in Medford - ECPv6.15.18//NONSGML v1.0//EN
CALSCALE:GREGORIAN
METHOD:PUBLISH
X-WR-CALNAME:CACHE in Medford
X-ORIGINAL-URL:https://www.cacheinmedford.org
X-WR-CALDESC:Events for CACHE in Medford
REFRESH-INTERVAL;VALUE=DURATION:PT1H
X-Robots-Tag:noindex
X-PUBLISHED-TTL:PT1H
BEGIN:VTIMEZONE
TZID:America/New_York
BEGIN:DAYLIGHT
TZOFFSETFROM:-0500
TZOFFSETTO:-0400
TZNAME:EDT
DTSTART:20250309T070000
END:DAYLIGHT
BEGIN:STANDARD
TZOFFSETFROM:-0400
TZOFFSETTO:-0500
TZNAME:EST
DTSTART:20251102T060000
END:STANDARD
BEGIN:DAYLIGHT
TZOFFSETFROM:-0500
TZOFFSETTO:-0400
TZNAME:EDT
DTSTART:20260308T070000
END:DAYLIGHT
BEGIN:STANDARD
TZOFFSETFROM:-0400
TZOFFSETTO:-0500
TZNAME:EST
DTSTART:20261101T060000
END:STANDARD
BEGIN:DAYLIGHT
TZOFFSETFROM:-0500
TZOFFSETTO:-0400
TZNAME:EDT
DTSTART:20270314T070000
END:DAYLIGHT
BEGIN:STANDARD
TZOFFSETFROM:-0400
TZOFFSETTO:-0500
TZNAME:EST
DTSTART:20271107T060000
END:STANDARD
END:VTIMEZONE
BEGIN:VEVENT
DTSTART;TZID=America/New_York:20260402T133000
DTEND;TZID=America/New_York:20260402T143000
DTSTAMP:20260423T173450
CREATED:20250914T171716Z
LAST-MODIFIED:20250914T171716Z
UID:10042341-1775136600-1775140200@www.cacheinmedford.org
SUMMARY:Art for Everyone for Seniors
DESCRIPTION:Get creative with Tom in this free art class on Thursdays at 1:30 PM. Offered in person or via Zoom\, it’s open to all skill levels. Supplies and inspiration provided—just bring your imagination!
URL:https://www.cacheinmedford.org/event/art-for-everyone-for-seniors/2026-04-02/
LOCATION:Medford Senior Center\, 101 Riverside Ave.\, Medford\, MA\, 02155
CATEGORIES:Senior Programs
GEO:42.4164422;-71.1059052
X-APPLE-STRUCTURED-LOCATION;VALUE=URI;X-ADDRESS=Medford Senior Center 101 Riverside Ave. Medford MA 02155;X-APPLE-RADIUS=500;X-TITLE=101 Riverside Ave.:geo:-71.1059052,42.4164422
END:VEVENT
BEGIN:VEVENT
DTSTART;TZID=America/New_York:20260402T170000
DTEND;TZID=America/New_York:20260402T200000
DTSTAMP:20260423T173450
CREATED:20260401T224909Z
LAST-MODIFIED:20260401T224909Z
UID:10044710-1775149200-1775160000@www.cacheinmedford.org
SUMMARY:Opening Reception: Ecos y Reflejos by Edward Rocha
DESCRIPTION:Celebrate the launch of Ecos y Reflejos\, a solo exhibit by Edward Rocha on Thursday\, April 2nd from 5:00–8:00 PM at our Opening Reception. This evening reception invites guests to explore Edward’s latest collection of paintings while enjoying light refreshments and drinks from our cash bar and casual conversation with the artist. \nGuests will have the opportunity to learn about Edward’s process\, ask questions\, and gain insight into his experiences that inspire his work. Whether you’re an art enthusiast or simply curious\, this is a great way to engage with local art and support Boston’s creative community. \nRSVP Here!
URL:https://www.cacheinmedford.org/event/opening-reception-ecos-y-reflejos-by-edward-rocha/
LOCATION:EventThem Studios\, 344 Salem St.\, Medford\, MA\, 02155\, United States
CATEGORIES:Exhibits
GEO:42.4218199;-71.0966138
X-APPLE-STRUCTURED-LOCATION;VALUE=URI;X-ADDRESS=EventThem Studios 344 Salem St. Medford MA 02155 United States;X-APPLE-RADIUS=500;X-TITLE=344 Salem St.:geo:-71.0966138,42.4218199
END:VEVENT
BEGIN:VEVENT
DTSTART;TZID=America/New_York:20260402T190000
DTEND;TZID=America/New_York:20260402T220000
DTSTAMP:20260423T173450
CREATED:20250914T173812Z
LAST-MODIFIED:20250914T173812Z
UID:10042651-1775156400-1775167200@www.cacheinmedford.org
SUMMARY:Melodies on Tap – Open Mic
DESCRIPTION:Melodies on Tap is our monthly open Mic Night hosted by local musicians\, Zion Rodman & Christian Colegrove. 21+ \nMore info and sign ups on the event website: HERE
URL:https://www.cacheinmedford.org/event/melodies-on-tap-open-mic/2026-04-02/
LOCATION:Medford Brewing Company Taproom\, 30 Harvard Ave.\, Medford\, MA\, 02155
CATEGORIES:Live Music
ORGANIZER;CN="Medford Brewing Company":MAILTO:info@mbrewing.com
GEO:42.4204055;-71.1336416
X-APPLE-STRUCTURED-LOCATION;VALUE=URI;X-ADDRESS=Medford Brewing Company Taproom 30 Harvard Ave. Medford MA 02155;X-APPLE-RADIUS=500;X-TITLE=30 Harvard Ave.:geo:-71.1336416,42.4204055
END:VEVENT
BEGIN:VEVENT
DTSTART;TZID=America/New_York:20260402T190000
DTEND;TZID=America/New_York:20260402T220000
DTSTAMP:20260423T173450
CREATED:20260329T135534Z
LAST-MODIFIED:20260329T135534Z
UID:10044652-1775156400-1775167200@www.cacheinmedford.org
SUMMARY:Dueling Pianos at the Great American Beer Hall
DESCRIPTION:Get ready for a night where the music never stops and the crowd calls the shots. Dueling Pianos brings two performers\, two pianos\, and a full room of requests into a high-energy\, sing-along showdown. \nFrom classic rock and throwbacks to today’s hits\, nothing is off-limits — shout it out\, sing it loud\, and watch it come to life on stage. It’s part concert\, part comedy\, and all-out crowd-powered chaos.
URL:https://www.cacheinmedford.org/event/dueling-pianos-at-the-great-american-beer-hall/
LOCATION:Great American Beer Hall\, 142 Mystic Ave.\, Medford\, MA\, 02155\, United States
CATEGORIES:Live Music
GEO:42.410454;-71.104875
X-APPLE-STRUCTURED-LOCATION;VALUE=URI;X-ADDRESS=Great American Beer Hall 142 Mystic Ave. Medford MA 02155 United States;X-APPLE-RADIUS=500;X-TITLE=142 Mystic Ave.:geo:-71.104875,42.410454
END:VEVENT
BEGIN:VEVENT
DTSTART;TZID=America/New_York:20260402T200000
DTEND;TZID=America/New_York:20260402T230000
DTSTAMP:20260423T173450
CREATED:20260329T134140Z
LAST-MODIFIED:20260329T134140Z
UID:10044644-1775160000-1775170800@www.cacheinmedford.org
SUMMARY:Caeltish at Mrs. Murphy’s Pub
DESCRIPTION:With fire in her hair and music in her bones\, the redheaded fiddler leads while the cartage player drives the pulse of the night. \nCaeltish brings a bold\, high-energy take on Celtic tradition — fast bows\, driving rhythm\, and the kind of sound that fills the room and pulls you in. It’s not just a set\, it’s a session: lively\, immersive\, and built for a packed pub. \nCome for the music\, stay for one more tune… and then one more after that.
URL:https://www.cacheinmedford.org/event/caeltish-at-mrs-murphys-pub-8/
LOCATION:Mrs. Murphy’s Pub\, 25 Salem St.\, Medford\, MA\, 02155\, United States
CATEGORIES:Live Music
GEO:42.4182797;-71.1085281
X-APPLE-STRUCTURED-LOCATION;VALUE=URI;X-ADDRESS=Mrs. Murphy’s Pub 25 Salem St. Medford MA 02155 United States;X-APPLE-RADIUS=500;X-TITLE=25 Salem St.:geo:-71.1085281,42.4182797
END:VEVENT
END:VCALENDAR