BEGIN:VCALENDAR
VERSION:2.0
PRODID:-//CACHE in Medford - ECPv6.15.18//NONSGML v1.0//EN
CALSCALE:GREGORIAN
METHOD:PUBLISH
X-WR-CALNAME:CACHE in Medford
X-ORIGINAL-URL:https://www.cacheinmedford.org
X-WR-CALDESC:Events for CACHE in Medford
REFRESH-INTERVAL;VALUE=DURATION:PT1H
X-Robots-Tag:noindex
X-PUBLISHED-TTL:PT1H
BEGIN:VTIMEZONE
TZID:America/New_York
BEGIN:DAYLIGHT
TZOFFSETFROM:-0500
TZOFFSETTO:-0400
TZNAME:EDT
DTSTART:20250309T070000
END:DAYLIGHT
BEGIN:STANDARD
TZOFFSETFROM:-0400
TZOFFSETTO:-0500
TZNAME:EST
DTSTART:20251102T060000
END:STANDARD
BEGIN:DAYLIGHT
TZOFFSETFROM:-0500
TZOFFSETTO:-0400
TZNAME:EDT
DTSTART:20260308T070000
END:DAYLIGHT
BEGIN:STANDARD
TZOFFSETFROM:-0400
TZOFFSETTO:-0500
TZNAME:EST
DTSTART:20261101T060000
END:STANDARD
BEGIN:DAYLIGHT
TZOFFSETFROM:-0500
TZOFFSETTO:-0400
TZNAME:EDT
DTSTART:20270314T070000
END:DAYLIGHT
BEGIN:STANDARD
TZOFFSETFROM:-0400
TZOFFSETTO:-0500
TZNAME:EST
DTSTART:20271107T060000
END:STANDARD
END:VTIMEZONE
BEGIN:VEVENT
DTSTART;TZID=America/New_York:20260321T090000
DTEND;TZID=America/New_York:20260321T110000
DTSTAMP:20260423T154459
CREATED:20250623T175615Z
LAST-MODIFIED:20250623T175615Z
UID:10041324-1774083600-1774090800@www.cacheinmedford.org
SUMMARY:MakerSpace Drop-In
DESCRIPTION:Stop by the Medford Public Library’s MakerSpace and work on your personal projects or ask our in-house expert about how to use the space and equipment. General safety badging is available during this time as well. \nThis program is for adults and teens 16+.
URL:https://www.cacheinmedford.org/event/makerspace-drop-in-3/2026-03-21/
LOCATION:Medford Public Library\, 111 High St.\, Medford\, MA\, 02155\, United States
CATEGORIES:Classes/Workshops
GEO:42.4197198;-71.1135305
X-APPLE-STRUCTURED-LOCATION;VALUE=URI;X-ADDRESS=Medford Public Library 111 High St. Medford MA 02155 United States;X-APPLE-RADIUS=500;X-TITLE=111 High St.:geo:-71.1135305,42.4197198
END:VEVENT
BEGIN:VEVENT
DTSTART;TZID=America/New_York:20260321T100000
DTEND;TZID=America/New_York:20260321T110000
DTSTAMP:20260423T154459
CREATED:20250623T175804Z
LAST-MODIFIED:20250623T175804Z
UID:10041582-1774087200-1774090800@www.cacheinmedford.org
SUMMARY:Family Story Time
DESCRIPTION:This story hour at the Medford Public Library is for children between the ages of 3-7. We will explore new concepts with books and songs. Parents and caregivers are welcome to join in! Story Time ends with a short craft or activity. \nDuring Family Story Time\, grown-ups are expected to remain in the room and keep an eye on the child(ren) they’re accompanying and are encouraged to engage fully in singing and movement activities. During the craft period\, grown-ups should plan to assist their kid(s) as needed. Family Story Time can sometimes be crowded and loud; depending on the craft\, it can also get a little messy. \nNo registration required.
URL:https://www.cacheinmedford.org/event/family-story-time-4/2026-03-21/
LOCATION:Medford Public Library\, 111 High St.\, Medford\, MA\, 02155\, United States
CATEGORIES:Children's Programs,Family Programs
GEO:42.4197198;-71.1135305
X-APPLE-STRUCTURED-LOCATION;VALUE=URI;X-ADDRESS=Medford Public Library 111 High St. Medford MA 02155 United States;X-APPLE-RADIUS=500;X-TITLE=111 High St.:geo:-71.1135305,42.4197198
END:VEVENT
BEGIN:VEVENT
DTSTART;TZID=America/New_York:20260321T120000
DTEND;TZID=America/New_York:20260321T150000
DTSTAMP:20260423T154459
CREATED:20260222T010304Z
LAST-MODIFIED:20260222T010304Z
UID:10044576-1774094400-1774105200@www.cacheinmedford.org
SUMMARY:Intro to Cyanotypes
DESCRIPTION:This workshop is a hands-on experience in the entire cyanotype process\, from blank paper to finished beautiful blue prints. By using light-sensitive chemicals on paper and fabric\, then placing objects like leaves\, flowers\, lace\, jewelry\, and more\, each student will expose their print to the sun’s UV rays in an outdoor space. After washing their print in water\, they’ll have a unique deep blue print to take home\, and each student will leave with 5-10 prints!\n\nLed By: Eve Holzman\nPrice: $60
URL:https://www.cacheinmedford.org/event/intro-to-cyanotypes-2/
LOCATION:Arts Collaborative Medford\, 162 Mystic Ave.\, Medford\, MA\, 02155\, United States
CATEGORIES:Classes/Workshops
GEO:42.4097679;-71.1046054
X-APPLE-STRUCTURED-LOCATION;VALUE=URI;X-ADDRESS=Arts Collaborative Medford 162 Mystic Ave. Medford MA 02155 United States;X-APPLE-RADIUS=500;X-TITLE=162 Mystic Ave.:geo:-71.1046054,42.4097679
END:VEVENT
BEGIN:VEVENT
DTSTART;TZID=America/New_York:20260321T130000
DTEND;TZID=America/New_York:20260321T150000
DTSTAMP:20260423T154459
CREATED:20260315T212743Z
LAST-MODIFIED:20260315T212743Z
UID:10044599-1774098000-1774105200@www.cacheinmedford.org
SUMMARY:Afro-American Historical and Genealogical Society Meeting
DESCRIPTION:To join the monthly meetings of the New England chapter of the Afro-American Historical and Genealogical Society\, please contact the society on their website.
URL:https://www.cacheinmedford.org/event/afro-american-historical-and-genealogical-society-meeting-4/
LOCATION:Medford Public Library\, 111 High St.\, Medford\, MA\, 02155\, United States
CATEGORIES:Other
GEO:42.4197198;-71.1135305
X-APPLE-STRUCTURED-LOCATION;VALUE=URI;X-ADDRESS=Medford Public Library 111 High St. Medford MA 02155 United States;X-APPLE-RADIUS=500;X-TITLE=111 High St.:geo:-71.1135305,42.4197198
END:VEVENT
BEGIN:VEVENT
DTSTART;TZID=America/New_York:20260321T150000
DTEND;TZID=America/New_York:20260321T160000
DTSTAMP:20260423T154459
CREATED:20260315T212916Z
LAST-MODIFIED:20260315T212916Z
UID:10044600-1774105200-1774108800@www.cacheinmedford.org
SUMMARY:Back Bay Ringers Mini-Concert and Workshop
DESCRIPTION:Join members of the Back Bay Ringers for a handbell mini-concert and hands-on workshop! The musicians will use handbells and handchimes to perform music arranged for small groups\, sharing a variety of tunes and demonstrating different techniques Then\, join an interactive workshop with the Ringers and try the handbells and handchimes for yourself. \nThe library strives to be open and accessible for all. If you need accommodations to attend this program\, please be sure to register. There is a follow-up question that will help us understand how we can include you in our programs. \nThis program is supported in part by a grant from the Medford Arts Council\, a local commission that is supported by the Massachusetts Cultural Council and the City of Medford.
URL:https://www.cacheinmedford.org/event/back-bay-ringers-mini-concert-and-workshop/
LOCATION:Medford Public Library\, 111 High St.\, Medford\, MA\, 02155\, United States
CATEGORIES:Live Music
GEO:42.4197198;-71.1135305
X-APPLE-STRUCTURED-LOCATION;VALUE=URI;X-ADDRESS=Medford Public Library 111 High St. Medford MA 02155 United States;X-APPLE-RADIUS=500;X-TITLE=111 High St.:geo:-71.1135305,42.4197198
END:VEVENT
END:VCALENDAR