BEGIN:VCALENDAR
VERSION:2.0
PRODID:-//CACHE in Medford - ECPv6.15.18//NONSGML v1.0//EN
CALSCALE:GREGORIAN
METHOD:PUBLISH
X-ORIGINAL-URL:https://www.cacheinmedford.org
X-WR-CALDESC:Events for CACHE in Medford
REFRESH-INTERVAL;VALUE=DURATION:PT1H
X-Robots-Tag:noindex
X-PUBLISHED-TTL:PT1H
BEGIN:VTIMEZONE
TZID:America/New_York
BEGIN:DAYLIGHT
TZOFFSETFROM:-0500
TZOFFSETTO:-0400
TZNAME:EDT
DTSTART:20250309T070000
END:DAYLIGHT
BEGIN:STANDARD
TZOFFSETFROM:-0400
TZOFFSETTO:-0500
TZNAME:EST
DTSTART:20251102T060000
END:STANDARD
BEGIN:DAYLIGHT
TZOFFSETFROM:-0500
TZOFFSETTO:-0400
TZNAME:EDT
DTSTART:20260308T070000
END:DAYLIGHT
BEGIN:STANDARD
TZOFFSETFROM:-0400
TZOFFSETTO:-0500
TZNAME:EST
DTSTART:20261101T060000
END:STANDARD
BEGIN:DAYLIGHT
TZOFFSETFROM:-0500
TZOFFSETTO:-0400
TZNAME:EDT
DTSTART:20270314T070000
END:DAYLIGHT
BEGIN:STANDARD
TZOFFSETFROM:-0400
TZOFFSETTO:-0500
TZNAME:EST
DTSTART:20271107T060000
END:STANDARD
END:VTIMEZONE
BEGIN:VEVENT
DTSTART;TZID=America/New_York:20260316T100000
DTEND;TZID=America/New_York:20260316T110000
DTSTAMP:20260423T160333
CREATED:20250914T171956Z
LAST-MODIFIED:20250914T171956Z
UID:10042394-1773655200-1773658800@www.cacheinmedford.org
SUMMARY:Gentle Yoga for Seniors
DESCRIPTION:Join Rosa on Mondays at 10:00 AM for gentle yoga designed to increase flexibility\, balance\, and relaxation. Cost: $5 per class.
URL:https://www.cacheinmedford.org/event/gentle-yoga-for-seniors/2026-03-16/
LOCATION:Medford Senior Center\, 101 Riverside Ave.\, Medford\, MA\, 02155
CATEGORIES:Senior Programs
GEO:42.4164422;-71.1059052
X-APPLE-STRUCTURED-LOCATION;VALUE=URI;X-ADDRESS=Medford Senior Center 101 Riverside Ave. Medford MA 02155;X-APPLE-RADIUS=500;X-TITLE=101 Riverside Ave.:geo:-71.1059052,42.4164422
END:VEVENT
BEGIN:VEVENT
DTSTART;TZID=America/New_York:20260316T103000
DTEND;TZID=America/New_York:20260316T113000
DTSTAMP:20260423T160333
CREATED:20250914T171453Z
LAST-MODIFIED:20250921T163909Z
UID:10042229-1773657000-1773660600@www.cacheinmedford.org
SUMMARY:Poetry for Seniors
DESCRIPTION:Join Robert Castagna on the first and third Mondays at 10:30 AM for a journey into poetry. Read\, reflect\, and share in a relaxed environment that welcomes all levels of interest in the written word.
URL:https://www.cacheinmedford.org/event/poetry-for-seniors/2026-03-16/
LOCATION:Medford Senior Center\, 101 Riverside Ave.\, Medford\, MA\, 02155
CATEGORIES:Senior Programs
GEO:42.4164422;-71.1059052
X-APPLE-STRUCTURED-LOCATION;VALUE=URI;X-ADDRESS=Medford Senior Center 101 Riverside Ave. Medford MA 02155;X-APPLE-RADIUS=500;X-TITLE=101 Riverside Ave.:geo:-71.1059052,42.4164422
END:VEVENT
BEGIN:VEVENT
DTSTART;TZID=America/New_York:20260316T110000
DTEND;TZID=America/New_York:20260316T120000
DTSTAMP:20260423T160333
CREATED:20250914T172122Z
LAST-MODIFIED:20250914T172122Z
UID:10042449-1773658800-1773662400@www.cacheinmedford.org
SUMMARY:Chair Yoga for Seniors
DESCRIPTION:Accessible yoga led by Rosa every Monday at 11:00 AM. Stretch\, strengthen\, and relax—perfect for all abilities. Cost: $3 per class.
URL:https://www.cacheinmedford.org/event/chair-yoga-for-seniors/2026-03-16/
LOCATION:Medford Senior Center\, 101 Riverside Ave.\, Medford\, MA\, 02155
CATEGORIES:Senior Programs
GEO:42.4164422;-71.1059052
X-APPLE-STRUCTURED-LOCATION;VALUE=URI;X-ADDRESS=Medford Senior Center 101 Riverside Ave. Medford MA 02155;X-APPLE-RADIUS=500;X-TITLE=101 Riverside Ave.:geo:-71.1059052,42.4164422
END:VEVENT
BEGIN:VEVENT
DTSTART;TZID=America/New_York:20260316T124500
DTEND;TZID=America/New_York:20260316T140000
DTSTAMP:20260423T160333
CREATED:20250914T172324Z
LAST-MODIFIED:20250914T172324Z
UID:10042504-1773665100-1773669600@www.cacheinmedford.org
SUMMARY:Country Line Dancing for Seniors
DESCRIPTION:Step\, shuffle\, and turn to the music on Mondays at 12:45 PM with Julie Kaufmann. A lively class for exercise\, rhythm\, and fun. Cost: $3 per class.
URL:https://www.cacheinmedford.org/event/country-line-dancing-for-seniors-2/2026-03-16/
LOCATION:Medford Senior Center\, 101 Riverside Ave.\, Medford\, MA\, 02155
CATEGORIES:Senior Programs
GEO:42.4164422;-71.1059052
X-APPLE-STRUCTURED-LOCATION;VALUE=URI;X-ADDRESS=Medford Senior Center 101 Riverside Ave. Medford MA 02155;X-APPLE-RADIUS=500;X-TITLE=101 Riverside Ave.:geo:-71.1059052,42.4164422
END:VEVENT
BEGIN:VEVENT
DTSTART;TZID=America/New_York:20260316T140000
DTEND;TZID=America/New_York:20260316T150000
DTSTAMP:20260423T160333
CREATED:20250914T172540Z
LAST-MODIFIED:20250914T172619Z
UID:10042559-1773669600-1773673200@www.cacheinmedford.org
SUMMARY:Latin Dance Class for Seniors
DESCRIPTION:Get moving with Judit on Mondays at 2:00 PM in this fun and free Latin dance session. No partner required—just bring your energy!
URL:https://www.cacheinmedford.org/event/latin-dance-class-for-seniors-2/2026-03-16/
LOCATION:Medford Senior Center\, 101 Riverside Ave.\, Medford\, MA\, 02155
CATEGORIES:Senior Programs
GEO:42.4164422;-71.1059052
X-APPLE-STRUCTURED-LOCATION;VALUE=URI;X-ADDRESS=Medford Senior Center 101 Riverside Ave. Medford MA 02155;X-APPLE-RADIUS=500;X-TITLE=101 Riverside Ave.:geo:-71.1059052,42.4164422
END:VEVENT
BEGIN:VEVENT
DTSTART;TZID=America/New_York:20260316T170000
DTEND;TZID=America/New_York:20260316T200000
DTSTAMP:20260423T160333
CREATED:20260315T221447Z
LAST-MODIFIED:20260315T221527Z
UID:10044615-1773680400-1773691200@www.cacheinmedford.org
SUMMARY:Liam Daily at Mrs. Murphy's Pub
DESCRIPTION:Toe-tapping\, pint-raising\, maybe-even-table-dancing Irish music. That’s how we celebrate St. Patrick’s Day.
URL:https://www.cacheinmedford.org/event/liam-daily-at-mrs-murphys-pub/
LOCATION:Mrs. Murphy’s Pub\, 25 Salem St.\, Medford\, MA\, 02155\, United States
CATEGORIES:Live Music
GEO:42.4182797;-71.1085281
X-APPLE-STRUCTURED-LOCATION;VALUE=URI;X-ADDRESS=Mrs. Murphy’s Pub 25 Salem St. Medford MA 02155 United States;X-APPLE-RADIUS=500;X-TITLE=25 Salem St.:geo:-71.1085281,42.4182797
END:VEVENT
BEGIN:VEVENT
DTSTART;TZID=America/New_York:20260316T180000
DTEND;TZID=America/New_York:20260316T200000
DTSTAMP:20260423T160333
CREATED:20250623T163412Z
LAST-MODIFIED:20250623T163412Z
UID:10040523-1773684000-1773691200@www.cacheinmedford.org
SUMMARY:MakerSpace Drop-In
DESCRIPTION:Stop by the Medford Library’s MakerSpace and work on your personal projects or ask our in-house expert about how to use the space and equipment. General safety badging is available during this time as well. This program is for adults and teens 16+. No registration required.
URL:https://www.cacheinmedford.org/event/makerspace-drop-in/2026-03-16/
LOCATION:Medford Public Library\, 111 High St.\, Medford\, MA\, 02155\, United States
CATEGORIES:Classes/Workshops
ORGANIZER;CN="Friends of the Medford Public Library":MAILTO:friendsofmedfordlibrary@gmail.com
GEO:42.4197198;-71.1135305
X-APPLE-STRUCTURED-LOCATION;VALUE=URI;X-ADDRESS=Medford Public Library 111 High St. Medford MA 02155 United States;X-APPLE-RADIUS=500;X-TITLE=111 High St.:geo:-71.1135305,42.4197198
END:VEVENT
END:VCALENDAR