BEGIN:VCALENDAR
VERSION:2.0
PRODID:-//CACHE in Medford - ECPv6.15.18//NONSGML v1.0//EN
CALSCALE:GREGORIAN
METHOD:PUBLISH
X-WR-CALNAME:CACHE in Medford
X-ORIGINAL-URL:https://www.cacheinmedford.org
X-WR-CALDESC:Events for CACHE in Medford
REFRESH-INTERVAL;VALUE=DURATION:PT1H
X-Robots-Tag:noindex
X-PUBLISHED-TTL:PT1H
BEGIN:VTIMEZONE
TZID:America/New_York
BEGIN:DAYLIGHT
TZOFFSETFROM:-0500
TZOFFSETTO:-0400
TZNAME:EDT
DTSTART:20250309T070000
END:DAYLIGHT
BEGIN:STANDARD
TZOFFSETFROM:-0400
TZOFFSETTO:-0500
TZNAME:EST
DTSTART:20251102T060000
END:STANDARD
BEGIN:DAYLIGHT
TZOFFSETFROM:-0500
TZOFFSETTO:-0400
TZNAME:EDT
DTSTART:20260308T070000
END:DAYLIGHT
BEGIN:STANDARD
TZOFFSETFROM:-0400
TZOFFSETTO:-0500
TZNAME:EST
DTSTART:20261101T060000
END:STANDARD
BEGIN:DAYLIGHT
TZOFFSETFROM:-0500
TZOFFSETTO:-0400
TZNAME:EDT
DTSTART:20270314T070000
END:DAYLIGHT
BEGIN:STANDARD
TZOFFSETFROM:-0400
TZOFFSETTO:-0500
TZNAME:EST
DTSTART:20271107T060000
END:STANDARD
END:VTIMEZONE
BEGIN:VEVENT
DTSTART;TZID=America/New_York:20260314T090000
DTEND;TZID=America/New_York:20260314T110000
DTSTAMP:20260425T104032
CREATED:20250623T175615Z
LAST-MODIFIED:20250623T175615Z
UID:10041323-1773478800-1773486000@www.cacheinmedford.org
SUMMARY:MakerSpace Drop-In
DESCRIPTION:Stop by the Medford Public Library’s MakerSpace and work on your personal projects or ask our in-house expert about how to use the space and equipment. General safety badging is available during this time as well. \nThis program is for adults and teens 16+.
URL:https://www.cacheinmedford.org/event/makerspace-drop-in-3/2026-03-14/
LOCATION:Medford Public Library\, 111 High St.\, Medford\, MA\, 02155\, United States
CATEGORIES:Classes/Workshops
GEO:42.4197198;-71.1135305
X-APPLE-STRUCTURED-LOCATION;VALUE=URI;X-ADDRESS=Medford Public Library 111 High St. Medford MA 02155 United States;X-APPLE-RADIUS=500;X-TITLE=111 High St.:geo:-71.1135305,42.4197198
END:VEVENT
BEGIN:VEVENT
DTSTART;TZID=America/New_York:20260314T100000
DTEND;TZID=America/New_York:20260314T110000
DTSTAMP:20260425T104032
CREATED:20250623T175804Z
LAST-MODIFIED:20250623T175804Z
UID:10041581-1773482400-1773486000@www.cacheinmedford.org
SUMMARY:Family Story Time
DESCRIPTION:This story hour at the Medford Public Library is for children between the ages of 3-7. We will explore new concepts with books and songs. Parents and caregivers are welcome to join in! Story Time ends with a short craft or activity. \nDuring Family Story Time\, grown-ups are expected to remain in the room and keep an eye on the child(ren) they’re accompanying and are encouraged to engage fully in singing and movement activities. During the craft period\, grown-ups should plan to assist their kid(s) as needed. Family Story Time can sometimes be crowded and loud; depending on the craft\, it can also get a little messy. \nNo registration required.
URL:https://www.cacheinmedford.org/event/family-story-time-4/2026-03-14/
LOCATION:Medford Public Library\, 111 High St.\, Medford\, MA\, 02155\, United States
CATEGORIES:Children's Programs,Family Programs
GEO:42.4197198;-71.1135305
X-APPLE-STRUCTURED-LOCATION;VALUE=URI;X-ADDRESS=Medford Public Library 111 High St. Medford MA 02155 United States;X-APPLE-RADIUS=500;X-TITLE=111 High St.:geo:-71.1135305,42.4197198
END:VEVENT
BEGIN:VEVENT
DTSTART;TZID=America/New_York:20260314T130000
DTEND;TZID=America/New_York:20260314T150000
DTSTAMP:20260425T104032
CREATED:20260222T010021Z
LAST-MODIFIED:20260222T010021Z
UID:10044575-1773493200-1773500400@www.cacheinmedford.org
SUMMARY:Recycled Tin Can Earrings Workshop
DESCRIPTION:Learn how to create earrings and pendants using recycled aluminum cans and glass beads. This is a great way to be earth friendly\, using materials you may already have at home\, while creating some lovely wearables. All materials will be provided\, and no prior experience is necessary. This is a great workshop for the all ages\, including children from ages 6 and up. You will leave the workshop with at least one pair of earrings or a pendant\, depending on your creative choice. \nLed by: Sarah Beardslee \nFee: $35
URL:https://www.cacheinmedford.org/event/recycled-tin-can-earrings-workshop/
LOCATION:Arts Collaborative Medford\, 162 Mystic Ave.\, Medford\, MA\, 02155\, United States
CATEGORIES:Classes/Workshops
GEO:42.4097679;-71.1046054
X-APPLE-STRUCTURED-LOCATION;VALUE=URI;X-ADDRESS=Arts Collaborative Medford 162 Mystic Ave. Medford MA 02155 United States;X-APPLE-RADIUS=500;X-TITLE=162 Mystic Ave.:geo:-71.1046054,42.4097679
END:VEVENT
BEGIN:VEVENT
DTSTART;TZID=America/New_York:20260314T143000
DTEND;TZID=America/New_York:20260314T153000
DTSTAMP:20260425T104032
CREATED:20260221T220037Z
LAST-MODIFIED:20260221T220037Z
UID:10044556-1773498600-1773502200@www.cacheinmedford.org
SUMMARY:Storytime with Local Author Cynthia Platt
DESCRIPTION:Meet local author Cynthia Platt for a special afternoon storytime featuring her newest picture book\, Bunny in Disguise. Families will enjoy a lively reading\, meet the author\, and celebrate this charming new release in the cozy setting of Moon and Back Bookstore. \nA sweet Saturday afternoon for book lovers of all ages.
URL:https://www.cacheinmedford.org/event/storytime-with-local-author-cynthia-platt/
LOCATION:Moon and Back Bookstore\, 458 High St\, Medford\, MA\, 02155\, United States
CATEGORIES:Book/Poetry Readings,Children's Programs
ORGANIZER;CN="Moon and Back Bookstore":MAILTO:moonandbackbookstore@gmail.com
GEO:42.4209722;-71.1317964
X-APPLE-STRUCTURED-LOCATION;VALUE=URI;X-ADDRESS=Moon and Back Bookstore 458 High St Medford MA 02155 United States;X-APPLE-RADIUS=500;X-TITLE=458 High St:geo:-71.1317964,42.4209722
END:VEVENT
BEGIN:VEVENT
DTSTART;TZID=America/New_York:20260314T200000
DTEND;TZID=America/New_York:20260314T220000
DTSTAMP:20260425T104032
CREATED:20260309T164956Z
LAST-MODIFIED:20260309T164956Z
UID:10044593-1773518400-1773525600@www.cacheinmedford.org
SUMMARY:The High Kings: The Rocky Road Tour
DESCRIPTION:Ireland’s leading folk group\, The High Kings\, are set to excite fans once again with the announcement of their Rocky Road Tour 2026. \nAs global ambassadors of Irish heritage and storytelling\, The High Kings have consistently brought the timeless tradition of folk music to audiences worldwide\, earning them chart-topping success and widespread acclaim. With their signature blend of classic tradition and modern edge\, The Rocky Road Tour promises to be a vibrant showcase of Irish culture\, energy\, and musicality. \nFollowing a record-breaking 2024 – including a sold-out world tour\, a feature on Disney’s critically acclaimed Only Murders in The Building\, and over 5 million weekly streams – the band are showing no signs of slowing down. Their momentum continued in 2025 with a string of sold-out U.S. tour dates\, culminating in a headline performance at the legendary Troubadour in Los Angeles on March 23rd\, after stops in Kansas\, Nashville\, St. Paul\, St. Louis\, New York\, New Hampton\, Glen Ellen\, Ridgefield\, Alexandria\, and more. \nBut it was their inclusion on the soundtrack of Sinners—the current #1 movie worldwide\, starring Michael B. Jordan and directed by Ryan Coogler—that marked a defining moment in their global recognition. The film’s soundtrack\, already topping international streaming charts\, was curated by Oscar- and Grammy-winning composer Ludwig Göransson (Oppenheimer\, The Mandalorian\, Black Panther)\, a long-time admirer of The High Kings’ distinctive vocal blend and musicianship. After attending their sold-out show at The Troubadour in Los Angeles earlier this year\, Göransson selected two tracks—“The Rocky Road to Dublin” and “Go Lassie Go”—to feature prominently in the film’s score. \nThe Rocky Road Tour 2026 will build on this global success\, offering audiences a high-energy live show that reinforces The High Kings’ place at the forefront of Irish folk. With a renewed focus on storytelling\, musicianship\, and connection\, the tour reflects the group’s ongoing commitment to honouring Ireland’s folk legacy while pushing creative boundaries.
URL:https://www.cacheinmedford.org/event/the-high-kings-the-rocky-road-tour/
LOCATION:Chevalier Theatre\, 30 Forest St.\, Medford\, MA\, 02155
CATEGORIES:Live Music
GEO:42.4196366;-71.1092545
X-APPLE-STRUCTURED-LOCATION;VALUE=URI;X-ADDRESS=Chevalier Theatre 30 Forest St. Medford MA 02155;X-APPLE-RADIUS=500;X-TITLE=30 Forest St.:geo:-71.1092545,42.4196366
END:VEVENT
END:VCALENDAR