BEGIN:VCALENDAR
VERSION:2.0
PRODID:-//CACHE in Medford - ECPv6.15.18//NONSGML v1.0//EN
CALSCALE:GREGORIAN
METHOD:PUBLISH
X-ORIGINAL-URL:https://www.cacheinmedford.org
X-WR-CALDESC:Events for CACHE in Medford
REFRESH-INTERVAL;VALUE=DURATION:PT1H
X-Robots-Tag:noindex
X-PUBLISHED-TTL:PT1H
BEGIN:VTIMEZONE
TZID:America/New_York
BEGIN:DAYLIGHT
TZOFFSETFROM:-0500
TZOFFSETTO:-0400
TZNAME:EDT
DTSTART:20250309T070000
END:DAYLIGHT
BEGIN:STANDARD
TZOFFSETFROM:-0400
TZOFFSETTO:-0500
TZNAME:EST
DTSTART:20251102T060000
END:STANDARD
BEGIN:DAYLIGHT
TZOFFSETFROM:-0500
TZOFFSETTO:-0400
TZNAME:EDT
DTSTART:20260308T070000
END:DAYLIGHT
BEGIN:STANDARD
TZOFFSETFROM:-0400
TZOFFSETTO:-0500
TZNAME:EST
DTSTART:20261101T060000
END:STANDARD
BEGIN:DAYLIGHT
TZOFFSETFROM:-0500
TZOFFSETTO:-0400
TZNAME:EDT
DTSTART:20270314T070000
END:DAYLIGHT
BEGIN:STANDARD
TZOFFSETFROM:-0400
TZOFFSETTO:-0500
TZNAME:EST
DTSTART:20271107T060000
END:STANDARD
END:VTIMEZONE
BEGIN:VEVENT
DTSTART;TZID=America/New_York:20260226T133000
DTEND;TZID=America/New_York:20260226T143000
DTSTAMP:20260423T143849
CREATED:20250914T171716Z
LAST-MODIFIED:20250914T171716Z
UID:10042336-1772112600-1772116200@www.cacheinmedford.org
SUMMARY:Art for Everyone for Seniors
DESCRIPTION:Get creative with Tom in this free art class on Thursdays at 1:30 PM. Offered in person or via Zoom\, it’s open to all skill levels. Supplies and inspiration provided—just bring your imagination!
URL:https://www.cacheinmedford.org/event/art-for-everyone-for-seniors/2026-02-26/
LOCATION:Medford Senior Center\, 101 Riverside Ave.\, Medford\, MA\, 02155
CATEGORIES:Senior Programs
GEO:42.4164422;-71.1059052
X-APPLE-STRUCTURED-LOCATION;VALUE=URI;X-ADDRESS=Medford Senior Center 101 Riverside Ave. Medford MA 02155;X-APPLE-RADIUS=500;X-TITLE=101 Riverside Ave.:geo:-71.1059052,42.4164422
END:VEVENT
BEGIN:VEVENT
DTSTART;TZID=America/New_York:20260226T140000
DTEND;TZID=America/New_York:20260226T150000
DTSTAMP:20260423T143849
CREATED:20260201T153759Z
LAST-MODIFIED:20260201T153759Z
UID:10044520-1772114400-1772118000@www.cacheinmedford.org
SUMMARY:The Invention of Charlotte Brontë with Graham Watson on ZOOM
DESCRIPTION:We’ll be delving into the primary sources – the manuscripts and letters – that informed Graham’s book “The Invention of Charlotte Brontë: A New Life”. Join us  as Graham discusses Charlotte’s life – the myths vs. reality – as well as his own research and writing of this fantastic book! \nAbout the book: Charlotte Brontë had a life as seemingly dramatic as her heroine Jane Eyre. Turning her back on her tragic past\, Charlotte reinvented herself as an acclaimed author\, a mysterious celebrity\, and a passionate lover. Doing so meant burning many bridges\, but her sudden death left her friends and admirers with more questions than answers. Tasked with telling the truth about Brontë’s life\, her friend\, the novelist Elizabeth Gaskell\, uncovered secrets of illicit love\, family discord\, and professional rivalries more incredible than any fiction. The result\, a tell-all biography\, was so scandalous it was banned and rewritten twice in six months—but not before it had given birth to the legend of the Brontës. Through evaluating key events as well as introducing new archival material into the story\, The Invention of Charlotte Brontë presents a different\, darker take on one of the most famous women writers of the nineteenth century\, showing Charlotte to be a strong but flawed individual.. \nAbout the Presenter: Graham Watson is a specialist in the Brontës and Elizabeth Gaskell\, and he is currently researching Victorian literary identities at the University of Glasgow. He has published a number of papers in Brontë Studies and has recently joined the journal’s peer-review board. This is his first book. Graham lives in Glasgow.
URL:https://www.cacheinmedford.org/event/the-invention-of-charlotte-bronte-with-graham-watson-on-zoom/
LOCATION:Medford Public Library\, 111 High St.\, Medford\, MA\, 02155\, United States
CATEGORIES:Book/Poetry Readings,Historical Talks/Presentations
GEO:42.4197198;-71.1135305
X-APPLE-STRUCTURED-LOCATION;VALUE=URI;X-ADDRESS=Medford Public Library 111 High St. Medford MA 02155 United States;X-APPLE-RADIUS=500;X-TITLE=111 High St.:geo:-71.1135305,42.4197198
END:VEVENT
BEGIN:VEVENT
DTSTART;TZID=America/New_York:20260226T190000
DTEND;TZID=America/New_York:20260226T203000
DTSTAMP:20260423T143849
CREATED:20260126T024559Z
LAST-MODIFIED:20260126T024559Z
UID:10044499-1772132400-1772137800@www.cacheinmedford.org
SUMMARY:MHSM: Medford Businesses Through Time
DESCRIPTION:Medford’s business history is more than shipbuilding and rum. Learn about Medford’s initial industries and subsequent contributions to Massachusetts’ economy. \nPresented by Medford Chamber of Commerce and Medford Historical Society and Museum.
URL:https://www.cacheinmedford.org/event/mhsm-medford-businesses-through-time/
LOCATION:Medford Public Library\, 111 High St.\, Medford\, MA\, 02155\, United States
CATEGORIES:Historical Talks/Presentations
GEO:42.4197198;-71.1135305
X-APPLE-STRUCTURED-LOCATION;VALUE=URI;X-ADDRESS=Medford Public Library 111 High St. Medford MA 02155 United States;X-APPLE-RADIUS=500;X-TITLE=111 High St.:geo:-71.1135305,42.4197198
END:VEVENT
BEGIN:VEVENT
DTSTART;TZID=America/New_York:20260226T190000
DTEND;TZID=America/New_York:20260226T210000
DTSTAMP:20260423T143849
CREATED:20260201T152941Z
LAST-MODIFIED:20260201T152948Z
UID:10044517-1772132400-1772139600@www.cacheinmedford.org
SUMMARY:Original Poetry Open Mic with Guest Poet Deborah Schwartz
DESCRIPTION:Poets\, dreamers\, and writers – we want to see you\, hear you\, and welcome you! Bring an original poem or story to read. We’ll provide a microphone and podium. \nOriginal Poetry Open Mic\nHosted by Vijaya Sundaram\, Medford Poet Laureate Emeritus (2023–2025)\nFeatured Poet: Deborah Schwartz\nSuggested Donation: $5-$10
URL:https://www.cacheinmedford.org/event/original-poetry-open-mic-with-guest-poet-deborah-schwartz-2/
LOCATION:Arts Collaborative Medford\, 162 Mystic Ave.\, Medford\, MA\, 02155\, United States
CATEGORIES:Book/Poetry Readings
GEO:42.4097679;-71.1046054
X-APPLE-STRUCTURED-LOCATION;VALUE=URI;X-ADDRESS=Arts Collaborative Medford 162 Mystic Ave. Medford MA 02155 United States;X-APPLE-RADIUS=500;X-TITLE=162 Mystic Ave.:geo:-71.1046054,42.4097679
END:VEVENT
BEGIN:VEVENT
DTSTART;TZID=America/New_York:20260226T200000
DTEND;TZID=America/New_York:20260226T230000
DTSTAMP:20260423T143849
CREATED:20260201T155504Z
LAST-MODIFIED:20260201T155504Z
UID:10044528-1772136000-1772146800@www.cacheinmedford.org
SUMMARY:Caeltish at Mrs. Murphy’s Pub
DESCRIPTION:A fiddle & guitar duo slinging fast strings\, bold rhythms\, and just enough attitude to keep your pint on beat. Toe-tapping encouraged. Sitting still discouraged.
URL:https://www.cacheinmedford.org/event/caeltish-at-mrs-murphys-pub-5/
LOCATION:Mrs. Murphy’s Pub\, 25 Salem St.\, Medford\, MA\, 02155\, United States
CATEGORIES:Live Music
GEO:42.4182797;-71.1085281
X-APPLE-STRUCTURED-LOCATION;VALUE=URI;X-ADDRESS=Mrs. Murphy’s Pub 25 Salem St. Medford MA 02155 United States;X-APPLE-RADIUS=500;X-TITLE=25 Salem St.:geo:-71.1085281,42.4182797
END:VEVENT
END:VCALENDAR