BEGIN:VCALENDAR
VERSION:2.0
PRODID:-//CACHE in Medford - ECPv6.15.18//NONSGML v1.0//EN
CALSCALE:GREGORIAN
METHOD:PUBLISH
X-ORIGINAL-URL:https://www.cacheinmedford.org
X-WR-CALDESC:Events for CACHE in Medford
REFRESH-INTERVAL;VALUE=DURATION:PT1H
X-Robots-Tag:noindex
X-PUBLISHED-TTL:PT1H
BEGIN:VTIMEZONE
TZID:America/New_York
BEGIN:DAYLIGHT
TZOFFSETFROM:-0500
TZOFFSETTO:-0400
TZNAME:EDT
DTSTART:20250309T070000
END:DAYLIGHT
BEGIN:STANDARD
TZOFFSETFROM:-0400
TZOFFSETTO:-0500
TZNAME:EST
DTSTART:20251102T060000
END:STANDARD
BEGIN:DAYLIGHT
TZOFFSETFROM:-0500
TZOFFSETTO:-0400
TZNAME:EDT
DTSTART:20260308T070000
END:DAYLIGHT
BEGIN:STANDARD
TZOFFSETFROM:-0400
TZOFFSETTO:-0500
TZNAME:EST
DTSTART:20261101T060000
END:STANDARD
BEGIN:DAYLIGHT
TZOFFSETFROM:-0500
TZOFFSETTO:-0400
TZNAME:EDT
DTSTART:20270314T070000
END:DAYLIGHT
BEGIN:STANDARD
TZOFFSETFROM:-0400
TZOFFSETTO:-0500
TZNAME:EST
DTSTART:20271107T060000
END:STANDARD
END:VTIMEZONE
BEGIN:VEVENT
DTSTART;TZID=America/New_York:20260223T100000
DTEND;TZID=America/New_York:20260223T110000
DTSTAMP:20260425T104117
CREATED:20250914T171956Z
LAST-MODIFIED:20250914T171956Z
UID:10042391-1771840800-1771844400@www.cacheinmedford.org
SUMMARY:Gentle Yoga for Seniors
DESCRIPTION:Join Rosa on Mondays at 10:00 AM for gentle yoga designed to increase flexibility\, balance\, and relaxation. Cost: $5 per class.
URL:https://www.cacheinmedford.org/event/gentle-yoga-for-seniors/2026-02-23/
LOCATION:Medford Senior Center\, 101 Riverside Ave.\, Medford\, MA\, 02155
CATEGORIES:Senior Programs
GEO:42.4164422;-71.1059052
X-APPLE-STRUCTURED-LOCATION;VALUE=URI;X-ADDRESS=Medford Senior Center 101 Riverside Ave. Medford MA 02155;X-APPLE-RADIUS=500;X-TITLE=101 Riverside Ave.:geo:-71.1059052,42.4164422
END:VEVENT
BEGIN:VEVENT
DTSTART;TZID=America/New_York:20260223T100000
DTEND;TZID=America/New_York:20260223T140000
DTSTAMP:20260425T104117
CREATED:20260125T181407Z
LAST-MODIFIED:20260125T181407Z
UID:10044099-1771840800-1771855200@www.cacheinmedford.org
SUMMARY:Senior Van Trip: Town Line Bowling Alley & 621 Restaurant Lunch
DESCRIPTION:Enjoy a morning of bowling at Town Line Bowling Alley followed by lunch at 621 Restaurant next door. Bowling costs $5 per person (pay in advance); lunch is paid on your own. The van returns around 1:30 PM. Limited seating — reserve early. Van departs at 10 AM.
URL:https://www.cacheinmedford.org/event/senior-van-trip-town-line-bowling-alley-621-restaurant-lunch/
LOCATION:Medford Senior Center\, 101 Riverside Ave.\, Medford\, MA\, 02155
CATEGORIES:Senior Programs
GEO:42.4164422;-71.1059052
X-APPLE-STRUCTURED-LOCATION;VALUE=URI;X-ADDRESS=Medford Senior Center 101 Riverside Ave. Medford MA 02155;X-APPLE-RADIUS=500;X-TITLE=101 Riverside Ave.:geo:-71.1059052,42.4164422
END:VEVENT
BEGIN:VEVENT
DTSTART;TZID=America/New_York:20260223T110000
DTEND;TZID=America/New_York:20260223T120000
DTSTAMP:20260425T104117
CREATED:20250914T172122Z
LAST-MODIFIED:20250914T172122Z
UID:10042446-1771844400-1771848000@www.cacheinmedford.org
SUMMARY:Chair Yoga for Seniors
DESCRIPTION:Accessible yoga led by Rosa every Monday at 11:00 AM. Stretch\, strengthen\, and relax—perfect for all abilities. Cost: $3 per class.
URL:https://www.cacheinmedford.org/event/chair-yoga-for-seniors/2026-02-23/
LOCATION:Medford Senior Center\, 101 Riverside Ave.\, Medford\, MA\, 02155
CATEGORIES:Senior Programs
GEO:42.4164422;-71.1059052
X-APPLE-STRUCTURED-LOCATION;VALUE=URI;X-ADDRESS=Medford Senior Center 101 Riverside Ave. Medford MA 02155;X-APPLE-RADIUS=500;X-TITLE=101 Riverside Ave.:geo:-71.1059052,42.4164422
END:VEVENT
BEGIN:VEVENT
DTSTART;TZID=America/New_York:20260223T124500
DTEND;TZID=America/New_York:20260223T140000
DTSTAMP:20260425T104117
CREATED:20250914T172324Z
LAST-MODIFIED:20250914T172324Z
UID:10042501-1771850700-1771855200@www.cacheinmedford.org
SUMMARY:Country Line Dancing for Seniors
DESCRIPTION:Step\, shuffle\, and turn to the music on Mondays at 12:45 PM with Julie Kaufmann. A lively class for exercise\, rhythm\, and fun. Cost: $3 per class.
URL:https://www.cacheinmedford.org/event/country-line-dancing-for-seniors-2/2026-02-23/
LOCATION:Medford Senior Center\, 101 Riverside Ave.\, Medford\, MA\, 02155
CATEGORIES:Senior Programs
GEO:42.4164422;-71.1059052
X-APPLE-STRUCTURED-LOCATION;VALUE=URI;X-ADDRESS=Medford Senior Center 101 Riverside Ave. Medford MA 02155;X-APPLE-RADIUS=500;X-TITLE=101 Riverside Ave.:geo:-71.1059052,42.4164422
END:VEVENT
BEGIN:VEVENT
DTSTART;TZID=America/New_York:20260223T140000
DTEND;TZID=America/New_York:20260223T150000
DTSTAMP:20260425T104117
CREATED:20250914T172540Z
LAST-MODIFIED:20250914T172619Z
UID:10042556-1771855200-1771858800@www.cacheinmedford.org
SUMMARY:Latin Dance Class for Seniors
DESCRIPTION:Get moving with Judit on Mondays at 2:00 PM in this fun and free Latin dance session. No partner required—just bring your energy!
URL:https://www.cacheinmedford.org/event/latin-dance-class-for-seniors-2/2026-02-23/
LOCATION:Medford Senior Center\, 101 Riverside Ave.\, Medford\, MA\, 02155
CATEGORIES:Senior Programs
GEO:42.4164422;-71.1059052
X-APPLE-STRUCTURED-LOCATION;VALUE=URI;X-ADDRESS=Medford Senior Center 101 Riverside Ave. Medford MA 02155;X-APPLE-RADIUS=500;X-TITLE=101 Riverside Ave.:geo:-71.1059052,42.4164422
END:VEVENT
BEGIN:VEVENT
DTSTART;TZID=America/New_York:20260223T180000
DTEND;TZID=America/New_York:20260223T200000
DTSTAMP:20260425T104117
CREATED:20250623T163412Z
LAST-MODIFIED:20250623T163412Z
UID:10040520-1771869600-1771876800@www.cacheinmedford.org
SUMMARY:MakerSpace Drop-In
DESCRIPTION:Stop by the Medford Library’s MakerSpace and work on your personal projects or ask our in-house expert about how to use the space and equipment. General safety badging is available during this time as well. This program is for adults and teens 16+. No registration required.
URL:https://www.cacheinmedford.org/event/makerspace-drop-in/2026-02-23/
LOCATION:Medford Public Library\, 111 High St.\, Medford\, MA\, 02155\, United States
CATEGORIES:Classes/Workshops
ORGANIZER;CN="Friends of the Medford Public Library":MAILTO:friendsofmedfordlibrary@gmail.com
GEO:42.4197198;-71.1135305
X-APPLE-STRUCTURED-LOCATION;VALUE=URI;X-ADDRESS=Medford Public Library 111 High St. Medford MA 02155 United States;X-APPLE-RADIUS=500;X-TITLE=111 High St.:geo:-71.1135305,42.4197198
END:VEVENT
BEGIN:VEVENT
DTSTART;TZID=America/New_York:20260223T190000
DTEND;TZID=America/New_York:20260223T200000
DTSTAMP:20260425T104117
CREATED:20260201T153634Z
LAST-MODIFIED:20260201T153634Z
UID:10044519-1771873200-1771876800@www.cacheinmedford.org
SUMMARY:(How to Avoid) Death in Glacier National Park with Randi Minetor on ZOOM
DESCRIPTION:Join us to discuss the 10th anniversary (and fully revised & updated 2nd edition!) of Randi’s book\, “Death in Glacier National Park: Stories of Accidents and Foolhardiness in the Crown of the Continent”. Randi is the  author of eight books (working on the 9th!) in the non-fiction “Death in the National Parks” series\, explores the fatal mistakes people make when they venture into unfamiliar wilderness. Collected here are some the most gripping accounts in park history and new stories about people losing the battle with natural forces or perishing from their own folly. Be ready for your upcoming summer vacation plans with this important and\, probably\, humorous presentation! \nBorn and raised in Rochester\, NY\, Randi Minetor discovered the backcountry wonders of America’s national parks in 1992 with her husband\, photographer/lighting designer Nic Minetor. That first trip changed her life\, and by 2000\, the Minetors had pledged to see all 430 national parks in their lifetimes. They found a way to subsidize this passion in 2006\, when they began writing and photographing books on the parks for The Globe Pequot Press (now Rowman & Littlefield). Today Randi has written more than 90 books\, including seven books in the nonfiction Death in the National Parks series\, ten hiking guides in New York State\, several bird-finding guides\, and even reference books on health topics. To date\, they have visited 364 national parks. In addition\, Nic’s photography appears in eight Quick Reference Guides to the Birds\, Trees\, and Wildflowers of New York City and New York State\, and the Trees and Wildflowers of the Mid-Atlantic States. The Minetors live in Rochester\, NY.
URL:https://www.cacheinmedford.org/event/how-to-avoid-death-in-glacier-national-park-with-randi-minetor-on-zoom/
LOCATION:Medford Public Library\, 111 High St.\, Medford\, MA\, 02155\, United States
CATEGORIES:Book/Poetry Readings
GEO:42.4197198;-71.1135305
X-APPLE-STRUCTURED-LOCATION;VALUE=URI;X-ADDRESS=Medford Public Library 111 High St. Medford MA 02155 United States;X-APPLE-RADIUS=500;X-TITLE=111 High St.:geo:-71.1135305,42.4197198
END:VEVENT
BEGIN:VEVENT
DTSTART;TZID=America/New_York:20260223T190000
DTEND;TZID=America/New_York:20260223T203000
DTSTAMP:20260425T104117
CREATED:20260222T031844Z
LAST-MODIFIED:20260222T031844Z
UID:10044589-1771873200-1771878600@www.cacheinmedford.org
SUMMARY:The Path to Hozho: Teachings of the Beauty Way in Difficult Times with Lupita McClanahan
DESCRIPTION:“Hozho\,” or “The Beauty Way\,” is a core practice of the Diné people. Raised in secrecy by traditional elders in Canyon de Chelly\, Lupita was hidden to preserve her family’s lineage from the boarding school system. Though eventually taken\, she drew on her cultural strength to endure and overcome unimaginable challenges. Join us to hear her powerful stories of resilience and discover how we\, too\, can walk in Hozho.
URL:https://www.cacheinmedford.org/event/the-path-to-hozho-teachings-of-the-beauty-way-in-difficult-times-with-lupita-mcclanahan/
LOCATION:Medford Public Library\, 111 High St.\, Medford\, MA\, 02155\, United States
CATEGORIES:Historical Talks/Presentations
GEO:42.4197198;-71.1135305
X-APPLE-STRUCTURED-LOCATION;VALUE=URI;X-ADDRESS=Medford Public Library 111 High St. Medford MA 02155 United States;X-APPLE-RADIUS=500;X-TITLE=111 High St.:geo:-71.1135305,42.4197198
END:VEVENT
END:VCALENDAR