BEGIN:VCALENDAR
VERSION:2.0
PRODID:-//CACHE in Medford - ECPv6.15.18//NONSGML v1.0//EN
CALSCALE:GREGORIAN
METHOD:PUBLISH
X-WR-CALNAME:CACHE in Medford
X-ORIGINAL-URL:https://www.cacheinmedford.org
X-WR-CALDESC:Events for CACHE in Medford
REFRESH-INTERVAL;VALUE=DURATION:PT1H
X-Robots-Tag:noindex
X-PUBLISHED-TTL:PT1H
BEGIN:VTIMEZONE
TZID:America/New_York
BEGIN:DAYLIGHT
TZOFFSETFROM:-0500
TZOFFSETTO:-0400
TZNAME:EDT
DTSTART:20250309T070000
END:DAYLIGHT
BEGIN:STANDARD
TZOFFSETFROM:-0400
TZOFFSETTO:-0500
TZNAME:EST
DTSTART:20251102T060000
END:STANDARD
BEGIN:DAYLIGHT
TZOFFSETFROM:-0500
TZOFFSETTO:-0400
TZNAME:EDT
DTSTART:20260308T070000
END:DAYLIGHT
BEGIN:STANDARD
TZOFFSETFROM:-0400
TZOFFSETTO:-0500
TZNAME:EST
DTSTART:20261101T060000
END:STANDARD
BEGIN:DAYLIGHT
TZOFFSETFROM:-0500
TZOFFSETTO:-0400
TZNAME:EDT
DTSTART:20270314T070000
END:DAYLIGHT
BEGIN:STANDARD
TZOFFSETFROM:-0400
TZOFFSETTO:-0500
TZNAME:EST
DTSTART:20271107T060000
END:STANDARD
END:VTIMEZONE
BEGIN:VEVENT
DTSTART;TZID=America/New_York:20260222T080000
DTEND;TZID=America/New_York:20260222T083000
DTSTAMP:20260423T145021
CREATED:20260201T152658Z
LAST-MODIFIED:20260201T152658Z
UID:10044510-1771747200-1771749000@www.cacheinmedford.org
SUMMARY:Wiggles & Jiggles Fitness For Littles (Ages: 6-9 Months)
DESCRIPTION:Join Wiggles & Jiggles at Arts Collaborative Medford for a 6 week session of yoga & movement classes. Come enjoy fitness fun with your little that is filled with story telling\, movement\, music & a little meditation! \nCost: $72 for 6 sessions \nLed By: Tina Watson of Wiggles and Jiggles Fitness For Littles  \nAges: 6-9 months
URL:https://www.cacheinmedford.org/event/wiggles-jiggles-fitness-for-littles-ages-6-9-months/2026-02-22/
LOCATION:Arts Collaborative Medford\, 162 Mystic Ave.\, Medford\, MA\, 02155\, United States
CATEGORIES:Children's Programs
GEO:42.4097679;-71.1046054
X-APPLE-STRUCTURED-LOCATION;VALUE=URI;X-ADDRESS=Arts Collaborative Medford 162 Mystic Ave. Medford MA 02155 United States;X-APPLE-RADIUS=500;X-TITLE=162 Mystic Ave.:geo:-71.1046054,42.4097679
END:VEVENT
BEGIN:VEVENT
DTSTART;TZID=America/New_York:20260222T143000
DTEND;TZID=America/New_York:20260222T173000
DTSTAMP:20260423T145021
CREATED:20260201T152523Z
LAST-MODIFIED:20260201T152523Z
UID:10044509-1771770600-1771781400@www.cacheinmedford.org
SUMMARY:Advanced Cyanotypes
DESCRIPTION:Explore the magic of cyanotypes in this hands-on\, two-part workshop perfect for beginners and creatives of all kinds! One of the first photographic processes ever developed\, cyanotypes (also known as blueprints or sunprints) allow you to create unique prints from natural and/or found objects. Using light-sensitive chemicals\, we will use objects like leaves\, flowers\, lace\, jewelry and more! (supplies will be provided\, but feel free to bring your own)\n\nIn Class 1: Sunday February 22nd\, you’ll learn the basics of the historic sun-printing technique and create your own set of blue-and-white designs on paper and fabric. We’ll discuss other ways to create your own prints at home and how various printing methods can change a finished design. \nIn Class 2: Sunday March 1st\, we’ll take your prints further by introducing toning techniques that shift the cyanotype’s signature blue with tea\, coffee\, red wine\, and more! You’ll also have an opportunity to create larger wearable prints on items brought from home and provided fabric. \nThis workshop is perfect for beginners\, and anyone interested in alternative photographic processes. Leave with a set of unique prints and a deeper appreciation for the beauty of natural light and texture! \nMin/Max Attendees: minimum 4\, maximum 12 \nLed By: Eve Holzman\nPrice: $115 (two day workshop)
URL:https://www.cacheinmedford.org/event/advanced-cyanotypes/
LOCATION:Arts Collaborative Medford\, 162 Mystic Ave.\, Medford\, MA\, 02155\, United States
CATEGORIES:Classes/Workshops
GEO:42.4097679;-71.1046054
X-APPLE-STRUCTURED-LOCATION;VALUE=URI;X-ADDRESS=Arts Collaborative Medford 162 Mystic Ave. Medford MA 02155 United States;X-APPLE-RADIUS=500;X-TITLE=162 Mystic Ave.:geo:-71.1046054,42.4097679
END:VEVENT
BEGIN:VEVENT
DTSTART;TZID=America/New_York:20260222T160000
DTEND;TZID=America/New_York:20260222T190000
DTSTAMP:20260423T145021
CREATED:20260201T155421Z
LAST-MODIFIED:20260201T155421Z
UID:10044527-1771776000-1771786800@www.cacheinmedford.org
SUMMARY:Irish Seasons Fiddle Pete & Friends at Mrs. Murphy’s Pub
DESCRIPTION:No seasons\, no subtitles—just the sound of a packed pub. Fast fiddles\, ringing strings\, boots on the floor\, pints in the air. Some tunes make you stomp\, some make you sing\, and all of them make you stay for one more round.
URL:https://www.cacheinmedford.org/event/irish-seasons-fiddle-pete-friends-at-mrs-murphys-pub-2/
LOCATION:Mrs. Murphy’s Pub\, 25 Salem St.\, Medford\, MA\, 02155\, United States
CATEGORIES:Live Music
GEO:42.4182797;-71.1085281
X-APPLE-STRUCTURED-LOCATION;VALUE=URI;X-ADDRESS=Mrs. Murphy’s Pub 25 Salem St. Medford MA 02155 United States;X-APPLE-RADIUS=500;X-TITLE=25 Salem St.:geo:-71.1085281,42.4182797
END:VEVENT
END:VCALENDAR