BEGIN:VCALENDAR
VERSION:2.0
PRODID:-//CACHE in Medford - ECPv6.15.18//NONSGML v1.0//EN
CALSCALE:GREGORIAN
METHOD:PUBLISH
X-ORIGINAL-URL:https://www.cacheinmedford.org
X-WR-CALDESC:Events for CACHE in Medford
REFRESH-INTERVAL;VALUE=DURATION:PT1H
X-Robots-Tag:noindex
X-PUBLISHED-TTL:PT1H
BEGIN:VTIMEZONE
TZID:America/New_York
BEGIN:DAYLIGHT
TZOFFSETFROM:-0500
TZOFFSETTO:-0400
TZNAME:EDT
DTSTART:20250309T070000
END:DAYLIGHT
BEGIN:STANDARD
TZOFFSETFROM:-0400
TZOFFSETTO:-0500
TZNAME:EST
DTSTART:20251102T060000
END:STANDARD
BEGIN:DAYLIGHT
TZOFFSETFROM:-0500
TZOFFSETTO:-0400
TZNAME:EDT
DTSTART:20260308T070000
END:DAYLIGHT
BEGIN:STANDARD
TZOFFSETFROM:-0400
TZOFFSETTO:-0500
TZNAME:EST
DTSTART:20261101T060000
END:STANDARD
BEGIN:DAYLIGHT
TZOFFSETFROM:-0500
TZOFFSETTO:-0400
TZNAME:EDT
DTSTART:20270314T070000
END:DAYLIGHT
BEGIN:STANDARD
TZOFFSETFROM:-0400
TZOFFSETTO:-0500
TZNAME:EST
DTSTART:20271107T060000
END:STANDARD
END:VTIMEZONE
BEGIN:VEVENT
DTSTART;TZID=America/New_York:20260212T090000
DTEND;TZID=America/New_York:20260212T100000
DTSTAMP:20260421T123451
CREATED:20260125T181811Z
LAST-MODIFIED:20260125T181811Z
UID:10044471-1770886800-1770890400@www.cacheinmedford.org
SUMMARY:Senior Men’s Breakfast and Banter
DESCRIPTION:Join Rafael and Daniel from The Gables at Winchester for a men-only breakfast group featuring conversation\, coffee\, and camaraderie. This month’s topic is Men’s Health. Breakfast included. Reserve your seat by calling 781-396-6010.
URL:https://www.cacheinmedford.org/event/senior-mens-breakfast-and-banter/
LOCATION:Medford Senior Center\, 101 Riverside Ave.\, Medford\, MA\, 02155
CATEGORIES:Senior Programs
GEO:42.4164422;-71.1059052
X-APPLE-STRUCTURED-LOCATION;VALUE=URI;X-ADDRESS=Medford Senior Center 101 Riverside Ave. Medford MA 02155;X-APPLE-RADIUS=500;X-TITLE=101 Riverside Ave.:geo:-71.1059052,42.4164422
END:VEVENT
BEGIN:VEVENT
DTSTART;TZID=America/New_York:20260212T130000
DTEND;TZID=America/New_York:20260212T150000
DTSTAMP:20260421T123451
CREATED:20260126T020244Z
LAST-MODIFIED:20260126T020244Z
UID:10044485-1770901200-1770908400@www.cacheinmedford.org
SUMMARY:Senior 55+ Sound Bath Meditation
DESCRIPTION:Join the Senior Advisory Board for a Sound Bath Meditation for the 55+ community. During this session\, we will participate in an introductory meditation\, relax and immerse ourselves in soothing sounds to relieve stress and improve well-being. \nTables and chairs for all participants will be available\, but participants are welcome (and encouraged) to bring their own pillows\, yoga mats\, and blankets to arrange their seat or set up on the floor for a comfortable meditation in a way that best suits them. Loose and comfortable clothing recommended\, registration required.
URL:https://www.cacheinmedford.org/event/senior-55-sound-bath-meditation/
LOCATION:Medford Public Library\, 111 High St.\, Medford\, MA\, 02155\, United States
CATEGORIES:Senior Programs
GEO:42.4197198;-71.1135305
X-APPLE-STRUCTURED-LOCATION;VALUE=URI;X-ADDRESS=Medford Public Library 111 High St. Medford MA 02155 United States;X-APPLE-RADIUS=500;X-TITLE=111 High St.:geo:-71.1135305,42.4197198
END:VEVENT
BEGIN:VEVENT
DTSTART;TZID=America/New_York:20260212T133000
DTEND;TZID=America/New_York:20260212T143000
DTSTAMP:20260421T123451
CREATED:20250914T171716Z
LAST-MODIFIED:20250914T171716Z
UID:10042334-1770903000-1770906600@www.cacheinmedford.org
SUMMARY:Art for Everyone for Seniors
DESCRIPTION:Get creative with Tom in this free art class on Thursdays at 1:30 PM. Offered in person or via Zoom\, it’s open to all skill levels. Supplies and inspiration provided—just bring your imagination!
URL:https://www.cacheinmedford.org/event/art-for-everyone-for-seniors/2026-02-12/
LOCATION:Medford Senior Center\, 101 Riverside Ave.\, Medford\, MA\, 02155
CATEGORIES:Senior Programs
GEO:42.4164422;-71.1059052
X-APPLE-STRUCTURED-LOCATION;VALUE=URI;X-ADDRESS=Medford Senior Center 101 Riverside Ave. Medford MA 02155;X-APPLE-RADIUS=500;X-TITLE=101 Riverside Ave.:geo:-71.1059052,42.4164422
END:VEVENT
BEGIN:VEVENT
DTSTART;TZID=America/New_York:20260212T190000
DTEND;TZID=America/New_York:20260212T220000
DTSTAMP:20260421T123451
CREATED:20260126T022555Z
LAST-MODIFIED:20260126T022555Z
UID:10044493-1770922800-1770933600@www.cacheinmedford.org
SUMMARY:Marcello Hernández at the Chevalier Theatre
DESCRIPTION:Get ready for a night of sharp comedy with Marcello Hernandez\, one of the breakout stars of Saturday Night Live. Known for his infectious energy\, relatable storytelling\, and outrageous characters\, Hernandez brings his fresh stand-up voice to the Chevalier Theatre stage for a full evening of laughs. \nWhether riffing on everyday life or delivering unforgettable bits\, his stand-up work has earned him attention for being both hilarious and catchy — the kind of comic who turns quick jokes into big laughs. Don’t miss this chance to see one of today’s most exciting voices in comedy live in Medford.
URL:https://www.cacheinmedford.org/event/marcello-hernandez-at-the-chevalier-theatre/
LOCATION:Chevalier Theatre\, 30 Forest St.\, Medford\, MA\, 02155
GEO:42.4196366;-71.1092545
X-APPLE-STRUCTURED-LOCATION;VALUE=URI;X-ADDRESS=Chevalier Theatre 30 Forest St. Medford MA 02155;X-APPLE-RADIUS=500;X-TITLE=30 Forest St.:geo:-71.1092545,42.4196366
END:VEVENT
BEGIN:VEVENT
DTSTART;TZID=America/New_York:20260212T200000
DTEND;TZID=America/New_York:20260212T230000
DTSTAMP:20260421T123451
CREATED:20260201T155003Z
LAST-MODIFIED:20260201T155003Z
UID:10044522-1770926400-1770937200@www.cacheinmedford.org
SUMMARY:Caeltish at Mrs. Murphy’s Pub
DESCRIPTION:A fiddle & guitar duo slinging fast strings\, bold rhythms\, and just enough attitude to keep your pint on beat. Toe-tapping encouraged. Sitting still discouraged.
URL:https://www.cacheinmedford.org/event/caeltish-at-mrs-murphys-pub-3/
LOCATION:Mrs. Murphy’s Pub\, 25 Salem St.\, Medford\, MA\, 02155\, United States
CATEGORIES:Live Music
GEO:42.4182797;-71.1085281
X-APPLE-STRUCTURED-LOCATION;VALUE=URI;X-ADDRESS=Mrs. Murphy’s Pub 25 Salem St. Medford MA 02155 United States;X-APPLE-RADIUS=500;X-TITLE=25 Salem St.:geo:-71.1085281,42.4182797
END:VEVENT
END:VCALENDAR