BEGIN:VCALENDAR
VERSION:2.0
PRODID:-//CACHE in Medford - ECPv6.15.18//NONSGML v1.0//EN
CALSCALE:GREGORIAN
METHOD:PUBLISH
X-WR-CALNAME:CACHE in Medford
X-ORIGINAL-URL:https://www.cacheinmedford.org
X-WR-CALDESC:Events for CACHE in Medford
REFRESH-INTERVAL;VALUE=DURATION:PT1H
X-Robots-Tag:noindex
X-PUBLISHED-TTL:PT1H
BEGIN:VTIMEZONE
TZID:America/New_York
BEGIN:DAYLIGHT
TZOFFSETFROM:-0500
TZOFFSETTO:-0400
TZNAME:EDT
DTSTART:20250309T070000
END:DAYLIGHT
BEGIN:STANDARD
TZOFFSETFROM:-0400
TZOFFSETTO:-0500
TZNAME:EST
DTSTART:20251102T060000
END:STANDARD
BEGIN:DAYLIGHT
TZOFFSETFROM:-0500
TZOFFSETTO:-0400
TZNAME:EDT
DTSTART:20260308T070000
END:DAYLIGHT
BEGIN:STANDARD
TZOFFSETFROM:-0400
TZOFFSETTO:-0500
TZNAME:EST
DTSTART:20261101T060000
END:STANDARD
BEGIN:DAYLIGHT
TZOFFSETFROM:-0500
TZOFFSETTO:-0400
TZNAME:EDT
DTSTART:20270314T070000
END:DAYLIGHT
BEGIN:STANDARD
TZOFFSETFROM:-0400
TZOFFSETTO:-0500
TZNAME:EST
DTSTART:20271107T060000
END:STANDARD
END:VTIMEZONE
BEGIN:VEVENT
DTSTART;TZID=America/New_York:20260211T093000
DTEND;TZID=America/New_York:20260211T120000
DTSTAMP:20260423T094009
CREATED:20260125T180837Z
LAST-MODIFIED:20260125T180837Z
UID:10044096-1770802200-1770811200@www.cacheinmedford.org
SUMMARY:Senior Van Trip: Shopping Trip to Market Basket
DESCRIPTION:Enjoy a convenient shopping trip to Market Basket with round-trip van transportation. Participants will have approximately 1½ hours to shop. Space is limited to 10 people\, with a maximum of four bags per adult. Reserve your seat early! Van departs at 9:30 AM.
URL:https://www.cacheinmedford.org/event/senior-van-trip-shopping-trip-to-market-basket-2/
LOCATION:Medford Senior Center\, 101 Riverside Ave.\, Medford\, MA\, 02155
CATEGORIES:Senior Programs
GEO:42.4164422;-71.1059052
X-APPLE-STRUCTURED-LOCATION;VALUE=URI;X-ADDRESS=Medford Senior Center 101 Riverside Ave. Medford MA 02155;X-APPLE-RADIUS=500;X-TITLE=101 Riverside Ave.:geo:-71.1059052,42.4164422
END:VEVENT
BEGIN:VEVENT
DTSTART;TZID=America/New_York:20260211T094500
DTEND;TZID=America/New_York:20260211T103000
DTSTAMP:20260423T094009
CREATED:20251102T141904Z
LAST-MODIFIED:20251102T150741Z
UID:10043633-1770803100-1770805800@www.cacheinmedford.org
SUMMARY:Music Together® Joyful Music
DESCRIPTION:Each week in Music Together® Mixed-Age Classes at Joyful Music\, babies\, toddlers\, preschoolers\, and the grownups who love them® gather for 45 minutes of fun-filled family music time. Your teacher will lead you and the other families in music activities ranging from lullabies to full-on jam sessions (with child-friendly instruments\, of course!). It’s so much fun you won’t realize how much learning is taking place! \nYou’ll take home the award-winning music used in class\, along with an illustrated songbook and other resources. As you discover new ways to play with music all week long\, you’ll be supporting your child’s music-learning and overall development—even if you don’t think of yourself as a great singer or dancer. \nWhy mixed ages?\nChild development researchers discovered that grouping children of different ages in one class encourages natural\, family-style learning\, so Music Together developed the Mixed-Age Music Class. In this class\, everyone participates at their own levels: babies vocalize\, listen\, and observe; toddlers play and experiment; and preschoolers build confidence as they emerge as classroom leaders. Grownups are happy because everyone can come to class together!
URL:https://www.cacheinmedford.org/event/music-together-joyful-music/2026-02-11/
LOCATION:Arts Collaborative Medford\, 162 Mystic Ave.\, Medford\, MA\, 02155\, United States
CATEGORIES:Children's Programs,Family Programs
ORGANIZER;CN="Mystic Valley Music Together":MAILTO:margit@mysticvalleymusictogether.com
GEO:42.4097679;-71.1046054
X-APPLE-STRUCTURED-LOCATION;VALUE=URI;X-ADDRESS=Arts Collaborative Medford 162 Mystic Ave. Medford MA 02155 United States;X-APPLE-RADIUS=500;X-TITLE=162 Mystic Ave.:geo:-71.1046054,42.4097679
END:VEVENT
BEGIN:VEVENT
DTSTART;TZID=America/New_York:20260211T100000
DTEND;TZID=America/New_York:20260211T110000
DTSTAMP:20260423T094009
CREATED:20250914T172745Z
LAST-MODIFIED:20250914T172745Z
UID:10042609-1770804000-1770807600@www.cacheinmedford.org
SUMMARY:Zumba Gold for Seniors
DESCRIPTION:Join Emily on Wednesdays at 10:00 AM for Zumba Gold\, a low-impact dance fitness class designed for older adults. Cost: $3 per class.
URL:https://www.cacheinmedford.org/event/zumba-gold-for-seniors/2026-02-11/
LOCATION:Medford Senior Center\, 101 Riverside Ave.\, Medford\, MA\, 02155
CATEGORIES:Senior Programs
GEO:42.4164422;-71.1059052
X-APPLE-STRUCTURED-LOCATION;VALUE=URI;X-ADDRESS=Medford Senior Center 101 Riverside Ave. Medford MA 02155;X-APPLE-RADIUS=500;X-TITLE=101 Riverside Ave.:geo:-71.1059052,42.4164422
END:VEVENT
BEGIN:VEVENT
DTSTART;TZID=America/New_York:20260211T130000
DTEND;TZID=America/New_York:20260211T150000
DTSTAMP:20260423T094009
CREATED:20250921T164512Z
LAST-MODIFIED:20250921T164512Z
UID:10043326-1770814800-1770822000@www.cacheinmedford.org
SUMMARY:Senior Movie Viewing
DESCRIPTION:Enjoy a weekly film in the Senior Center library — relax\, socialize\, and unwind.
URL:https://www.cacheinmedford.org/event/senior-movie-viewing/2026-02-11/
LOCATION:Medford Senior Center\, 101 Riverside Ave.\, Medford\, MA\, 02155
GEO:42.4164422;-71.1059052
X-APPLE-STRUCTURED-LOCATION;VALUE=URI;X-ADDRESS=Medford Senior Center 101 Riverside Ave. Medford MA 02155;X-APPLE-RADIUS=500;X-TITLE=101 Riverside Ave.:geo:-71.1059052,42.4164422
END:VEVENT
BEGIN:VEVENT
DTSTART;TZID=America/New_York:20260211T150000
DTEND;TZID=America/New_York:20260211T160000
DTSTAMP:20260423T094009
CREATED:20250623T172646Z
LAST-MODIFIED:20250623T172646Z
UID:10041053-1770822000-1770825600@www.cacheinmedford.org
SUMMARY:Family Story Time at the Medford Public Library
DESCRIPTION:This story hour at the Medford Public Library is for children between the ages of 3-7. We will explore new concepts with books and songs. Parents and caregivers are welcome to join in! Story Time ends with a short craft or activity. \nDuring Family Story Time\, grown-ups are expected to remain in the room and keep an eye on the child(ren) they’re accompanying and are encouraged to engage fully in singing and movement activities. During the craft period\, grown-ups should plan to assist their kid(s) as needed. Family Story Time can sometimes be crowded and loud; depending on the craft\, it can also get a little messy. \nNo registration required.
URL:https://www.cacheinmedford.org/event/family-story-time-at-the-medford-public-library-3/2026-02-11/
LOCATION:Medford Public Library\, 111 High St.\, Medford\, MA\, 02155\, United States
CATEGORIES:Children's Programs,Family Programs
GEO:42.4197198;-71.1135305
X-APPLE-STRUCTURED-LOCATION;VALUE=URI;X-ADDRESS=Medford Public Library 111 High St. Medford MA 02155 United States;X-APPLE-RADIUS=500;X-TITLE=111 High St.:geo:-71.1135305,42.4197198
END:VEVENT
BEGIN:VEVENT
DTSTART;TZID=America/New_York:20260211T180000
DTEND;TZID=America/New_York:20260211T210000
DTSTAMP:20260423T094009
CREATED:20260126T025258Z
LAST-MODIFIED:20260126T025258Z
UID:10044502-1770832800-1770843600@www.cacheinmedford.org
SUMMARY:The Mahler Sessions: Esa-Pekka Salonen (Former Music Director\, LA Philharmonic & San Francisco Symphony)
DESCRIPTION:The visionary conductor Esa-Pekka Salonen—former music director of Los Angeles Philharmonic and the San Francisco Symphony—joins Tufts students for the next installment of the Mahler Sessions\, a new series of public conversations about the art of interpretation\, featuring some of the leading classical voices of today and tomorrow. \nAbout the Mahler Sessions: \nThe composer Gustav Mahler famously declared that a symphony should be like the world: it must contain everything. But before a musical world can be heard\, it must be performed — and interpreted. How do musicians approach the task of interpretation today\, and how should we as listeners? Please join us for The Mahler Sessions\, an exciting spring series of student-led conversations with leading classical musicians of today and tomorrow\, all of them appearing for the first time on Tufts campus. \n\nCANCELLED Anna Handler (and Mahler’s beginnings) Assistant Conductor\, Boston Symphony Orchestra | January 27 at Noon\nDavid Robertson (and Mahler’s bounty) Former Music Director\, St. Louis Symphony | February 5 at Noon\nEsa-Pekka Salonen (and Mahler’s modernity) Former Music Director\,  LA Philharmonic and San Francisco Symphony | February 11 at 6pm\nThomas Hampson (and Mahler’s voice) Baritone\, distinguished interpreter of Mahler’s vocal music | March 26 at Noon\nAndris Nelsons (and Mahler’s posterity) Music Director\, Boston Symphony Orchestra | April 7 at Noon\n\nFree and open to the community. Each conversation will be introduced with a brief musical performance by Julia Soojin Cavallaro (mezzo-soprano) and Thomas Stumpf (piano). \nSponsored by the Tufts Department of Music and the Office of the President.
URL:https://www.cacheinmedford.org/event/the-mahler-sessions-esa-pekka-salonen-former-music-director-la-philharmonic-san-francisco-symphony/
LOCATION:Granoff Music Center\, Tufts University\, 20 Talbot Ave.\, Medford\, MA\, 02155\, United States
CATEGORIES:Live Music
GEO:42.4044864;-71.1182951
X-APPLE-STRUCTURED-LOCATION;VALUE=URI;X-ADDRESS=Granoff Music Center Tufts University 20 Talbot Ave. Medford MA 02155 United States;X-APPLE-RADIUS=500;X-TITLE=20 Talbot Ave.:geo:-71.1182951,42.4044864
END:VEVENT
BEGIN:VEVENT
DTSTART;TZID=America/New_York:20260211T183000
DTEND;TZID=America/New_York:20260211T203000
DTSTAMP:20260423T094009
CREATED:20260126T020119Z
LAST-MODIFIED:20260126T020130Z
UID:10044484-1770834600-1770841800@www.cacheinmedford.org
SUMMARY:"Memories Flow Beneath It\, From Valley to Quabbin" Screening and Talkback
DESCRIPTION:Local filmmaker Roger Hagopian presents his documentary Memories Flow Beneath It\, From Valley to Quabbin. This powerful 69 minute film traces the displacement of people and the loss of a way of life in the Swift River Valley of central Massachusetts when the Quabbin Reservoir flooded four towns in order to create water infrastructure for 52 Boston metropolitan communities\, including Medford. Several interviewees include former valley residents\, historians\, and authors\, including J.R. Greene\, who has written numerous books on the subject. \nThe ever-westward evolution of the water systems begins with springs on the Shawmut Peninsula of Boston in 1630\, an aqueduct from Jamaica Pond\, and involves the consideration of the Mystic Lakes and Spot Pond\, before resorting to the Cochituate System emanating from Natick\, which became insufficient due to the mass immigration of refugees from the Irish Famine\, thus drastically increasing Boston’s population. The Great Boston Fire of 1872 exposed the limitations of the water supply\, leading to the Sudbury and Wachusett systems. Italian immigrants\, some of whom were stonemasons\, found work on these infrastructure projects as the system expanded further. State House debates\, Supreme Court decisions\, and incredible civil engineering innovations\, led to the creation of the Quabbin Reservoir. Former Valley residents recall their rural industrial and agricultural towns\, family life\, and the years leading up to their expulsion. The cold processes of eminent domain and eviction caused lifelong trauma to the valley residents\, especially the elderly. Generations of history were demolished by 1938 and the people were not given housing and employment assistance by the state – they were on their own. \nExpert commentary is given by noted historian\, the late Howard Zinn. The music track is graciously provided by pianist\, Jacqueline Schwab\, who has performed on numerous Ken Burns PBS documentaries\, beginning with The Civil War through The American Revolution. \nAbout the Filmmaker: Roger Hagopian lives in Lexington\, where he learned filmmaking at the local cable television studio there. A history lover since his youth\, he has had film screenings on the Armenians and the Genocide\, World War II veterans\, factory workers\, and local American history\, including the Middlesex Canal\, which ran through Medford\, at universities\, high schools\, public libraries\, historical societies\, churches\, temples\, community centers\, and other public and private venues. He has also appeared on local cable television stations and radio programs. After the film\, Roger will be present to discuss it with the audience.
URL:https://www.cacheinmedford.org/event/memories-flow-beneath-it-from-valley-to-quabbin-screening-and-talkback/
LOCATION:Medford Public Library\, 111 High St.\, Medford\, MA\, 02155\, United States
CATEGORIES:Film Showings
GEO:42.4197198;-71.1135305
X-APPLE-STRUCTURED-LOCATION;VALUE=URI;X-ADDRESS=Medford Public Library 111 High St. Medford MA 02155 United States;X-APPLE-RADIUS=500;X-TITLE=111 High St.:geo:-71.1135305,42.4197198
END:VEVENT
BEGIN:VEVENT
DTSTART;TZID=America/New_York:20260211T193000
DTEND;TZID=America/New_York:20260211T223000
DTSTAMP:20260423T094009
CREATED:20251222T210506Z
LAST-MODIFIED:20251222T210506Z
UID:10043808-1770838200-1770849000@www.cacheinmedford.org
SUMMARY:Line Dancing
DESCRIPTION:Get ready to double the fun because the Great American Beer Hall is now hosting line dancing nights twice a month due to popular demand! Each high-energy session includes professional lessons to get you moving\, making it the perfect excuse to grab a round of drinks with friends and dance the night away. \n\n\n\n\n\n\nLocation: Great American Beer Hall (142 Mystic Ave\, Medford\, MA) \nWhen: Every other Wednesday starting January 14th\, 7:30 PM -10:30PM \nWhat to Expect: Lessons\, great drinks\, line dancing to popular\, country\, and seasonal songs.
URL:https://www.cacheinmedford.org/event/line-dancing/2026-02-11/
LOCATION:Great American Beer Hall\, 142 Mystic Ave.\, Medford\, MA\, 02155\, United States
CATEGORIES:Other
GEO:42.410454;-71.104875
X-APPLE-STRUCTURED-LOCATION;VALUE=URI;X-ADDRESS=Great American Beer Hall 142 Mystic Ave. Medford MA 02155 United States;X-APPLE-RADIUS=500;X-TITLE=142 Mystic Ave.:geo:-71.104875,42.410454
END:VEVENT
END:VCALENDAR