BEGIN:VCALENDAR
VERSION:2.0
PRODID:-//CACHE in Medford - ECPv6.15.18//NONSGML v1.0//EN
CALSCALE:GREGORIAN
METHOD:PUBLISH
X-WR-CALNAME:CACHE in Medford
X-ORIGINAL-URL:https://www.cacheinmedford.org
X-WR-CALDESC:Events for CACHE in Medford
REFRESH-INTERVAL;VALUE=DURATION:PT1H
X-Robots-Tag:noindex
X-PUBLISHED-TTL:PT1H
BEGIN:VTIMEZONE
TZID:America/New_York
BEGIN:DAYLIGHT
TZOFFSETFROM:-0500
TZOFFSETTO:-0400
TZNAME:EDT
DTSTART:20250309T070000
END:DAYLIGHT
BEGIN:STANDARD
TZOFFSETFROM:-0400
TZOFFSETTO:-0500
TZNAME:EST
DTSTART:20251102T060000
END:STANDARD
BEGIN:DAYLIGHT
TZOFFSETFROM:-0500
TZOFFSETTO:-0400
TZNAME:EDT
DTSTART:20260308T070000
END:DAYLIGHT
BEGIN:STANDARD
TZOFFSETFROM:-0400
TZOFFSETTO:-0500
TZNAME:EST
DTSTART:20261101T060000
END:STANDARD
BEGIN:DAYLIGHT
TZOFFSETFROM:-0500
TZOFFSETTO:-0400
TZNAME:EDT
DTSTART:20270314T070000
END:DAYLIGHT
BEGIN:STANDARD
TZOFFSETFROM:-0400
TZOFFSETTO:-0500
TZNAME:EST
DTSTART:20271107T060000
END:STANDARD
END:VTIMEZONE
BEGIN:VEVENT
DTSTART;TZID=America/New_York:20260207T090000
DTEND;TZID=America/New_York:20260207T110000
DTSTAMP:20260423T081644
CREATED:20250623T175615Z
LAST-MODIFIED:20250623T175615Z
UID:10041318-1770454800-1770462000@www.cacheinmedford.org
SUMMARY:MakerSpace Drop-In
DESCRIPTION:Stop by the Medford Public Library’s MakerSpace and work on your personal projects or ask our in-house expert about how to use the space and equipment. General safety badging is available during this time as well. \nThis program is for adults and teens 16+.
URL:https://www.cacheinmedford.org/event/makerspace-drop-in-3/2026-02-07/
LOCATION:Medford Public Library\, 111 High St.\, Medford\, MA\, 02155\, United States
CATEGORIES:Classes/Workshops
GEO:42.4197198;-71.1135305
X-APPLE-STRUCTURED-LOCATION;VALUE=URI;X-ADDRESS=Medford Public Library 111 High St. Medford MA 02155 United States;X-APPLE-RADIUS=500;X-TITLE=111 High St.:geo:-71.1135305,42.4197198
END:VEVENT
BEGIN:VEVENT
DTSTART;TZID=America/New_York:20260207T100000
DTEND;TZID=America/New_York:20260207T110000
DTSTAMP:20260423T081644
CREATED:20250623T175804Z
LAST-MODIFIED:20250623T175804Z
UID:10041576-1770458400-1770462000@www.cacheinmedford.org
SUMMARY:Family Story Time
DESCRIPTION:This story hour at the Medford Public Library is for children between the ages of 3-7. We will explore new concepts with books and songs. Parents and caregivers are welcome to join in! Story Time ends with a short craft or activity. \nDuring Family Story Time\, grown-ups are expected to remain in the room and keep an eye on the child(ren) they’re accompanying and are encouraged to engage fully in singing and movement activities. During the craft period\, grown-ups should plan to assist their kid(s) as needed. Family Story Time can sometimes be crowded and loud; depending on the craft\, it can also get a little messy. \nNo registration required.
URL:https://www.cacheinmedford.org/event/family-story-time-4/2026-02-07/
LOCATION:Medford Public Library\, 111 High St.\, Medford\, MA\, 02155\, United States
CATEGORIES:Children's Programs,Family Programs
GEO:42.4197198;-71.1135305
X-APPLE-STRUCTURED-LOCATION;VALUE=URI;X-ADDRESS=Medford Public Library 111 High St. Medford MA 02155 United States;X-APPLE-RADIUS=500;X-TITLE=111 High St.:geo:-71.1135305,42.4197198
END:VEVENT
BEGIN:VEVENT
DTSTART;TZID=America/New_York:20260207T120000
DTEND;TZID=America/New_York:20260207T150000
DTSTAMP:20260423T081644
CREATED:20260126T020811Z
LAST-MODIFIED:20260126T020811Z
UID:10044487-1770465600-1770476400@www.cacheinmedford.org
SUMMARY:Cyanotypes Valentines
DESCRIPTION:Celebrate the season of love with a hands-on cyanotype workshop! Learn the entire cyanotype process\, from blank paper to beautifully finished blue prints\, while creating one-of-a-kind Valentine’s prints and cards. One of the earliest photographic techniques\, cyanotypes (also known as blueprints or sunprints) use light-sensitive chemicals and the power of sunlight to produce striking blue images. In this special Valentine’s edition\, you’ll have access to stencils and a variety of natural and found materials to design heartfelt prints\, including lace\, flowers\, jewelry\, and more (including materials you bring from home!). Perfect for beginners\, anyone interested in alternative photography\, or a fun artsy date\, this workshop will leave you with 5–10 unique prints and a creative way to express affection through art! \nLed By: Eve Holzman  \nPrice: $50
URL:https://www.cacheinmedford.org/event/cyanotypes-valentines/
LOCATION:Arts Collaborative Medford\, 162 Mystic Ave.\, Medford\, MA\, 02155\, United States
GEO:42.4097679;-71.1046054
X-APPLE-STRUCTURED-LOCATION;VALUE=URI;X-ADDRESS=Arts Collaborative Medford 162 Mystic Ave. Medford MA 02155 United States;X-APPLE-RADIUS=500;X-TITLE=162 Mystic Ave.:geo:-71.1046054,42.4097679
END:VEVENT
BEGIN:VEVENT
DTSTART;TZID=America/New_York:20260207T150000
DTEND;TZID=America/New_York:20260207T180000
DTSTAMP:20260423T081644
CREATED:20260119T195700Z
LAST-MODIFIED:20260119T195700Z
UID:10044076-1770476400-1770487200@www.cacheinmedford.org
SUMMARY:FMFN Valentine's Family Fest
DESCRIPTION:Celebrate love\, family\, and community at FMFN’s Valentine’s Family Fest\, hosted by Friends of the Medford Family Network! This festive fundraiser supports the Medford Family Network’s programs that strengthen families and promote positive child development. Enjoy a fun-filled afternoon of Valentine’s-themed activities including crafts\, entertainment\, magic\, and more for all ages — a great way for families to connect and make sweet memories together. Ticket options typically include individual and family passes; details and purchase info are available on the FMFN website.
URL:https://www.cacheinmedford.org/event/fmfn-valentines-family-fest/
LOCATION:McGlynn Elementary School\, 3002 Mystic Valley Parkway\, Medford\, MA\, 02155\, United States
CATEGORIES:Family Programs
ORGANIZER;CN="Friends of the Medford Family Network":MAILTO:volunteer@friendsofthemfn.org
GEO:42.4088554;-71.0979678
X-APPLE-STRUCTURED-LOCATION;VALUE=URI;X-ADDRESS=McGlynn Elementary School 3002 Mystic Valley Parkway Medford MA 02155 United States;X-APPLE-RADIUS=500;X-TITLE=3002 Mystic Valley Parkway:geo:-71.0979678,42.4088554
END:VEVENT
BEGIN:VEVENT
DTSTART;TZID=America/New_York:20260207T210000
DTEND;TZID=America/New_York:20260207T230000
DTSTAMP:20260423T081644
CREATED:20260125T184006Z
LAST-MODIFIED:20260125T184006Z
UID:10044482-1770498000-1770505200@www.cacheinmedford.org
SUMMARY:Cosmic Rush – Live at Great American Beer Hall
DESCRIPTION:Catch Cosmic Rush\, a Massachusetts-based rock-funk quartet known for high-energy sets and crowd-driven live shows. With tight musicianship\, strong vocals\, and a sound that pulls from rock\, soul\, and funk\, they bring the kind of momentum that turns a regular night out into a full-on dance-floor situation. Grab a beer\, bring your crew\, and settle in for a lively Saturday night of live music in Medford.
URL:https://www.cacheinmedford.org/event/cosmic-rush-live-at-great-american-beer-hall/
LOCATION:Great American Beer Hall\, 142 Mystic Ave.\, Medford\, MA\, 02155\, United States
CATEGORIES:Live Music
GEO:42.410454;-71.104875
X-APPLE-STRUCTURED-LOCATION;VALUE=URI;X-ADDRESS=Great American Beer Hall 142 Mystic Ave. Medford MA 02155 United States;X-APPLE-RADIUS=500;X-TITLE=142 Mystic Ave.:geo:-71.104875,42.410454
END:VEVENT
END:VCALENDAR