BEGIN:VCALENDAR
VERSION:2.0
PRODID:-//CACHE in Medford - ECPv6.15.18//NONSGML v1.0//EN
CALSCALE:GREGORIAN
METHOD:PUBLISH
X-WR-CALNAME:CACHE in Medford
X-ORIGINAL-URL:https://www.cacheinmedford.org
X-WR-CALDESC:Events for CACHE in Medford
REFRESH-INTERVAL;VALUE=DURATION:PT1H
X-Robots-Tag:noindex
X-PUBLISHED-TTL:PT1H
BEGIN:VTIMEZONE
TZID:America/New_York
BEGIN:DAYLIGHT
TZOFFSETFROM:-0500
TZOFFSETTO:-0400
TZNAME:EDT
DTSTART:20250309T070000
END:DAYLIGHT
BEGIN:STANDARD
TZOFFSETFROM:-0400
TZOFFSETTO:-0500
TZNAME:EST
DTSTART:20251102T060000
END:STANDARD
BEGIN:DAYLIGHT
TZOFFSETFROM:-0500
TZOFFSETTO:-0400
TZNAME:EDT
DTSTART:20260308T070000
END:DAYLIGHT
BEGIN:STANDARD
TZOFFSETFROM:-0400
TZOFFSETTO:-0500
TZNAME:EST
DTSTART:20261101T060000
END:STANDARD
BEGIN:DAYLIGHT
TZOFFSETFROM:-0500
TZOFFSETTO:-0400
TZNAME:EDT
DTSTART:20270314T070000
END:DAYLIGHT
BEGIN:STANDARD
TZOFFSETFROM:-0400
TZOFFSETTO:-0500
TZNAME:EST
DTSTART:20271107T060000
END:STANDARD
END:VTIMEZONE
BEGIN:VEVENT
DTSTART;TZID=America/New_York:20260111T130000
DTEND;TZID=America/New_York:20260111T160000
DTSTAMP:20260423T133030
CREATED:20251229T151155Z
LAST-MODIFIED:20251229T151209Z
UID:10044050-1768136400-1768147200@www.cacheinmedford.org
SUMMARY:The Jam Down By Riverside
DESCRIPTION:The Jam Down By Riverside is a direct descendent of the now defunct Blues Jam at the Porch Southern Fare & Juke Joint\, which was a descendant of the Johnny D’s blues jam. The jam is for building community and building skills. We welcome people of all ages\, abilities\, styles and instruments to join in the jamming. We do not have a strict Blues Only jam rule\, but probably 85% of the repertoire is blues or blues-derived music. Please come to play or listen. \nThe jams are on the Second Sundays of the month from 1 – 4 PM. \nWe’re putting out a special call to teachers and their students to join us and we’re specificly trying to facilitate connections between people with more experience and folks with less experience. \nWhat to expect:\nThe Jam is first come – first served\, meaning you get into the pool to play when you arrive and sign up. There will be 3-4 different groups per hour depending on attendance. More people = shorter sets and more sets\, so more people are able to play. The host will put different bands together based on the abilities and instrumentation available from the attendees. Each group will have a bandleader (often the lead vocalist) who will call songs\, solos\, starts\, breaks and endings. \nThis is a potluck event\, so bring food to share or bring you own eats. We will have beverages for sale for your convenience. \nPlease Do bring your own instrument\, cable\, sticks\, microphone\, and small harp amps.\nPlease Do not bring your own guitar amp and unless you have talked to the host in advance. \nVolunteers will provide the following backline for players: drumkit\, bass rig\, 2 guitar amps\, 2 direct boxes\, microphones\, monitors\, PA system. We are taking donations of various equipment for backline. Please inquire about a donation. In particular we are looking for a small drumset and <15w guitar amps or modeling pedals. \nWe will ask for donations to offset the cost of the event and to show support for our organization.
URL:https://www.cacheinmedford.org/event/the-jam-down-by-riverside-3/
LOCATION:Arts Collaborative Medford\, 162 Mystic Ave.\, Medford\, MA\, 02155\, United States
CATEGORIES:Live Music
ORGANIZER;CN="Down By Riverside":MAILTO:info@downbyriverside.org
GEO:42.4097679;-71.1046054
X-APPLE-STRUCTURED-LOCATION;VALUE=URI;X-ADDRESS=Arts Collaborative Medford 162 Mystic Ave. Medford MA 02155 United States;X-APPLE-RADIUS=500;X-TITLE=162 Mystic Ave.:geo:-71.1046054,42.4097679
END:VEVENT
BEGIN:VEVENT
DTSTART;TZID=America/New_York:20260111T140000
DTEND;TZID=America/New_York:20260111T160000
DTSTAMP:20260423T133030
CREATED:20251229T151327Z
LAST-MODIFIED:20251229T151327Z
UID:10044051-1768140000-1768147200@www.cacheinmedford.org
SUMMARY:Mending Workshop
DESCRIPTION:Have a jacket that needs a patch? Pants that can get back in the rotation with a quick fix? Come out and learn basic mending techniques from knowledgeable sewists. All sewing materials will be provided including hand sewing and sewing machines. Bring in any items you have that need mending or practice on scrap material. We will cover how to repair ripped seams\, repairing tears\, patching worn areas\, hemming and replacing buttons. \nLed By: Mystic Makers Space \n$10 \n$5 Students/Seniors
URL:https://www.cacheinmedford.org/event/mending-workshop/
LOCATION:Arts Collaborative Medford\, 162 Mystic Ave.\, Medford\, MA\, 02155\, United States
CATEGORIES:Classes/Workshops
ORGANIZER;CN="Mystic Makerspace":MAILTO:info@mysticmakerspace.org
GEO:42.4097679;-71.1046054
X-APPLE-STRUCTURED-LOCATION;VALUE=URI;X-ADDRESS=Arts Collaborative Medford 162 Mystic Ave. Medford MA 02155 United States;X-APPLE-RADIUS=500;X-TITLE=162 Mystic Ave.:geo:-71.1046054,42.4097679
END:VEVENT
END:VCALENDAR