BEGIN:VCALENDAR
VERSION:2.0
PRODID:-//CACHE in Medford - ECPv6.15.18//NONSGML v1.0//EN
CALSCALE:GREGORIAN
METHOD:PUBLISH
X-WR-CALNAME:CACHE in Medford
X-ORIGINAL-URL:https://www.cacheinmedford.org
X-WR-CALDESC:Events for CACHE in Medford
REFRESH-INTERVAL;VALUE=DURATION:PT1H
X-Robots-Tag:noindex
X-PUBLISHED-TTL:PT1H
BEGIN:VTIMEZONE
TZID:America/New_York
BEGIN:DAYLIGHT
TZOFFSETFROM:-0500
TZOFFSETTO:-0400
TZNAME:EDT
DTSTART:20250309T070000
END:DAYLIGHT
BEGIN:STANDARD
TZOFFSETFROM:-0400
TZOFFSETTO:-0500
TZNAME:EST
DTSTART:20251102T060000
END:STANDARD
BEGIN:DAYLIGHT
TZOFFSETFROM:-0500
TZOFFSETTO:-0400
TZNAME:EDT
DTSTART:20260308T070000
END:DAYLIGHT
BEGIN:STANDARD
TZOFFSETFROM:-0400
TZOFFSETTO:-0500
TZNAME:EST
DTSTART:20261101T060000
END:STANDARD
BEGIN:DAYLIGHT
TZOFFSETFROM:-0500
TZOFFSETTO:-0400
TZNAME:EDT
DTSTART:20270314T070000
END:DAYLIGHT
BEGIN:STANDARD
TZOFFSETFROM:-0400
TZOFFSETTO:-0500
TZNAME:EST
DTSTART:20271107T060000
END:STANDARD
END:VTIMEZONE
BEGIN:VEVENT
DTSTART;TZID=America/New_York:20260105T100000
DTEND;TZID=America/New_York:20260105T110000
DTSTAMP:20260423T143350
CREATED:20250914T171956Z
LAST-MODIFIED:20250914T171956Z
UID:10042384-1767607200-1767610800@www.cacheinmedford.org
SUMMARY:Gentle Yoga for Seniors
DESCRIPTION:Join Rosa on Mondays at 10:00 AM for gentle yoga designed to increase flexibility\, balance\, and relaxation. Cost: $5 per class.
URL:https://www.cacheinmedford.org/event/gentle-yoga-for-seniors/2026-01-05/
LOCATION:Medford Senior Center\, 101 Riverside Ave.\, Medford\, MA\, 02155
CATEGORIES:Senior Programs
GEO:42.4164422;-71.1059052
X-APPLE-STRUCTURED-LOCATION;VALUE=URI;X-ADDRESS=Medford Senior Center 101 Riverside Ave. Medford MA 02155;X-APPLE-RADIUS=500;X-TITLE=101 Riverside Ave.:geo:-71.1059052,42.4164422
END:VEVENT
BEGIN:VEVENT
DTSTART;TZID=America/New_York:20260105T100000
DTEND;TZID=America/New_York:20260105T110000
DTSTAMP:20260423T143350
CREATED:20250925T201629Z
LAST-MODIFIED:20250925T201629Z
UID:10043439-1767607200-1767610800@www.cacheinmedford.org
SUMMARY:Monday Morning Mysteries
DESCRIPTION:Join The Medford Public Library on the first Monday of each month for this Mystery Book Club. \nNovember: This month\, we will be discussing Eight Perfect Murders by Peter Swanson.
URL:https://www.cacheinmedford.org/event/monday-morning-mysteries/2026-01-05/
LOCATION:Medford Public Library\, 111 High St.\, Medford\, MA\, 02155\, United States
CATEGORIES:Book/Poetry Readings
GEO:42.4197198;-71.1135305
X-APPLE-STRUCTURED-LOCATION;VALUE=URI;X-ADDRESS=Medford Public Library 111 High St. Medford MA 02155 United States;X-APPLE-RADIUS=500;X-TITLE=111 High St.:geo:-71.1135305,42.4197198
END:VEVENT
BEGIN:VEVENT
DTSTART;TZID=America/New_York:20260105T103000
DTEND;TZID=America/New_York:20260105T113000
DTSTAMP:20260423T143350
CREATED:20250921T164049Z
LAST-MODIFIED:20250921T164209Z
UID:10043297-1767609000-1767612600@www.cacheinmedford.org
SUMMARY:Poetry for Seniors
DESCRIPTION:Join Robert Castagna on the first and third Mondays at 10:30 AM for a journey into poetry. Read\, reflect\, and share in a relaxed environment that welcomes all levels of interest in the written word.
URL:https://www.cacheinmedford.org/event/poetry-for-seniors-copy-2/2026-01-05/
LOCATION:Medford Senior Center\, 101 Riverside Ave.\, Medford\, MA\, 02155
CATEGORIES:Senior Programs
GEO:42.4164422;-71.1059052
X-APPLE-STRUCTURED-LOCATION;VALUE=URI;X-ADDRESS=Medford Senior Center 101 Riverside Ave. Medford MA 02155;X-APPLE-RADIUS=500;X-TITLE=101 Riverside Ave.:geo:-71.1059052,42.4164422
END:VEVENT
BEGIN:VEVENT
DTSTART;TZID=America/New_York:20260105T110000
DTEND;TZID=America/New_York:20260105T120000
DTSTAMP:20260423T143350
CREATED:20250914T172122Z
LAST-MODIFIED:20250914T172122Z
UID:10042439-1767610800-1767614400@www.cacheinmedford.org
SUMMARY:Chair Yoga for Seniors
DESCRIPTION:Accessible yoga led by Rosa every Monday at 11:00 AM. Stretch\, strengthen\, and relax—perfect for all abilities. Cost: $3 per class.
URL:https://www.cacheinmedford.org/event/chair-yoga-for-seniors/2026-01-05/
LOCATION:Medford Senior Center\, 101 Riverside Ave.\, Medford\, MA\, 02155
CATEGORIES:Senior Programs
GEO:42.4164422;-71.1059052
X-APPLE-STRUCTURED-LOCATION;VALUE=URI;X-ADDRESS=Medford Senior Center 101 Riverside Ave. Medford MA 02155;X-APPLE-RADIUS=500;X-TITLE=101 Riverside Ave.:geo:-71.1059052,42.4164422
END:VEVENT
BEGIN:VEVENT
DTSTART;TZID=America/New_York:20260105T124500
DTEND;TZID=America/New_York:20260105T140000
DTSTAMP:20260423T143350
CREATED:20250914T172324Z
LAST-MODIFIED:20250914T172324Z
UID:10042494-1767617100-1767621600@www.cacheinmedford.org
SUMMARY:Country Line Dancing for Seniors
DESCRIPTION:Step\, shuffle\, and turn to the music on Mondays at 12:45 PM with Julie Kaufmann. A lively class for exercise\, rhythm\, and fun. Cost: $3 per class.
URL:https://www.cacheinmedford.org/event/country-line-dancing-for-seniors-2/2026-01-05/
LOCATION:Medford Senior Center\, 101 Riverside Ave.\, Medford\, MA\, 02155
CATEGORIES:Senior Programs
GEO:42.4164422;-71.1059052
X-APPLE-STRUCTURED-LOCATION;VALUE=URI;X-ADDRESS=Medford Senior Center 101 Riverside Ave. Medford MA 02155;X-APPLE-RADIUS=500;X-TITLE=101 Riverside Ave.:geo:-71.1059052,42.4164422
END:VEVENT
BEGIN:VEVENT
DTSTART;TZID=America/New_York:20260105T140000
DTEND;TZID=America/New_York:20260105T150000
DTSTAMP:20260423T143350
CREATED:20250914T172540Z
LAST-MODIFIED:20250914T172619Z
UID:10042549-1767621600-1767625200@www.cacheinmedford.org
SUMMARY:Latin Dance Class for Seniors
DESCRIPTION:Get moving with Judit on Mondays at 2:00 PM in this fun and free Latin dance session. No partner required—just bring your energy!
URL:https://www.cacheinmedford.org/event/latin-dance-class-for-seniors-2/2026-01-05/
LOCATION:Medford Senior Center\, 101 Riverside Ave.\, Medford\, MA\, 02155
CATEGORIES:Senior Programs
GEO:42.4164422;-71.1059052
X-APPLE-STRUCTURED-LOCATION;VALUE=URI;X-ADDRESS=Medford Senior Center 101 Riverside Ave. Medford MA 02155;X-APPLE-RADIUS=500;X-TITLE=101 Riverside Ave.:geo:-71.1059052,42.4164422
END:VEVENT
BEGIN:VEVENT
DTSTART;TZID=America/New_York:20260105T153000
DTEND;TZID=America/New_York:20260105T163000
DTSTAMP:20260423T143350
CREATED:20251229T191954Z
LAST-MODIFIED:20251229T191954Z
UID:10044071-1767627000-1767630600@www.cacheinmedford.org
SUMMARY:Bling Out Boxes (Ages 8-12)
DESCRIPTION:Come and bling out a box to store your treasures in! All supplies will be provided by the library. \nThis program is for ages 8-12\, and registration is required. Registration will begin on December 1. \nDuring this program\, children are encouraged to engage fully with the craft and try it out\, even if they think it might be too hard. This program may get loud because of conversation in the room. \nQuestions? Email Tamar at tsiegel@minlib.net.
URL:https://www.cacheinmedford.org/event/bling-out-boxes-ages-8-12/
LOCATION:Medford Public Library\, 111 High St.\, Medford\, MA\, 02155\, United States
CATEGORIES:Children's Programs
GEO:42.4197198;-71.1135305
X-APPLE-STRUCTURED-LOCATION;VALUE=URI;X-ADDRESS=Medford Public Library 111 High St. Medford MA 02155 United States;X-APPLE-RADIUS=500;X-TITLE=111 High St.:geo:-71.1135305,42.4197198
END:VEVENT
BEGIN:VEVENT
DTSTART;TZID=America/New_York:20260105T180000
DTEND;TZID=America/New_York:20260105T200000
DTSTAMP:20260423T143350
CREATED:20250623T163412Z
LAST-MODIFIED:20250623T163412Z
UID:10040513-1767636000-1767643200@www.cacheinmedford.org
SUMMARY:MakerSpace Drop-In
DESCRIPTION:Stop by the Medford Library’s MakerSpace and work on your personal projects or ask our in-house expert about how to use the space and equipment. General safety badging is available during this time as well. This program is for adults and teens 16+. No registration required.
URL:https://www.cacheinmedford.org/event/makerspace-drop-in/2026-01-05/
LOCATION:Medford Public Library\, 111 High St.\, Medford\, MA\, 02155\, United States
CATEGORIES:Classes/Workshops
ORGANIZER;CN="Friends of the Medford Public Library":MAILTO:friendsofmedfordlibrary@gmail.com
GEO:42.4197198;-71.1135305
X-APPLE-STRUCTURED-LOCATION;VALUE=URI;X-ADDRESS=Medford Public Library 111 High St. Medford MA 02155 United States;X-APPLE-RADIUS=500;X-TITLE=111 High St.:geo:-71.1135305,42.4197198
END:VEVENT
END:VCALENDAR