BEGIN:VCALENDAR
VERSION:2.0
PRODID:-//CACHE in Medford - ECPv6.15.18//NONSGML v1.0//EN
CALSCALE:GREGORIAN
METHOD:PUBLISH
X-WR-CALNAME:CACHE in Medford
X-ORIGINAL-URL:https://www.cacheinmedford.org
X-WR-CALDESC:Events for CACHE in Medford
REFRESH-INTERVAL;VALUE=DURATION:PT1H
X-Robots-Tag:noindex
X-PUBLISHED-TTL:PT1H
BEGIN:VTIMEZONE
TZID:America/New_York
BEGIN:DAYLIGHT
TZOFFSETFROM:-0500
TZOFFSETTO:-0400
TZNAME:EDT
DTSTART:20250309T070000
END:DAYLIGHT
BEGIN:STANDARD
TZOFFSETFROM:-0400
TZOFFSETTO:-0500
TZNAME:EST
DTSTART:20251102T060000
END:STANDARD
BEGIN:DAYLIGHT
TZOFFSETFROM:-0500
TZOFFSETTO:-0400
TZNAME:EDT
DTSTART:20260308T070000
END:DAYLIGHT
BEGIN:STANDARD
TZOFFSETFROM:-0400
TZOFFSETTO:-0500
TZNAME:EST
DTSTART:20261101T060000
END:STANDARD
BEGIN:DAYLIGHT
TZOFFSETFROM:-0500
TZOFFSETTO:-0400
TZNAME:EDT
DTSTART:20270314T070000
END:DAYLIGHT
BEGIN:STANDARD
TZOFFSETFROM:-0400
TZOFFSETTO:-0500
TZNAME:EST
DTSTART:20271107T060000
END:STANDARD
END:VTIMEZONE
BEGIN:VEVENT
DTSTART;TZID=America/New_York:20260104T100000
DTEND;TZID=America/New_York:20260104T120000
DTSTAMP:20260423T160834
CREATED:20251215T184103Z
LAST-MODIFIED:20251215T184103Z
UID:10043802-1767520800-1767528000@www.cacheinmedford.org
SUMMARY:The City of Medford Inauguration 2026
DESCRIPTION:The City of Medford’s 2026 Inauguration is on Sunday\, January 4\, 2026 at 10am in the Medford City Hall Howard Alden Memorial Chambers. The program includes the inauguration of the Mayor\, the City Council\, and the School Committee.
URL:https://www.cacheinmedford.org/event/the-city-of-medford-inauguration-2026/
LOCATION:Medford City Hall\, 85 George P. Hassett Dr.\, Medford\, MA\, 02155
CATEGORIES:Other
GEO:42.4181481;-71.1057922
X-APPLE-STRUCTURED-LOCATION;VALUE=URI;X-ADDRESS=Medford City Hall 85 George P. Hassett Dr. Medford MA 02155;X-APPLE-RADIUS=500;X-TITLE=85 George P. Hassett Dr.:geo:-71.1057922,42.4181481
END:VEVENT
END:VCALENDAR