BEGIN:VCALENDAR
VERSION:2.0
PRODID:-//CACHE in Medford - ECPv6.15.18//NONSGML v1.0//EN
CALSCALE:GREGORIAN
METHOD:PUBLISH
X-WR-CALNAME:CACHE in Medford
X-ORIGINAL-URL:https://www.cacheinmedford.org
X-WR-CALDESC:Events for CACHE in Medford
REFRESH-INTERVAL;VALUE=DURATION:PT1H
X-Robots-Tag:noindex
X-PUBLISHED-TTL:PT1H
BEGIN:VTIMEZONE
TZID:America/New_York
BEGIN:DAYLIGHT
TZOFFSETFROM:-0500
TZOFFSETTO:-0400
TZNAME:EDT
DTSTART:20250309T070000
END:DAYLIGHT
BEGIN:STANDARD
TZOFFSETFROM:-0400
TZOFFSETTO:-0500
TZNAME:EST
DTSTART:20251102T060000
END:STANDARD
BEGIN:DAYLIGHT
TZOFFSETFROM:-0500
TZOFFSETTO:-0400
TZNAME:EDT
DTSTART:20260308T070000
END:DAYLIGHT
BEGIN:STANDARD
TZOFFSETFROM:-0400
TZOFFSETTO:-0500
TZNAME:EST
DTSTART:20261101T060000
END:STANDARD
BEGIN:DAYLIGHT
TZOFFSETFROM:-0500
TZOFFSETTO:-0400
TZNAME:EDT
DTSTART:20270314T070000
END:DAYLIGHT
BEGIN:STANDARD
TZOFFSETFROM:-0400
TZOFFSETTO:-0500
TZNAME:EST
DTSTART:20271107T060000
END:STANDARD
END:VTIMEZONE
BEGIN:VEVENT
DTSTART;TZID=America/New_York:20260102T094500
DTEND;TZID=America/New_York:20260102T113000
DTSTAMP:20260425T081243
CREATED:20250921T165045Z
LAST-MODIFIED:20250921T165200Z
UID:10043377-1767347100-1767353400@www.cacheinmedford.org
SUMMARY:Senior Ceramics at Clay Dreams with Rosemary
DESCRIPTION:Join Rosemary at Clay Dreams in Arlington for ceramics fun. Transportation available; van departs at 9:45 AM. $6 per class + cost of materials.
URL:https://www.cacheinmedford.org/event/senior-ceramics-at-clay-dreams-with-rosemary/2026-01-02/
LOCATION:Medford Senior Center\, 101 Riverside Ave.\, Medford\, MA\, 02155
GEO:42.4164422;-71.1059052
X-APPLE-STRUCTURED-LOCATION;VALUE=URI;X-ADDRESS=Medford Senior Center 101 Riverside Ave. Medford MA 02155;X-APPLE-RADIUS=500;X-TITLE=101 Riverside Ave.:geo:-71.1059052,42.4164422
END:VEVENT
BEGIN:VEVENT
DTSTART;TZID=America/New_York:20260102T153000
DTEND;TZID=America/New_York:20260102T163000
DTSTAMP:20260425T081243
CREATED:20251229T192316Z
LAST-MODIFIED:20251229T192316Z
UID:10044073-1767367800-1767371400@www.cacheinmedford.org
SUMMARY:Build Your Own Snowman Cocoa Kit (For Teens)
DESCRIPTION:This event is for teens entering grades 6 and up. \nFill mason jars with hot cocoa ingredients to build your own hot cocoa snowman! \nSign up is required! Registration for this event will begin on December 1.
URL:https://www.cacheinmedford.org/event/build-your-own-snowman-cocoa-kit-for-teens/
LOCATION:Medford Public Library\, 111 High St.\, Medford\, MA\, 02155\, United States
CATEGORIES:Classes/Workshops
GEO:42.4197198;-71.1135305
X-APPLE-STRUCTURED-LOCATION;VALUE=URI;X-ADDRESS=Medford Public Library 111 High St. Medford MA 02155 United States;X-APPLE-RADIUS=500;X-TITLE=111 High St.:geo:-71.1135305,42.4197198
END:VEVENT
BEGIN:VEVENT
DTSTART;TZID=America/New_York:20260102T160000
DTEND;TZID=America/New_York:20260102T173000
DTSTAMP:20260425T081243
CREATED:20250623T171531Z
LAST-MODIFIED:20250623T171531Z
UID:10040783-1767369600-1767375000@www.cacheinmedford.org
SUMMARY:MakerSpace Drop-In
DESCRIPTION:Stop by the Medford Public Library’s MakerSpace and work on your personal projects or ask our in-house expert about how to use the space and equipment. General safety badging is available during this time as well. \nThis program is for adults and teens 16+. No registration required.
URL:https://www.cacheinmedford.org/event/makerspace-drop-in-2/2026-01-02/
LOCATION:Medford Public Library\, 111 High St.\, Medford\, MA\, 02155\, United States
CATEGORIES:Classes/Workshops
GEO:42.4197198;-71.1135305
X-APPLE-STRUCTURED-LOCATION;VALUE=URI;X-ADDRESS=Medford Public Library 111 High St. Medford MA 02155 United States;X-APPLE-RADIUS=500;X-TITLE=111 High St.:geo:-71.1135305,42.4197198
END:VEVENT
BEGIN:VEVENT
DTSTART;TZID=America/New_York:20260102T220000
DTEND;TZID=America/New_York:20260102T235900
DTSTAMP:20260425T081243
CREATED:20251229T185723Z
LAST-MODIFIED:20251229T185723Z
UID:10044060-1767391200-1767398340@www.cacheinmedford.org
SUMMARY:DJ Lee Mastermind
DESCRIPTION:Kick off the New Year right with DJ Lee Mastermind\, one of New England’s most experienced and dynamic open-format DJs. With over two decades of spinning and MC’ing at weddings\, clubs\, corporate events and private parties across the U.S. and internationally\, Lee knows how to read a room and keep every crowd moving. \nFrom hip-hop to house\, party anthems to global grooves\, his sets are designed to create an energetic\, inclusive dance-floor vibe that keeps the music flowing and the good times going. Whether you’re out for a fun night with friends or looking to make new ones on the floor\, this is one DJ set you won’t want to miss in Medford.
URL:https://www.cacheinmedford.org/event/dj-lee-mastermind/
LOCATION:Great American Beer Hall\, 142 Mystic Ave.\, Medford\, MA\, 02155\, United States
CATEGORIES:Live Music
GEO:42.410454;-71.104875
X-APPLE-STRUCTURED-LOCATION;VALUE=URI;X-ADDRESS=Great American Beer Hall 142 Mystic Ave. Medford MA 02155 United States;X-APPLE-RADIUS=500;X-TITLE=142 Mystic Ave.:geo:-71.104875,42.410454
END:VEVENT
END:VCALENDAR