BEGIN:VCALENDAR
VERSION:2.0
PRODID:-//CACHE in Medford - ECPv6.15.18//NONSGML v1.0//EN
CALSCALE:GREGORIAN
METHOD:PUBLISH
X-ORIGINAL-URL:https://www.cacheinmedford.org
X-WR-CALDESC:Events for CACHE in Medford
REFRESH-INTERVAL;VALUE=DURATION:PT1H
X-Robots-Tag:noindex
X-PUBLISHED-TTL:PT1H
BEGIN:VTIMEZONE
TZID:America/New_York
BEGIN:DAYLIGHT
TZOFFSETFROM:-0500
TZOFFSETTO:-0400
TZNAME:EDT
DTSTART:20240310T070000
END:DAYLIGHT
BEGIN:STANDARD
TZOFFSETFROM:-0400
TZOFFSETTO:-0500
TZNAME:EST
DTSTART:20241103T060000
END:STANDARD
BEGIN:DAYLIGHT
TZOFFSETFROM:-0500
TZOFFSETTO:-0400
TZNAME:EDT
DTSTART:20250309T070000
END:DAYLIGHT
BEGIN:STANDARD
TZOFFSETFROM:-0400
TZOFFSETTO:-0500
TZNAME:EST
DTSTART:20251102T060000
END:STANDARD
BEGIN:DAYLIGHT
TZOFFSETFROM:-0500
TZOFFSETTO:-0400
TZNAME:EDT
DTSTART:20260308T070000
END:DAYLIGHT
BEGIN:STANDARD
TZOFFSETFROM:-0400
TZOFFSETTO:-0500
TZNAME:EST
DTSTART:20261101T060000
END:STANDARD
END:VTIMEZONE
BEGIN:VEVENT
DTSTART;TZID=America/New_York:20251116T100000
DTEND;TZID=America/New_York:20251116T113000
DTSTAMP:20260419T090934
CREATED:20251102T144631Z
LAST-MODIFIED:20251102T144631Z
UID:10043679-1763287200-1763292600@www.cacheinmedford.org
SUMMARY:Soundbath with Hendrik
DESCRIPTION:Hosted by Hendrik of Down By Riverside\nThe event is a Pay-What-You-Can event\, which means the tickets are free\, but we ask each person to donate to help pay for the event if they can. \nCarve out 90 minutes from your Sunday to connect with the community and work on taking care of yourself. Let the sound wash over you and feel the tension unclench. \nWhat’s a Soundbath?\nA soundbath is a performance of sound or music which is intended to relax\, to spiritually heal\, and to create a meditative state. Hendrik will play gong and singing bowls for this program. Often the sounds are long\, deep sustained tones and harmonic resonances that happen higher above droning fundamental tones. The sound serves as a focal point for meditation. Instead of trying to focus on nothing or on the breath\, the participant concentrates on the sound as it changes and develops. \nWhat to Expect:\nPlease bring a yoga mat or meditation cushion with you. Several people have also brought blankets and pillows. You will get the option to sit in a cushioned chair if desired. \nProgram Flow\nThere will be an introductory discussion where participants can check in with the group. Lately this has included discussions about stressors\, anxiety and depression. We will do some breathwork to relax a bit before the actual music. The soundbath will last about 60 minutes. After the bath\, we will also have time to discuss the experience\, check in with our community\, and plan how to support each other.
URL:https://www.cacheinmedford.org/event/soundbath-with-hendrik-2/
LOCATION:Arts Collaborative Medford\, 162 Mystic Ave.\, Medford\, MA\, 02155\, United States
CATEGORIES:Classes/Workshops
ORGANIZER;CN="Down By Riverside":MAILTO:info@downbyriverside.org
GEO:42.4097679;-71.1046054
X-APPLE-STRUCTURED-LOCATION;VALUE=URI;X-ADDRESS=Arts Collaborative Medford 162 Mystic Ave. Medford MA 02155 United States;X-APPLE-RADIUS=500;X-TITLE=162 Mystic Ave.:geo:-71.1046054,42.4097679
END:VEVENT
BEGIN:VEVENT
DTSTART;TZID=America/New_York:20251116T140000
DTEND;TZID=America/New_York:20251116T150000
DTSTAMP:20260419T090935
CREATED:20250908T224219Z
LAST-MODIFIED:20250908T224219Z
UID:10041990-1763301600-1763305200@www.cacheinmedford.org
SUMMARY:Artist Tour of Beverly Semmes: Boulders / Flag / Flip / Kick
DESCRIPTION:Join us to celebrate the closing of Boulders / Flag / Flip / Kick for a tour with the artist\, Beverly Semmes in conversation with Jennie Jieun Lee\, SMFA Professor of the Practice in Ceramics. This walkthrough of the exhibition will highlight the tactility and materiality of her work in ceramics\, textiles\, and painting\, as well as her artistic process over four decades of making. \nRegister and learn more here.
URL:https://www.cacheinmedford.org/event/artist-tour-of-beverly-semmes-boulders-flag-flip-kick/
LOCATION:Aidekman Arts Center\, Tufts University\, 40 Talbot Ave.\, Medford\, 02155\, United States
CATEGORIES:Exhibits
GEO:42.4044944;-71.1191725
X-APPLE-STRUCTURED-LOCATION;VALUE=URI;X-ADDRESS=Aidekman Arts Center Tufts University 40 Talbot Ave. Medford 02155 United States;X-APPLE-RADIUS=500;X-TITLE=40 Talbot Ave.:geo:-71.1191725,42.4044944
END:VEVENT
BEGIN:VEVENT
DTSTART;TZID=America/New_York:20251116T140000
DTEND;TZID=America/New_York:20251116T160000
DTSTAMP:20260419T090935
CREATED:20250930T135719Z
LAST-MODIFIED:20251004T222557Z
UID:10043508-1763301600-1763308800@www.cacheinmedford.org
SUMMARY:Rakish: Live at ACM
DESCRIPTION:Rooted in tradition with an ear toward the future\, contemporary folk duo Rakish embodies earnest musical exploration and demonstrates an infectious playfulness on stage. In their sound together\, it is evident the two friends share an unbridled love for the traditional sounds of Celtic and American music\, and the tight ensemble of a group with years of collaboration under their belt. \nKnown for her toneful and award-winning fiddle playing in the Celtic music world\, Maura Shawn Scanlin grew up in the Appalachian Mountains of North Carolina. Maura is a 2-time U.S. National Scottish Fiddle Champion and a winner of the Glenfiddich Fiddle Competition in Scotland. Her clawhammer banjo playing and songwriting\, also featured in the duo\, hold the regional music of her homeland close. Maura finds her niche combining influences from a widespread musical journey with the sounds she grew up around. \nSteeped in the Irish music communities of Washington D.C. and Baltimore\, MD where he was raised\, acclaimed guitarist Conor Hearn developed a keen interest in literary theory and poetry\, a unique well of material from which he draws unending musical inspiration. A keenly sought-after collaborative guitarist\, Conor performs with many of the most renowned names in Celtic music today. His guitar style combines bass and rhythm for a uniquely powerful and precise sound. \nRakish\, embracing the unconventional connotation of their namesake\, create and perform music with verve. Together they journey through Celtic and Americana styles\, deftly showcasing how to bring forth something new from the deep well of tradition. They are touring their new album across the country throughout the fall of 2024 and into 2025. \n$20 advanced ticket | tickets available at door | $10 tickets for seniors & students\nOpen to the public\nPresented by Ellery Klein in a series of traditional music concerts\nYou can view the Facebook Event here.
URL:https://www.cacheinmedford.org/event/rakish-live-at-acm/
LOCATION:Arts Collaborative Medford\, 162 Mystic Ave.\, Medford\, MA\, 02155\, United States
GEO:42.4097679;-71.1046054
X-APPLE-STRUCTURED-LOCATION;VALUE=URI;X-ADDRESS=Arts Collaborative Medford 162 Mystic Ave. Medford MA 02155 United States;X-APPLE-RADIUS=500;X-TITLE=162 Mystic Ave.:geo:-71.1046054,42.4097679
END:VEVENT
BEGIN:VEVENT
DTSTART;TZID=America/New_York:20251116T140000
DTEND;TZID=America/New_York:20251116T163000
DTSTAMP:20260419T090935
CREATED:20250921T171347Z
LAST-MODIFIED:20250921T171347Z
UID:10043431-1763301600-1763310600@www.cacheinmedford.org
SUMMARY:Natasha\, Pierre & The Great Comet of 1812
DESCRIPTION:Dave Malloy’s Natasha\, Pierre & The Great Comet of 1812 is a groundbreaking musical that brings a fresh\, electrifying twist to a classic story. \nInspired by a dramatic slice of Leo Tolstoy’s War and Peace\, this innovative electropop opera follows the young and passionate Natasha Rostova as she arrives in Moscow\, eagerly awaiting her fiancé’s return from war. But when she falls for the charming and reckless Anatole\, her world is turned upside down. Caught in the middle is Pierre\, a family friend struggling with his own sense of purpose\, who must step in to help Natasha recover from scandal. \nWith its bold storytelling and genre-defying music\, Great Comet has captivated audiences from its early days in New York’s Ars Nova to celebrated runs off-Broadway and on Broadway. \nWritten by Dave Malloy \nDirected by Maurice Emmanuel Parent; Music Directed by Dan Rodriguez \nPerformance Dates \n\nNovember 12\, 7:30pm\nNovember 13-15\, 8pm\nNovember 16\, 2pm
URL:https://www.cacheinmedford.org/event/natasha-pierre-the-great-comet-of-1812/2025-11-16/
LOCATION:Aidekman Arts Center\, Tufts University\, 40 Talbot Ave.\, Medford\, 02155\, United States
CATEGORIES:Theatre Productions
GEO:42.4044944;-71.1191725
X-APPLE-STRUCTURED-LOCATION;VALUE=URI;X-ADDRESS=Aidekman Arts Center Tufts University 40 Talbot Ave. Medford 02155 United States;X-APPLE-RADIUS=500;X-TITLE=40 Talbot Ave.:geo:-71.1191725,42.4044944
END:VEVENT
BEGIN:VEVENT
DTSTART;TZID=America/New_York:20251116T190000
DTEND;TZID=America/New_York:20251116T220000
DTSTAMP:20260419T090935
CREATED:20251109T171818Z
LAST-MODIFIED:20251109T171818Z
UID:10043709-1763319600-1763330400@www.cacheinmedford.org
SUMMARY:Ava Luna at Deep Cuts
DESCRIPTION:Ava Luna – Brooklyn’s adventurous art-soul collective\, blending jagged grooves\, rich harmonies\, and fearless experimentation. \nwith \nTalon 42 – https://www.instagram.com/talon_forever \nNoah Britton – https://noahbritton.bandcamp.com \nDeep Cuts | Medford\, MA \nDoors 7PM | Taproom open at noon\, food served until 9PM \n$20 advance / $25 day of | 18+
URL:https://www.cacheinmedford.org/event/ava-luna-at-deep-cuts/
LOCATION:Deep Cuts Brewery\, 21 Main St.\, Medford\, MA\, 02155\, United States
CATEGORIES:Live Music
ORGANIZER;CN="Deep Cuts Brewery":MAILTO:showlove@deepcuts.rocks
GEO:42.417912;-71.110156
X-APPLE-STRUCTURED-LOCATION;VALUE=URI;X-ADDRESS=Deep Cuts Brewery 21 Main St. Medford MA 02155 United States;X-APPLE-RADIUS=500;X-TITLE=21 Main St.:geo:-71.110156,42.417912
END:VEVENT
END:VCALENDAR